BEGIN:VCALENDAR
VERSION:2.0
PRODID:-//First Baptist Church, Jefferson City, TN - ECPv6.15.20//NONSGML v1.0//EN
CALSCALE:GREGORIAN
METHOD:PUBLISH
X-ORIGINAL-URL:https://www.fbcjeff.org
X-WR-CALDESC:Events for First Baptist Church, Jefferson City, TN
REFRESH-INTERVAL;VALUE=DURATION:PT1H
X-Robots-Tag:noindex
X-PUBLISHED-TTL:PT1H
BEGIN:VTIMEZONE
TZID:America/New_York
BEGIN:DAYLIGHT
TZOFFSETFROM:-0500
TZOFFSETTO:-0400
TZNAME:EDT
DTSTART:20260308T070000
END:DAYLIGHT
BEGIN:STANDARD
TZOFFSETFROM:-0400
TZOFFSETTO:-0500
TZNAME:EST
DTSTART:20261101T060000
END:STANDARD
BEGIN:DAYLIGHT
TZOFFSETFROM:-0500
TZOFFSETTO:-0400
TZNAME:EDT
DTSTART:20270314T070000
END:DAYLIGHT
BEGIN:STANDARD
TZOFFSETFROM:-0400
TZOFFSETTO:-0500
TZNAME:EST
DTSTART:20271107T060000
END:STANDARD
BEGIN:DAYLIGHT
TZOFFSETFROM:-0500
TZOFFSETTO:-0400
TZNAME:EDT
DTSTART:20280312T070000
END:DAYLIGHT
BEGIN:STANDARD
TZOFFSETFROM:-0400
TZOFFSETTO:-0500
TZNAME:EST
DTSTART:20281105T060000
END:STANDARD
END:VTIMEZONE
BEGIN:VEVENT
DTSTART;TZID=America/New_York:20270113T093000
DTEND;TZID=America/New_York:20270113T103000
DTSTAMP:20260421T061921
CREATED:20250717T193407Z
LAST-MODIFIED:20250717T193407Z
UID:10007701-1799832600-1799836200@www.fbcjeff.org
SUMMARY:Community Bible Study
DESCRIPTION:
URL:https://www.fbcjeff.org/calendar/community-bible-study/2027-01-13/
LOCATION:FBC College Room 301\, 1610 Russell Ave\, Jefferson City\, TN\, 37760\, United States
ORGANIZER;CN="FBC Church Office":MAILTO:help@fbcjeff.org
END:VEVENT
BEGIN:VEVENT
DTSTART;TZID=America/New_York:20270113T160000
DTEND;TZID=America/New_York:20270113T170000
DTSTAMP:20260421T061921
CREATED:20250502T132827Z
LAST-MODIFIED:20250502T133817Z
UID:10006092-1799856000-1799859600@www.fbcjeff.org
SUMMARY:Wednesday's Neighbors
DESCRIPTION:Find out more about Wednesday’s Neighbors
URL:https://www.fbcjeff.org/calendar/wednesdays-neighbors/2027-01-13/
LOCATION:FBC Parlor\, 1610 Russell Ave\, Jefferson City\, TN\, 37760\, United States
ORGANIZER;CN="FBC Church Office":MAILTO:help@fbcjeff.org
END:VEVENT
BEGIN:VEVENT
DTSTART;TZID=America/New_York:20270113T174500
DTEND;TZID=America/New_York:20270113T183000
DTSTAMP:20260421T061921
CREATED:20250913T153403Z
LAST-MODIFIED:20251214T140708Z
UID:10009267-1799862300-1799865000@www.fbcjeff.org
SUMMARY:Kids Choir
DESCRIPTION:5:45 PM – 6 PM\nCombined Choir: Age 3 – 5th Grade: Room 103\nChildcare (children under 3): Room 124 \n6 PM – 6:30 PM\nMusic Makers Choir: K-5th Grade\nChildcare: All preschoolers: Room 124*\n* Music Makers stay in Room 103. Preschoolers will be taken to childcare. \n 
URL:https://www.fbcjeff.org/calendar/kids-choir/2027-01-13/
LOCATION:FBC Room 103
CATEGORIES:Kids
ORGANIZER;CN="First Jeff Kids":MAILTO:firstjeffkids@gmail.com
END:VEVENT
BEGIN:VEVENT
DTSTART;TZID=America/New_York:20270113T174500
DTEND;TZID=America/New_York:20270113T183000
DTSTAMP:20260421T061921
CREATED:20250913T153530Z
LAST-MODIFIED:20251214T140900Z
UID:10009528-1799862300-1799865000@www.fbcjeff.org
SUMMARY:Parent Meet-Up
DESCRIPTION:
URL:https://www.fbcjeff.org/calendar/parent-meet-up/2027-01-13/
LOCATION:FBC Media Center\, 1610 Russell Ave\, Jefferson CIty\, TN\, 37760
CATEGORIES:Kids
ORGANIZER;CN="First Jeff Kids":MAILTO:firstjeffkids@gmail.com
END:VEVENT
BEGIN:VEVENT
DTSTART;TZID=America/New_York:20270113T180000
DTEND;TZID=America/New_York:20270113T190000
DTSTAMP:20260421T061921
CREATED:20250717T193539Z
LAST-MODIFIED:20251214T140811Z
UID:10007962-1799863200-1799866800@www.fbcjeff.org
SUMMARY:Common Prayer and Bible Study
DESCRIPTION:
URL:https://www.fbcjeff.org/calendar/common-prayer-and-bible-study/2027-01-13/
LOCATION:FBC Music Suite\, 1610 Russell Ave\, Jefferson City\, TN\, 37760\, United States
ORGANIZER;CN="FBC Church Office":MAILTO:help@fbcjeff.org
END:VEVENT
BEGIN:VEVENT
DTSTART;TZID=America/New_York:20270113T184500
DTEND;TZID=America/New_York:20270113T194500
DTSTAMP:20260421T061921
CREATED:20250717T193648Z
LAST-MODIFIED:20251214T141150Z
UID:10008223-1799865900-1799869500@www.fbcjeff.org
SUMMARY:Worship Ensemble Rehearsal
DESCRIPTION:
URL:https://www.fbcjeff.org/calendar/worship-ensemble-rehearsal/2027-01-13/
LOCATION:FBC Music Suite\, 1610 Russell Ave\, Jefferson City\, TN\, 37760\, United States
END:VEVENT
END:VCALENDAR