BEGIN:VCALENDAR
VERSION:2.0
PRODID:-//First Baptist Church, Jefferson City, TN - ECPv6.15.20//NONSGML v1.0//EN
CALSCALE:GREGORIAN
METHOD:PUBLISH
X-ORIGINAL-URL:https://www.fbcjeff.org
X-WR-CALDESC:Events for First Baptist Church, Jefferson City, TN
REFRESH-INTERVAL;VALUE=DURATION:PT1H
X-Robots-Tag:noindex
X-PUBLISHED-TTL:PT1H
BEGIN:VTIMEZONE
TZID:America/New_York
BEGIN:DAYLIGHT
TZOFFSETFROM:-0500
TZOFFSETTO:-0400
TZNAME:EDT
DTSTART:20270314T070000
END:DAYLIGHT
BEGIN:STANDARD
TZOFFSETFROM:-0400
TZOFFSETTO:-0500
TZNAME:EST
DTSTART:20271107T060000
END:STANDARD
BEGIN:DAYLIGHT
TZOFFSETFROM:-0500
TZOFFSETTO:-0400
TZNAME:EDT
DTSTART:20280312T070000
END:DAYLIGHT
BEGIN:STANDARD
TZOFFSETFROM:-0400
TZOFFSETTO:-0500
TZNAME:EST
DTSTART:20281105T060000
END:STANDARD
BEGIN:DAYLIGHT
TZOFFSETFROM:-0500
TZOFFSETTO:-0400
TZNAME:EDT
DTSTART:20290311T070000
END:DAYLIGHT
BEGIN:STANDARD
TZOFFSETFROM:-0400
TZOFFSETTO:-0500
TZNAME:EST
DTSTART:20291104T060000
END:STANDARD
END:VTIMEZONE
BEGIN:VEVENT
DTSTART;TZID=America/New_York:20280416T104500
DTEND;TZID=America/New_York:20280416T114500
DTSTAMP:20260421T003826
CREATED:20250717T194028Z
LAST-MODIFIED:20250717T194028Z
UID:10008810-1839494700-1839498300@www.fbcjeff.org
SUMMARY:Worship
DESCRIPTION:Join us each week in person or online.
URL:https://www.fbcjeff.org/calendar/worship/2028-04-16/
LOCATION:FBC Sanctuary\, 1610 Russell Ave\, Jefferson City\, TN\, 37760\, United States
ORGANIZER;CN="FBC Church Office":MAILTO:help@fbcjeff.org
END:VEVENT
BEGIN:VEVENT
DTSTART;TZID=America/New_York:20280416T113000
DTEND;TZID=America/New_York:20280416T133000
DTSTAMP:20260421T003826
CREATED:20250712T144936Z
LAST-MODIFIED:20250712T144936Z
UID:10006309-1839497400-1839504600@www.fbcjeff.org
SUMMARY:Church Ministries Meeting
DESCRIPTION:Immediately after worship\, join us for lunch in the fellowship hall\, then our quarterly Church Ministries Meeting.
URL:https://www.fbcjeff.org/calendar/church-ministries-meeting-2/2028-04-16/
LOCATION:FBC Fellowship Hall\, 1610 Russell Ave\, Jefferson City\, TN\, 37760\, United States
ORGANIZER;CN="FBC Church Office":MAILTO:help@fbcjeff.org
END:VEVENT
BEGIN:VEVENT
DTSTART;TZID=America/New_York:20280416T170000
DTEND;TZID=America/New_York:20280416T190000
DTSTAMP:20260421T003826
CREATED:20250717T192603Z
LAST-MODIFIED:20250717T192603Z
UID:10006462-1839517200-1839524400@www.fbcjeff.org
SUMMARY:Youth Gathering
DESCRIPTION:
URL:https://www.fbcjeff.org/calendar/youth-gathering/2028-04-16/
LOCATION:FBC Youth Room 214\, 1610 Russell Ave\, Jefferson City\, TN\, 37760\, United States
CATEGORIES:Youth
ORGANIZER;CN="Chad Hartsock":MAILTO:jchartsock77@gmail.com
END:VEVENT
END:VCALENDAR