BEGIN:VCALENDAR
VERSION:2.0
PRODID:-//First Baptist Church, Jefferson City, TN - ECPv6.15.20//NONSGML v1.0//EN
CALSCALE:GREGORIAN
METHOD:PUBLISH
X-ORIGINAL-URL:https://www.fbcjeff.org
X-WR-CALDESC:Events for First Baptist Church, Jefferson City, TN
REFRESH-INTERVAL;VALUE=DURATION:PT1H
X-Robots-Tag:noindex
X-PUBLISHED-TTL:PT1H
BEGIN:VTIMEZONE
TZID:America/New_York
BEGIN:DAYLIGHT
TZOFFSETFROM:-0500
TZOFFSETTO:-0400
TZNAME:EDT
DTSTART:20270314T070000
END:DAYLIGHT
BEGIN:STANDARD
TZOFFSETFROM:-0400
TZOFFSETTO:-0500
TZNAME:EST
DTSTART:20271107T060000
END:STANDARD
BEGIN:DAYLIGHT
TZOFFSETFROM:-0500
TZOFFSETTO:-0400
TZNAME:EDT
DTSTART:20280312T070000
END:DAYLIGHT
BEGIN:STANDARD
TZOFFSETFROM:-0400
TZOFFSETTO:-0500
TZNAME:EST
DTSTART:20281105T060000
END:STANDARD
BEGIN:DAYLIGHT
TZOFFSETFROM:-0500
TZOFFSETTO:-0400
TZNAME:EDT
DTSTART:20290311T070000
END:DAYLIGHT
BEGIN:STANDARD
TZOFFSETFROM:-0400
TZOFFSETTO:-0500
TZNAME:EST
DTSTART:20291104T060000
END:STANDARD
END:VTIMEZONE
BEGIN:VEVENT
DTSTART;TZID=America/New_York:20280515T170000
DTEND;TZID=America/New_York:20280515T180000
DTSTAMP:20260421T055906
CREATED:20240229T051320Z
LAST-MODIFIED:20240229T051320Z
UID:10003399-1842022800-1842026400@www.fbcjeff.org
SUMMARY:Genealogy Society Meeting
DESCRIPTION:The Jefferson County Genealogy Socitey will meet the third Monday of each month from 5 to 6 pm. \nContact: Rob Beuch\, 865-399-2285 or rbeuch@gmail.com \nThey mailto:rbeuch@gmail.comwill need a projection screen for their meetings; they will bring their own projector and laptop.
URL:https://www.fbcjeff.org/calendar/genealogy-society-meeting/2028-05-15/
LOCATION:FBC Fellowship Hall\, 1610 Russell Ave\, Jefferson City\, TN\, 37760\, United States
ORGANIZER;CN="FBC Church Office":MAILTO:help@fbcjeff.org
END:VEVENT
BEGIN:VEVENT
DTSTART;TZID=America/New_York:20280515T180000
DTEND;TZID=America/New_York:20280515T190000
DTSTAMP:20260421T055906
CREATED:20250717T192938Z
LAST-MODIFIED:20250717T192938Z
UID:10006988-1842026400-1842030000@www.fbcjeff.org
SUMMARY:Cub Scouts
DESCRIPTION:
URL:https://www.fbcjeff.org/calendar/cub-scouts/2028-05-15/
LOCATION:FBC Fellowship Hall\, 1610 Russell Ave\, Jefferson City\, TN\, 37760\, United States
ORGANIZER;CN="FBC Church Office":MAILTO:help@fbcjeff.org
END:VEVENT
BEGIN:VEVENT
DTSTART;TZID=America/New_York:20280515T190000
DTEND;TZID=America/New_York:20280515T200000
DTSTAMP:20260421T055906
CREATED:20250717T193032Z
LAST-MODIFIED:20250717T193032Z
UID:10007249-1842030000-1842033600@www.fbcjeff.org
SUMMARY:Boy Scouts
DESCRIPTION:
URL:https://www.fbcjeff.org/calendar/boy-scouts/2028-05-15/
LOCATION:FBC Fellowship Hall\, 1610 Russell Ave\, Jefferson City\, TN\, 37760\, United States
ORGANIZER;CN="FBC Church Office":MAILTO:help@fbcjeff.org
END:VEVENT
BEGIN:VEVENT
DTSTART;TZID=America/New_York:20280515T193000
DTEND;TZID=America/New_York:20280515T203000
DTSTAMP:20260421T055906
CREATED:20250717T192817Z
LAST-MODIFIED:20250717T192817Z
UID:10006727-1842031800-1842035400@www.fbcjeff.org
SUMMARY:Upper Room Ladies Bible Study
DESCRIPTION:
URL:https://www.fbcjeff.org/calendar/upper-room-ladies-bible-study/2028-05-15/
LOCATION:Zoom
ORGANIZER;CN="FBC Church Office":MAILTO:help@fbcjeff.org
END:VEVENT
END:VCALENDAR