BEGIN:VCALENDAR
VERSION:2.0
PRODID:-//First Baptist Church, Jefferson City, TN - ECPv6.15.20//NONSGML v1.0//EN
CALSCALE:GREGORIAN
METHOD:PUBLISH
X-ORIGINAL-URL:https://www.fbcjeff.org
X-WR-CALDESC:Events for First Baptist Church, Jefferson City, TN
REFRESH-INTERVAL;VALUE=DURATION:PT1H
X-Robots-Tag:noindex
X-PUBLISHED-TTL:PT1H
BEGIN:VTIMEZONE
TZID:America/New_York
BEGIN:DAYLIGHT
TZOFFSETFROM:-0500
TZOFFSETTO:-0400
TZNAME:EDT
DTSTART:20280312T070000
END:DAYLIGHT
BEGIN:STANDARD
TZOFFSETFROM:-0400
TZOFFSETTO:-0500
TZNAME:EST
DTSTART:20281105T060000
END:STANDARD
BEGIN:DAYLIGHT
TZOFFSETFROM:-0500
TZOFFSETTO:-0400
TZNAME:EDT
DTSTART:20290311T070000
END:DAYLIGHT
BEGIN:STANDARD
TZOFFSETFROM:-0400
TZOFFSETTO:-0500
TZNAME:EST
DTSTART:20291104T060000
END:STANDARD
BEGIN:DAYLIGHT
TZOFFSETFROM:-0500
TZOFFSETTO:-0400
TZNAME:EDT
DTSTART:20300310T070000
END:DAYLIGHT
BEGIN:STANDARD
TZOFFSETFROM:-0400
TZOFFSETTO:-0500
TZNAME:EST
DTSTART:20301103T060000
END:STANDARD
END:VTIMEZONE
BEGIN:VEVENT
DTSTART;TZID=America/New_York:20290725T174500
DTEND;TZID=America/New_York:20290725T183000
DTSTAMP:20260420T035409
CREATED:20250913T153403Z
LAST-MODIFIED:20251214T140708Z
UID:10009399-1879695900-1879698600@www.fbcjeff.org
SUMMARY:Kids Choir
DESCRIPTION:5:45 PM – 6 PM\nCombined Choir: Age 3 – 5th Grade: Room 103\nChildcare (children under 3): Room 124 \n6 PM – 6:30 PM\nMusic Makers Choir: K-5th Grade\nChildcare: All preschoolers: Room 124*\n* Music Makers stay in Room 103. Preschoolers will be taken to childcare. \n 
URL:https://www.fbcjeff.org/calendar/kids-choir/2029-07-25/
LOCATION:FBC Room 103
CATEGORIES:Kids
ORGANIZER;CN="First Jeff Kids":MAILTO:firstjeffkids@gmail.com
END:VEVENT
BEGIN:VEVENT
DTSTART;TZID=America/New_York:20290725T174500
DTEND;TZID=America/New_York:20290725T183000
DTSTAMP:20260420T035409
CREATED:20250913T153530Z
LAST-MODIFIED:20251214T140900Z
UID:10009660-1879695900-1879698600@www.fbcjeff.org
SUMMARY:Parent Meet-Up
DESCRIPTION:
URL:https://www.fbcjeff.org/calendar/parent-meet-up/2029-07-25/
LOCATION:FBC Media Center\, 1610 Russell Ave\, Jefferson CIty\, TN\, 37760
CATEGORIES:Kids
ORGANIZER;CN="First Jeff Kids":MAILTO:firstjeffkids@gmail.com
END:VEVENT
BEGIN:VEVENT
DTSTART;TZID=America/New_York:20290801T174500
DTEND;TZID=America/New_York:20290801T183000
DTSTAMP:20260420T035409
CREATED:20250913T153403Z
LAST-MODIFIED:20251214T140708Z
UID:10009400-1880300700-1880303400@www.fbcjeff.org
SUMMARY:Kids Choir
DESCRIPTION:5:45 PM – 6 PM\nCombined Choir: Age 3 – 5th Grade: Room 103\nChildcare (children under 3): Room 124 \n6 PM – 6:30 PM\nMusic Makers Choir: K-5th Grade\nChildcare: All preschoolers: Room 124*\n* Music Makers stay in Room 103. Preschoolers will be taken to childcare. \n 
URL:https://www.fbcjeff.org/calendar/kids-choir/2029-08-01/
LOCATION:FBC Room 103
CATEGORIES:Kids
ORGANIZER;CN="First Jeff Kids":MAILTO:firstjeffkids@gmail.com
END:VEVENT
BEGIN:VEVENT
DTSTART;TZID=America/New_York:20290801T174500
DTEND;TZID=America/New_York:20290801T183000
DTSTAMP:20260420T035409
CREATED:20250913T153530Z
LAST-MODIFIED:20251214T140900Z
UID:10009661-1880300700-1880303400@www.fbcjeff.org
SUMMARY:Parent Meet-Up
DESCRIPTION:
URL:https://www.fbcjeff.org/calendar/parent-meet-up/2029-08-01/
LOCATION:FBC Media Center\, 1610 Russell Ave\, Jefferson CIty\, TN\, 37760
CATEGORIES:Kids
ORGANIZER;CN="First Jeff Kids":MAILTO:firstjeffkids@gmail.com
END:VEVENT
BEGIN:VEVENT
DTSTART;TZID=America/New_York:20290808T174500
DTEND;TZID=America/New_York:20290808T183000
DTSTAMP:20260420T035409
CREATED:20250913T153403Z
LAST-MODIFIED:20251214T140708Z
UID:10009401-1880905500-1880908200@www.fbcjeff.org
SUMMARY:Kids Choir
DESCRIPTION:5:45 PM – 6 PM\nCombined Choir: Age 3 – 5th Grade: Room 103\nChildcare (children under 3): Room 124 \n6 PM – 6:30 PM\nMusic Makers Choir: K-5th Grade\nChildcare: All preschoolers: Room 124*\n* Music Makers stay in Room 103. Preschoolers will be taken to childcare. \n 
URL:https://www.fbcjeff.org/calendar/kids-choir/2029-08-08/
LOCATION:FBC Room 103
CATEGORIES:Kids
ORGANIZER;CN="First Jeff Kids":MAILTO:firstjeffkids@gmail.com
END:VEVENT
BEGIN:VEVENT
DTSTART;TZID=America/New_York:20290808T174500
DTEND;TZID=America/New_York:20290808T183000
DTSTAMP:20260420T035409
CREATED:20250913T153530Z
LAST-MODIFIED:20251214T140900Z
UID:10009662-1880905500-1880908200@www.fbcjeff.org
SUMMARY:Parent Meet-Up
DESCRIPTION:
URL:https://www.fbcjeff.org/calendar/parent-meet-up/2029-08-08/
LOCATION:FBC Media Center\, 1610 Russell Ave\, Jefferson CIty\, TN\, 37760
CATEGORIES:Kids
ORGANIZER;CN="First Jeff Kids":MAILTO:firstjeffkids@gmail.com
END:VEVENT
BEGIN:VEVENT
DTSTART;TZID=America/New_York:20290815T174500
DTEND;TZID=America/New_York:20290815T183000
DTSTAMP:20260420T035409
CREATED:20250913T153403Z
LAST-MODIFIED:20251214T140708Z
UID:10009402-1881510300-1881513000@www.fbcjeff.org
SUMMARY:Kids Choir
DESCRIPTION:5:45 PM – 6 PM\nCombined Choir: Age 3 – 5th Grade: Room 103\nChildcare (children under 3): Room 124 \n6 PM – 6:30 PM\nMusic Makers Choir: K-5th Grade\nChildcare: All preschoolers: Room 124*\n* Music Makers stay in Room 103. Preschoolers will be taken to childcare. \n 
URL:https://www.fbcjeff.org/calendar/kids-choir/2029-08-15/
LOCATION:FBC Room 103
CATEGORIES:Kids
ORGANIZER;CN="First Jeff Kids":MAILTO:firstjeffkids@gmail.com
END:VEVENT
BEGIN:VEVENT
DTSTART;TZID=America/New_York:20290815T174500
DTEND;TZID=America/New_York:20290815T183000
DTSTAMP:20260420T035409
CREATED:20250913T153530Z
LAST-MODIFIED:20251214T140900Z
UID:10009663-1881510300-1881513000@www.fbcjeff.org
SUMMARY:Parent Meet-Up
DESCRIPTION:
URL:https://www.fbcjeff.org/calendar/parent-meet-up/2029-08-15/
LOCATION:FBC Media Center\, 1610 Russell Ave\, Jefferson CIty\, TN\, 37760
CATEGORIES:Kids
ORGANIZER;CN="First Jeff Kids":MAILTO:firstjeffkids@gmail.com
END:VEVENT
BEGIN:VEVENT
DTSTART;TZID=America/New_York:20290822T174500
DTEND;TZID=America/New_York:20290822T183000
DTSTAMP:20260420T035409
CREATED:20250913T153403Z
LAST-MODIFIED:20251214T140708Z
UID:10009403-1882115100-1882117800@www.fbcjeff.org
SUMMARY:Kids Choir
DESCRIPTION:5:45 PM – 6 PM\nCombined Choir: Age 3 – 5th Grade: Room 103\nChildcare (children under 3): Room 124 \n6 PM – 6:30 PM\nMusic Makers Choir: K-5th Grade\nChildcare: All preschoolers: Room 124*\n* Music Makers stay in Room 103. Preschoolers will be taken to childcare. \n 
URL:https://www.fbcjeff.org/calendar/kids-choir/2029-08-22/
LOCATION:FBC Room 103
CATEGORIES:Kids
ORGANIZER;CN="First Jeff Kids":MAILTO:firstjeffkids@gmail.com
END:VEVENT
BEGIN:VEVENT
DTSTART;TZID=America/New_York:20290822T174500
DTEND;TZID=America/New_York:20290822T183000
DTSTAMP:20260420T035409
CREATED:20250913T153530Z
LAST-MODIFIED:20251214T140900Z
UID:10009664-1882115100-1882117800@www.fbcjeff.org
SUMMARY:Parent Meet-Up
DESCRIPTION:
URL:https://www.fbcjeff.org/calendar/parent-meet-up/2029-08-22/
LOCATION:FBC Media Center\, 1610 Russell Ave\, Jefferson CIty\, TN\, 37760
CATEGORIES:Kids
ORGANIZER;CN="First Jeff Kids":MAILTO:firstjeffkids@gmail.com
END:VEVENT
BEGIN:VEVENT
DTSTART;TZID=America/New_York:20290829T174500
DTEND;TZID=America/New_York:20290829T183000
DTSTAMP:20260420T035409
CREATED:20250913T153403Z
LAST-MODIFIED:20251214T140708Z
UID:10009404-1882719900-1882722600@www.fbcjeff.org
SUMMARY:Kids Choir
DESCRIPTION:5:45 PM – 6 PM\nCombined Choir: Age 3 – 5th Grade: Room 103\nChildcare (children under 3): Room 124 \n6 PM – 6:30 PM\nMusic Makers Choir: K-5th Grade\nChildcare: All preschoolers: Room 124*\n* Music Makers stay in Room 103. Preschoolers will be taken to childcare. \n 
URL:https://www.fbcjeff.org/calendar/kids-choir/2029-08-29/
LOCATION:FBC Room 103
CATEGORIES:Kids
ORGANIZER;CN="First Jeff Kids":MAILTO:firstjeffkids@gmail.com
END:VEVENT
BEGIN:VEVENT
DTSTART;TZID=America/New_York:20290829T174500
DTEND;TZID=America/New_York:20290829T183000
DTSTAMP:20260420T035409
CREATED:20250913T153530Z
LAST-MODIFIED:20251214T140900Z
UID:10009665-1882719900-1882722600@www.fbcjeff.org
SUMMARY:Parent Meet-Up
DESCRIPTION:
URL:https://www.fbcjeff.org/calendar/parent-meet-up/2029-08-29/
LOCATION:FBC Media Center\, 1610 Russell Ave\, Jefferson CIty\, TN\, 37760
CATEGORIES:Kids
ORGANIZER;CN="First Jeff Kids":MAILTO:firstjeffkids@gmail.com
END:VEVENT
BEGIN:VEVENT
DTSTART;TZID=America/New_York:20290905T174500
DTEND;TZID=America/New_York:20290905T183000
DTSTAMP:20260420T035409
CREATED:20250913T153403Z
LAST-MODIFIED:20251214T140708Z
UID:10009405-1883324700-1883327400@www.fbcjeff.org
SUMMARY:Kids Choir
DESCRIPTION:5:45 PM – 6 PM\nCombined Choir: Age 3 – 5th Grade: Room 103\nChildcare (children under 3): Room 124 \n6 PM – 6:30 PM\nMusic Makers Choir: K-5th Grade\nChildcare: All preschoolers: Room 124*\n* Music Makers stay in Room 103. Preschoolers will be taken to childcare. \n 
URL:https://www.fbcjeff.org/calendar/kids-choir/2029-09-05/
LOCATION:FBC Room 103
CATEGORIES:Kids
ORGANIZER;CN="First Jeff Kids":MAILTO:firstjeffkids@gmail.com
END:VEVENT
BEGIN:VEVENT
DTSTART;TZID=America/New_York:20290905T174500
DTEND;TZID=America/New_York:20290905T183000
DTSTAMP:20260420T035409
CREATED:20250913T153530Z
LAST-MODIFIED:20251214T140900Z
UID:10009666-1883324700-1883327400@www.fbcjeff.org
SUMMARY:Parent Meet-Up
DESCRIPTION:
URL:https://www.fbcjeff.org/calendar/parent-meet-up/2029-09-05/
LOCATION:FBC Media Center\, 1610 Russell Ave\, Jefferson CIty\, TN\, 37760
CATEGORIES:Kids
ORGANIZER;CN="First Jeff Kids":MAILTO:firstjeffkids@gmail.com
END:VEVENT
BEGIN:VEVENT
DTSTART;TZID=America/New_York:20290912T174500
DTEND;TZID=America/New_York:20290912T183000
DTSTAMP:20260420T035409
CREATED:20250913T153403Z
LAST-MODIFIED:20251214T140708Z
UID:10009406-1883929500-1883932200@www.fbcjeff.org
SUMMARY:Kids Choir
DESCRIPTION:5:45 PM – 6 PM\nCombined Choir: Age 3 – 5th Grade: Room 103\nChildcare (children under 3): Room 124 \n6 PM – 6:30 PM\nMusic Makers Choir: K-5th Grade\nChildcare: All preschoolers: Room 124*\n* Music Makers stay in Room 103. Preschoolers will be taken to childcare. \n 
URL:https://www.fbcjeff.org/calendar/kids-choir/2029-09-12/
LOCATION:FBC Room 103
CATEGORIES:Kids
ORGANIZER;CN="First Jeff Kids":MAILTO:firstjeffkids@gmail.com
END:VEVENT
BEGIN:VEVENT
DTSTART;TZID=America/New_York:20290912T174500
DTEND;TZID=America/New_York:20290912T183000
DTSTAMP:20260420T035409
CREATED:20250913T153530Z
LAST-MODIFIED:20251214T140900Z
UID:10009667-1883929500-1883932200@www.fbcjeff.org
SUMMARY:Parent Meet-Up
DESCRIPTION:
URL:https://www.fbcjeff.org/calendar/parent-meet-up/2029-09-12/
LOCATION:FBC Media Center\, 1610 Russell Ave\, Jefferson CIty\, TN\, 37760
CATEGORIES:Kids
ORGANIZER;CN="First Jeff Kids":MAILTO:firstjeffkids@gmail.com
END:VEVENT
BEGIN:VEVENT
DTSTART;TZID=America/New_York:20290919T174500
DTEND;TZID=America/New_York:20290919T183000
DTSTAMP:20260420T035409
CREATED:20250913T153403Z
LAST-MODIFIED:20251214T140708Z
UID:10009407-1884534300-1884537000@www.fbcjeff.org
SUMMARY:Kids Choir
DESCRIPTION:5:45 PM – 6 PM\nCombined Choir: Age 3 – 5th Grade: Room 103\nChildcare (children under 3): Room 124 \n6 PM – 6:30 PM\nMusic Makers Choir: K-5th Grade\nChildcare: All preschoolers: Room 124*\n* Music Makers stay in Room 103. Preschoolers will be taken to childcare. \n 
URL:https://www.fbcjeff.org/calendar/kids-choir/2029-09-19/
LOCATION:FBC Room 103
CATEGORIES:Kids
ORGANIZER;CN="First Jeff Kids":MAILTO:firstjeffkids@gmail.com
END:VEVENT
BEGIN:VEVENT
DTSTART;TZID=America/New_York:20290919T174500
DTEND;TZID=America/New_York:20290919T183000
DTSTAMP:20260420T035409
CREATED:20250913T153530Z
LAST-MODIFIED:20251214T140900Z
UID:10009668-1884534300-1884537000@www.fbcjeff.org
SUMMARY:Parent Meet-Up
DESCRIPTION:
URL:https://www.fbcjeff.org/calendar/parent-meet-up/2029-09-19/
LOCATION:FBC Media Center\, 1610 Russell Ave\, Jefferson CIty\, TN\, 37760
CATEGORIES:Kids
ORGANIZER;CN="First Jeff Kids":MAILTO:firstjeffkids@gmail.com
END:VEVENT
BEGIN:VEVENT
DTSTART;TZID=America/New_York:20290926T174500
DTEND;TZID=America/New_York:20290926T183000
DTSTAMP:20260420T035409
CREATED:20250913T153403Z
LAST-MODIFIED:20251214T140708Z
UID:10009408-1885139100-1885141800@www.fbcjeff.org
SUMMARY:Kids Choir
DESCRIPTION:5:45 PM – 6 PM\nCombined Choir: Age 3 – 5th Grade: Room 103\nChildcare (children under 3): Room 124 \n6 PM – 6:30 PM\nMusic Makers Choir: K-5th Grade\nChildcare: All preschoolers: Room 124*\n* Music Makers stay in Room 103. Preschoolers will be taken to childcare. \n 
URL:https://www.fbcjeff.org/calendar/kids-choir/2029-09-26/
LOCATION:FBC Room 103
CATEGORIES:Kids
ORGANIZER;CN="First Jeff Kids":MAILTO:firstjeffkids@gmail.com
END:VEVENT
BEGIN:VEVENT
DTSTART;TZID=America/New_York:20290926T174500
DTEND;TZID=America/New_York:20290926T183000
DTSTAMP:20260420T035409
CREATED:20250913T153530Z
LAST-MODIFIED:20251214T140900Z
UID:10009669-1885139100-1885141800@www.fbcjeff.org
SUMMARY:Parent Meet-Up
DESCRIPTION:
URL:https://www.fbcjeff.org/calendar/parent-meet-up/2029-09-26/
LOCATION:FBC Media Center\, 1610 Russell Ave\, Jefferson CIty\, TN\, 37760
CATEGORIES:Kids
ORGANIZER;CN="First Jeff Kids":MAILTO:firstjeffkids@gmail.com
END:VEVENT
BEGIN:VEVENT
DTSTART;TZID=America/New_York:20291003T174500
DTEND;TZID=America/New_York:20291003T183000
DTSTAMP:20260420T035409
CREATED:20250913T153403Z
LAST-MODIFIED:20251214T140708Z
UID:10009409-1885743900-1885746600@www.fbcjeff.org
SUMMARY:Kids Choir
DESCRIPTION:5:45 PM – 6 PM\nCombined Choir: Age 3 – 5th Grade: Room 103\nChildcare (children under 3): Room 124 \n6 PM – 6:30 PM\nMusic Makers Choir: K-5th Grade\nChildcare: All preschoolers: Room 124*\n* Music Makers stay in Room 103. Preschoolers will be taken to childcare. \n 
URL:https://www.fbcjeff.org/calendar/kids-choir/2029-10-03/
LOCATION:FBC Room 103
CATEGORIES:Kids
ORGANIZER;CN="First Jeff Kids":MAILTO:firstjeffkids@gmail.com
END:VEVENT
BEGIN:VEVENT
DTSTART;TZID=America/New_York:20291003T174500
DTEND;TZID=America/New_York:20291003T183000
DTSTAMP:20260420T035409
CREATED:20250913T153530Z
LAST-MODIFIED:20251214T140900Z
UID:10009670-1885743900-1885746600@www.fbcjeff.org
SUMMARY:Parent Meet-Up
DESCRIPTION:
URL:https://www.fbcjeff.org/calendar/parent-meet-up/2029-10-03/
LOCATION:FBC Media Center\, 1610 Russell Ave\, Jefferson CIty\, TN\, 37760
CATEGORIES:Kids
ORGANIZER;CN="First Jeff Kids":MAILTO:firstjeffkids@gmail.com
END:VEVENT
BEGIN:VEVENT
DTSTART;TZID=America/New_York:20291010T174500
DTEND;TZID=America/New_York:20291010T183000
DTSTAMP:20260420T035409
CREATED:20250913T153403Z
LAST-MODIFIED:20251214T140708Z
UID:10009410-1886348700-1886351400@www.fbcjeff.org
SUMMARY:Kids Choir
DESCRIPTION:5:45 PM – 6 PM\nCombined Choir: Age 3 – 5th Grade: Room 103\nChildcare (children under 3): Room 124 \n6 PM – 6:30 PM\nMusic Makers Choir: K-5th Grade\nChildcare: All preschoolers: Room 124*\n* Music Makers stay in Room 103. Preschoolers will be taken to childcare. \n 
URL:https://www.fbcjeff.org/calendar/kids-choir/2029-10-10/
LOCATION:FBC Room 103
CATEGORIES:Kids
ORGANIZER;CN="First Jeff Kids":MAILTO:firstjeffkids@gmail.com
END:VEVENT
BEGIN:VEVENT
DTSTART;TZID=America/New_York:20291010T174500
DTEND;TZID=America/New_York:20291010T183000
DTSTAMP:20260420T035409
CREATED:20250913T153530Z
LAST-MODIFIED:20251214T140900Z
UID:10009671-1886348700-1886351400@www.fbcjeff.org
SUMMARY:Parent Meet-Up
DESCRIPTION:
URL:https://www.fbcjeff.org/calendar/parent-meet-up/2029-10-10/
LOCATION:FBC Media Center\, 1610 Russell Ave\, Jefferson CIty\, TN\, 37760
CATEGORIES:Kids
ORGANIZER;CN="First Jeff Kids":MAILTO:firstjeffkids@gmail.com
END:VEVENT
BEGIN:VEVENT
DTSTART;TZID=America/New_York:20291017T174500
DTEND;TZID=America/New_York:20291017T183000
DTSTAMP:20260420T035409
CREATED:20250913T153403Z
LAST-MODIFIED:20251214T140708Z
UID:10009411-1886953500-1886956200@www.fbcjeff.org
SUMMARY:Kids Choir
DESCRIPTION:5:45 PM – 6 PM\nCombined Choir: Age 3 – 5th Grade: Room 103\nChildcare (children under 3): Room 124 \n6 PM – 6:30 PM\nMusic Makers Choir: K-5th Grade\nChildcare: All preschoolers: Room 124*\n* Music Makers stay in Room 103. Preschoolers will be taken to childcare. \n 
URL:https://www.fbcjeff.org/calendar/kids-choir/2029-10-17/
LOCATION:FBC Room 103
CATEGORIES:Kids
ORGANIZER;CN="First Jeff Kids":MAILTO:firstjeffkids@gmail.com
END:VEVENT
BEGIN:VEVENT
DTSTART;TZID=America/New_York:20291017T174500
DTEND;TZID=America/New_York:20291017T183000
DTSTAMP:20260420T035409
CREATED:20250913T153530Z
LAST-MODIFIED:20251214T140900Z
UID:10009672-1886953500-1886956200@www.fbcjeff.org
SUMMARY:Parent Meet-Up
DESCRIPTION:
URL:https://www.fbcjeff.org/calendar/parent-meet-up/2029-10-17/
LOCATION:FBC Media Center\, 1610 Russell Ave\, Jefferson CIty\, TN\, 37760
CATEGORIES:Kids
ORGANIZER;CN="First Jeff Kids":MAILTO:firstjeffkids@gmail.com
END:VEVENT
BEGIN:VEVENT
DTSTART;TZID=America/New_York:20291024T174500
DTEND;TZID=America/New_York:20291024T183000
DTSTAMP:20260420T035409
CREATED:20250913T153403Z
LAST-MODIFIED:20251214T140708Z
UID:10009412-1887558300-1887561000@www.fbcjeff.org
SUMMARY:Kids Choir
DESCRIPTION:5:45 PM – 6 PM\nCombined Choir: Age 3 – 5th Grade: Room 103\nChildcare (children under 3): Room 124 \n6 PM – 6:30 PM\nMusic Makers Choir: K-5th Grade\nChildcare: All preschoolers: Room 124*\n* Music Makers stay in Room 103. Preschoolers will be taken to childcare. \n 
URL:https://www.fbcjeff.org/calendar/kids-choir/2029-10-24/
LOCATION:FBC Room 103
CATEGORIES:Kids
ORGANIZER;CN="First Jeff Kids":MAILTO:firstjeffkids@gmail.com
END:VEVENT
BEGIN:VEVENT
DTSTART;TZID=America/New_York:20291024T174500
DTEND;TZID=America/New_York:20291024T183000
DTSTAMP:20260420T035409
CREATED:20250913T153530Z
LAST-MODIFIED:20251214T140900Z
UID:10009673-1887558300-1887561000@www.fbcjeff.org
SUMMARY:Parent Meet-Up
DESCRIPTION:
URL:https://www.fbcjeff.org/calendar/parent-meet-up/2029-10-24/
LOCATION:FBC Media Center\, 1610 Russell Ave\, Jefferson CIty\, TN\, 37760
CATEGORIES:Kids
ORGANIZER;CN="First Jeff Kids":MAILTO:firstjeffkids@gmail.com
END:VEVENT
BEGIN:VEVENT
DTSTART;TZID=America/New_York:20291031T174500
DTEND;TZID=America/New_York:20291031T183000
DTSTAMP:20260420T035409
CREATED:20250913T153403Z
LAST-MODIFIED:20251214T140708Z
UID:10009413-1888163100-1888165800@www.fbcjeff.org
SUMMARY:Kids Choir
DESCRIPTION:5:45 PM – 6 PM\nCombined Choir: Age 3 – 5th Grade: Room 103\nChildcare (children under 3): Room 124 \n6 PM – 6:30 PM\nMusic Makers Choir: K-5th Grade\nChildcare: All preschoolers: Room 124*\n* Music Makers stay in Room 103. Preschoolers will be taken to childcare. \n 
URL:https://www.fbcjeff.org/calendar/kids-choir/2029-10-31/
LOCATION:FBC Room 103
CATEGORIES:Kids
ORGANIZER;CN="First Jeff Kids":MAILTO:firstjeffkids@gmail.com
END:VEVENT
BEGIN:VEVENT
DTSTART;TZID=America/New_York:20291031T174500
DTEND;TZID=America/New_York:20291031T183000
DTSTAMP:20260420T035409
CREATED:20250913T153530Z
LAST-MODIFIED:20251214T140900Z
UID:10009674-1888163100-1888165800@www.fbcjeff.org
SUMMARY:Parent Meet-Up
DESCRIPTION:
URL:https://www.fbcjeff.org/calendar/parent-meet-up/2029-10-31/
LOCATION:FBC Media Center\, 1610 Russell Ave\, Jefferson CIty\, TN\, 37760
CATEGORIES:Kids
ORGANIZER;CN="First Jeff Kids":MAILTO:firstjeffkids@gmail.com
END:VEVENT
END:VCALENDAR