BEGIN:VCALENDAR
VERSION:2.0
PRODID:-//First Baptist Church, Jefferson City, TN - ECPv6.15.20//NONSGML v1.0//EN
CALSCALE:GREGORIAN
METHOD:PUBLISH
X-WR-CALNAME:First Baptist Church, Jefferson City, TN
X-ORIGINAL-URL:https://www.fbcjeff.org
X-WR-CALDESC:Events for First Baptist Church, Jefferson City, TN
REFRESH-INTERVAL;VALUE=DURATION:PT1H
X-Robots-Tag:noindex
X-PUBLISHED-TTL:PT1H
BEGIN:VTIMEZONE
TZID:America/New_York
BEGIN:DAYLIGHT
TZOFFSETFROM:-0500
TZOFFSETTO:-0400
TZNAME:EDT
DTSTART:20290311T070000
END:DAYLIGHT
BEGIN:STANDARD
TZOFFSETFROM:-0400
TZOFFSETTO:-0500
TZNAME:EST
DTSTART:20291104T060000
END:STANDARD
BEGIN:DAYLIGHT
TZOFFSETFROM:-0500
TZOFFSETTO:-0400
TZNAME:EDT
DTSTART:20300310T070000
END:DAYLIGHT
BEGIN:STANDARD
TZOFFSETFROM:-0400
TZOFFSETTO:-0500
TZNAME:EST
DTSTART:20301103T060000
END:STANDARD
BEGIN:DAYLIGHT
TZOFFSETFROM:-0500
TZOFFSETTO:-0400
TZNAME:EDT
DTSTART:20310309T070000
END:DAYLIGHT
BEGIN:STANDARD
TZOFFSETFROM:-0400
TZOFFSETTO:-0500
TZNAME:EST
DTSTART:20311102T060000
END:STANDARD
BEGIN:DAYLIGHT
TZOFFSETFROM:-0500
TZOFFSETTO:-0400
TZNAME:EDT
DTSTART:20320314T070000
END:DAYLIGHT
BEGIN:STANDARD
TZOFFSETFROM:-0400
TZOFFSETTO:-0500
TZNAME:EST
DTSTART:20321107T060000
END:STANDARD
END:VTIMEZONE
BEGIN:VEVENT
DTSTART;TZID=America/New_York:20301204T174500
DTEND;TZID=America/New_York:20301204T183000
DTSTAMP:20260420T213807
CREATED:20250913T153530Z
LAST-MODIFIED:20251214T140900Z
UID:10009816-1922636700-1922639400@www.fbcjeff.org
SUMMARY:Parent Meet-Up
DESCRIPTION:
URL:https://www.fbcjeff.org/calendar/parent-meet-up/2030-12-04/
LOCATION:FBC Media Center\, 1610 Russell Ave\, Jefferson CIty\, TN\, 37760
CATEGORIES:Kids
ORGANIZER;CN="First Jeff Kids":MAILTO:firstjeffkids@gmail.com
END:VEVENT
BEGIN:VEVENT
DTSTART;TZID=America/New_York:20301211T174500
DTEND;TZID=America/New_York:20301211T183000
DTSTAMP:20260420T213807
CREATED:20250913T153403Z
LAST-MODIFIED:20251214T140708Z
UID:10009791-1923241500-1923244200@www.fbcjeff.org
SUMMARY:Kids Choir
DESCRIPTION:5:45 PM – 6 PM\nCombined Choir: Age 3 – 5th Grade: Room 103\nChildcare (children under 3): Room 124 \n6 PM – 6:30 PM\nMusic Makers Choir: K-5th Grade\nChildcare: All preschoolers: Room 124*\n* Music Makers stay in Room 103. Preschoolers will be taken to childcare. \n 
URL:https://www.fbcjeff.org/calendar/kids-choir/2030-12-11/
LOCATION:FBC Room 103
CATEGORIES:Kids
ORGANIZER;CN="First Jeff Kids":MAILTO:firstjeffkids@gmail.com
END:VEVENT
BEGIN:VEVENT
DTSTART;TZID=America/New_York:20301211T174500
DTEND;TZID=America/New_York:20301211T183000
DTSTAMP:20260420T213807
CREATED:20250913T153530Z
LAST-MODIFIED:20251214T140900Z
UID:10009817-1923241500-1923244200@www.fbcjeff.org
SUMMARY:Parent Meet-Up
DESCRIPTION:
URL:https://www.fbcjeff.org/calendar/parent-meet-up/2030-12-11/
LOCATION:FBC Media Center\, 1610 Russell Ave\, Jefferson CIty\, TN\, 37760
CATEGORIES:Kids
ORGANIZER;CN="First Jeff Kids":MAILTO:firstjeffkids@gmail.com
END:VEVENT
BEGIN:VEVENT
DTSTART;TZID=America/New_York:20301218T174500
DTEND;TZID=America/New_York:20301218T183000
DTSTAMP:20260420T213807
CREATED:20250913T153403Z
LAST-MODIFIED:20251214T140708Z
UID:10010161-1923846300-1923849000@www.fbcjeff.org
SUMMARY:Kids Choir
DESCRIPTION:5:45 PM – 6 PM\nCombined Choir: Age 3 – 5th Grade: Room 103\nChildcare (children under 3): Room 124 \n6 PM – 6:30 PM\nMusic Makers Choir: K-5th Grade\nChildcare: All preschoolers: Room 124*\n* Music Makers stay in Room 103. Preschoolers will be taken to childcare. \n 
URL:https://www.fbcjeff.org/calendar/kids-choir/2030-12-18/
LOCATION:FBC Room 103
CATEGORIES:Kids
ORGANIZER;CN="First Jeff Kids":MAILTO:firstjeffkids@gmail.com
END:VEVENT
BEGIN:VEVENT
DTSTART;TZID=America/New_York:20301218T174500
DTEND;TZID=America/New_York:20301218T183000
DTSTAMP:20260420T213807
CREATED:20250913T153530Z
LAST-MODIFIED:20251214T140900Z
UID:10010174-1923846300-1923849000@www.fbcjeff.org
SUMMARY:Parent Meet-Up
DESCRIPTION:
URL:https://www.fbcjeff.org/calendar/parent-meet-up/2030-12-18/
LOCATION:FBC Media Center\, 1610 Russell Ave\, Jefferson CIty\, TN\, 37760
CATEGORIES:Kids
ORGANIZER;CN="First Jeff Kids":MAILTO:firstjeffkids@gmail.com
END:VEVENT
BEGIN:VEVENT
DTSTART;TZID=America/New_York:20301225T174500
DTEND;TZID=America/New_York:20301225T183000
DTSTAMP:20260420T213807
CREATED:20250913T153403Z
LAST-MODIFIED:20251214T140708Z
UID:10010162-1924451100-1924453800@www.fbcjeff.org
SUMMARY:Kids Choir
DESCRIPTION:5:45 PM – 6 PM\nCombined Choir: Age 3 – 5th Grade: Room 103\nChildcare (children under 3): Room 124 \n6 PM – 6:30 PM\nMusic Makers Choir: K-5th Grade\nChildcare: All preschoolers: Room 124*\n* Music Makers stay in Room 103. Preschoolers will be taken to childcare. \n 
URL:https://www.fbcjeff.org/calendar/kids-choir/2030-12-25/
LOCATION:FBC Room 103
CATEGORIES:Kids
ORGANIZER;CN="First Jeff Kids":MAILTO:firstjeffkids@gmail.com
END:VEVENT
BEGIN:VEVENT
DTSTART;TZID=America/New_York:20301225T174500
DTEND;TZID=America/New_York:20301225T183000
DTSTAMP:20260420T213807
CREATED:20250913T153530Z
LAST-MODIFIED:20251214T140900Z
UID:10010175-1924451100-1924453800@www.fbcjeff.org
SUMMARY:Parent Meet-Up
DESCRIPTION:
URL:https://www.fbcjeff.org/calendar/parent-meet-up/2030-12-25/
LOCATION:FBC Media Center\, 1610 Russell Ave\, Jefferson CIty\, TN\, 37760
CATEGORIES:Kids
ORGANIZER;CN="First Jeff Kids":MAILTO:firstjeffkids@gmail.com
END:VEVENT
BEGIN:VEVENT
DTSTART;TZID=America/New_York:20310101T174500
DTEND;TZID=America/New_York:20310101T183000
DTSTAMP:20260420T213807
CREATED:20250913T153403Z
LAST-MODIFIED:20251214T140708Z
UID:10010163-1925055900-1925058600@www.fbcjeff.org
SUMMARY:Kids Choir
DESCRIPTION:5:45 PM – 6 PM\nCombined Choir: Age 3 – 5th Grade: Room 103\nChildcare (children under 3): Room 124 \n6 PM – 6:30 PM\nMusic Makers Choir: K-5th Grade\nChildcare: All preschoolers: Room 124*\n* Music Makers stay in Room 103. Preschoolers will be taken to childcare. \n 
URL:https://www.fbcjeff.org/calendar/kids-choir/2031-01-01/
LOCATION:FBC Room 103
CATEGORIES:Kids
ORGANIZER;CN="First Jeff Kids":MAILTO:firstjeffkids@gmail.com
END:VEVENT
BEGIN:VEVENT
DTSTART;TZID=America/New_York:20310101T174500
DTEND;TZID=America/New_York:20310101T183000
DTSTAMP:20260420T213807
CREATED:20250913T153530Z
LAST-MODIFIED:20251214T140900Z
UID:10010176-1925055900-1925058600@www.fbcjeff.org
SUMMARY:Parent Meet-Up
DESCRIPTION:
URL:https://www.fbcjeff.org/calendar/parent-meet-up/2031-01-01/
LOCATION:FBC Media Center\, 1610 Russell Ave\, Jefferson CIty\, TN\, 37760
CATEGORIES:Kids
ORGANIZER;CN="First Jeff Kids":MAILTO:firstjeffkids@gmail.com
END:VEVENT
BEGIN:VEVENT
DTSTART;TZID=America/New_York:20310108T174500
DTEND;TZID=America/New_York:20310108T183000
DTSTAMP:20260420T213807
CREATED:20250913T153403Z
LAST-MODIFIED:20251214T140708Z
UID:10010164-1925660700-1925663400@www.fbcjeff.org
SUMMARY:Kids Choir
DESCRIPTION:5:45 PM – 6 PM\nCombined Choir: Age 3 – 5th Grade: Room 103\nChildcare (children under 3): Room 124 \n6 PM – 6:30 PM\nMusic Makers Choir: K-5th Grade\nChildcare: All preschoolers: Room 124*\n* Music Makers stay in Room 103. Preschoolers will be taken to childcare. \n 
URL:https://www.fbcjeff.org/calendar/kids-choir/2031-01-08/
LOCATION:FBC Room 103
CATEGORIES:Kids
ORGANIZER;CN="First Jeff Kids":MAILTO:firstjeffkids@gmail.com
END:VEVENT
BEGIN:VEVENT
DTSTART;TZID=America/New_York:20310108T174500
DTEND;TZID=America/New_York:20310108T183000
DTSTAMP:20260420T213807
CREATED:20250913T153530Z
LAST-MODIFIED:20251214T140900Z
UID:10010177-1925660700-1925663400@www.fbcjeff.org
SUMMARY:Parent Meet-Up
DESCRIPTION:
URL:https://www.fbcjeff.org/calendar/parent-meet-up/2031-01-08/
LOCATION:FBC Media Center\, 1610 Russell Ave\, Jefferson CIty\, TN\, 37760
CATEGORIES:Kids
ORGANIZER;CN="First Jeff Kids":MAILTO:firstjeffkids@gmail.com
END:VEVENT
BEGIN:VEVENT
DTSTART;TZID=America/New_York:20310115T174500
DTEND;TZID=America/New_York:20310115T183000
DTSTAMP:20260420T213807
CREATED:20250913T153403Z
LAST-MODIFIED:20251214T140708Z
UID:10010165-1926265500-1926268200@www.fbcjeff.org
SUMMARY:Kids Choir
DESCRIPTION:5:45 PM – 6 PM\nCombined Choir: Age 3 – 5th Grade: Room 103\nChildcare (children under 3): Room 124 \n6 PM – 6:30 PM\nMusic Makers Choir: K-5th Grade\nChildcare: All preschoolers: Room 124*\n* Music Makers stay in Room 103. Preschoolers will be taken to childcare. \n 
URL:https://www.fbcjeff.org/calendar/kids-choir/2031-01-15/
LOCATION:FBC Room 103
CATEGORIES:Kids
ORGANIZER;CN="First Jeff Kids":MAILTO:firstjeffkids@gmail.com
END:VEVENT
BEGIN:VEVENT
DTSTART;TZID=America/New_York:20310115T174500
DTEND;TZID=America/New_York:20310115T183000
DTSTAMP:20260420T213807
CREATED:20250913T153530Z
LAST-MODIFIED:20251214T140900Z
UID:10010178-1926265500-1926268200@www.fbcjeff.org
SUMMARY:Parent Meet-Up
DESCRIPTION:
URL:https://www.fbcjeff.org/calendar/parent-meet-up/2031-01-15/
LOCATION:FBC Media Center\, 1610 Russell Ave\, Jefferson CIty\, TN\, 37760
CATEGORIES:Kids
ORGANIZER;CN="First Jeff Kids":MAILTO:firstjeffkids@gmail.com
END:VEVENT
BEGIN:VEVENT
DTSTART;TZID=America/New_York:20310122T174500
DTEND;TZID=America/New_York:20310122T183000
DTSTAMP:20260420T213807
CREATED:20250913T153403Z
LAST-MODIFIED:20251214T140708Z
UID:10010166-1926870300-1926873000@www.fbcjeff.org
SUMMARY:Kids Choir
DESCRIPTION:5:45 PM – 6 PM\nCombined Choir: Age 3 – 5th Grade: Room 103\nChildcare (children under 3): Room 124 \n6 PM – 6:30 PM\nMusic Makers Choir: K-5th Grade\nChildcare: All preschoolers: Room 124*\n* Music Makers stay in Room 103. Preschoolers will be taken to childcare. \n 
URL:https://www.fbcjeff.org/calendar/kids-choir/2031-01-22/
LOCATION:FBC Room 103
CATEGORIES:Kids
ORGANIZER;CN="First Jeff Kids":MAILTO:firstjeffkids@gmail.com
END:VEVENT
BEGIN:VEVENT
DTSTART;TZID=America/New_York:20310122T174500
DTEND;TZID=America/New_York:20310122T183000
DTSTAMP:20260420T213807
CREATED:20250913T153530Z
LAST-MODIFIED:20251214T140900Z
UID:10010179-1926870300-1926873000@www.fbcjeff.org
SUMMARY:Parent Meet-Up
DESCRIPTION:
URL:https://www.fbcjeff.org/calendar/parent-meet-up/2031-01-22/
LOCATION:FBC Media Center\, 1610 Russell Ave\, Jefferson CIty\, TN\, 37760
CATEGORIES:Kids
ORGANIZER;CN="First Jeff Kids":MAILTO:firstjeffkids@gmail.com
END:VEVENT
BEGIN:VEVENT
DTSTART;TZID=America/New_York:20310129T174500
DTEND;TZID=America/New_York:20310129T183000
DTSTAMP:20260420T213807
CREATED:20250913T153403Z
LAST-MODIFIED:20251214T140708Z
UID:10010167-1927475100-1927477800@www.fbcjeff.org
SUMMARY:Kids Choir
DESCRIPTION:5:45 PM – 6 PM\nCombined Choir: Age 3 – 5th Grade: Room 103\nChildcare (children under 3): Room 124 \n6 PM – 6:30 PM\nMusic Makers Choir: K-5th Grade\nChildcare: All preschoolers: Room 124*\n* Music Makers stay in Room 103. Preschoolers will be taken to childcare. \n 
URL:https://www.fbcjeff.org/calendar/kids-choir/2031-01-29/
LOCATION:FBC Room 103
CATEGORIES:Kids
ORGANIZER;CN="First Jeff Kids":MAILTO:firstjeffkids@gmail.com
END:VEVENT
BEGIN:VEVENT
DTSTART;TZID=America/New_York:20310129T174500
DTEND;TZID=America/New_York:20310129T183000
DTSTAMP:20260420T213807
CREATED:20250913T153530Z
LAST-MODIFIED:20251214T140900Z
UID:10010180-1927475100-1927477800@www.fbcjeff.org
SUMMARY:Parent Meet-Up
DESCRIPTION:
URL:https://www.fbcjeff.org/calendar/parent-meet-up/2031-01-29/
LOCATION:FBC Media Center\, 1610 Russell Ave\, Jefferson CIty\, TN\, 37760
CATEGORIES:Kids
ORGANIZER;CN="First Jeff Kids":MAILTO:firstjeffkids@gmail.com
END:VEVENT
BEGIN:VEVENT
DTSTART;TZID=America/New_York:20310205T174500
DTEND;TZID=America/New_York:20310205T183000
DTSTAMP:20260420T213807
CREATED:20250913T153403Z
LAST-MODIFIED:20251214T140708Z
UID:10010168-1928079900-1928082600@www.fbcjeff.org
SUMMARY:Kids Choir
DESCRIPTION:5:45 PM – 6 PM\nCombined Choir: Age 3 – 5th Grade: Room 103\nChildcare (children under 3): Room 124 \n6 PM – 6:30 PM\nMusic Makers Choir: K-5th Grade\nChildcare: All preschoolers: Room 124*\n* Music Makers stay in Room 103. Preschoolers will be taken to childcare. \n 
URL:https://www.fbcjeff.org/calendar/kids-choir/2031-02-05/
LOCATION:FBC Room 103
CATEGORIES:Kids
ORGANIZER;CN="First Jeff Kids":MAILTO:firstjeffkids@gmail.com
END:VEVENT
BEGIN:VEVENT
DTSTART;TZID=America/New_York:20310205T174500
DTEND;TZID=America/New_York:20310205T183000
DTSTAMP:20260420T213807
CREATED:20250913T153530Z
LAST-MODIFIED:20251214T140900Z
UID:10010181-1928079900-1928082600@www.fbcjeff.org
SUMMARY:Parent Meet-Up
DESCRIPTION:
URL:https://www.fbcjeff.org/calendar/parent-meet-up/2031-02-05/
LOCATION:FBC Media Center\, 1610 Russell Ave\, Jefferson CIty\, TN\, 37760
CATEGORIES:Kids
ORGANIZER;CN="First Jeff Kids":MAILTO:firstjeffkids@gmail.com
END:VEVENT
BEGIN:VEVENT
DTSTART;TZID=America/New_York:20310212T174500
DTEND;TZID=America/New_York:20310212T183000
DTSTAMP:20260420T213807
CREATED:20250913T153403Z
LAST-MODIFIED:20251214T140708Z
UID:10010169-1928684700-1928687400@www.fbcjeff.org
SUMMARY:Kids Choir
DESCRIPTION:5:45 PM – 6 PM\nCombined Choir: Age 3 – 5th Grade: Room 103\nChildcare (children under 3): Room 124 \n6 PM – 6:30 PM\nMusic Makers Choir: K-5th Grade\nChildcare: All preschoolers: Room 124*\n* Music Makers stay in Room 103. Preschoolers will be taken to childcare. \n 
URL:https://www.fbcjeff.org/calendar/kids-choir/2031-02-12/
LOCATION:FBC Room 103
CATEGORIES:Kids
ORGANIZER;CN="First Jeff Kids":MAILTO:firstjeffkids@gmail.com
END:VEVENT
BEGIN:VEVENT
DTSTART;TZID=America/New_York:20310212T174500
DTEND;TZID=America/New_York:20310212T183000
DTSTAMP:20260420T213807
CREATED:20250913T153530Z
LAST-MODIFIED:20251214T140900Z
UID:10010182-1928684700-1928687400@www.fbcjeff.org
SUMMARY:Parent Meet-Up
DESCRIPTION:
URL:https://www.fbcjeff.org/calendar/parent-meet-up/2031-02-12/
LOCATION:FBC Media Center\, 1610 Russell Ave\, Jefferson CIty\, TN\, 37760
CATEGORIES:Kids
ORGANIZER;CN="First Jeff Kids":MAILTO:firstjeffkids@gmail.com
END:VEVENT
BEGIN:VEVENT
DTSTART;TZID=America/New_York:20310219T174500
DTEND;TZID=America/New_York:20310219T183000
DTSTAMP:20260420T213807
CREATED:20250913T153403Z
LAST-MODIFIED:20251214T140708Z
UID:10010170-1929289500-1929292200@www.fbcjeff.org
SUMMARY:Kids Choir
DESCRIPTION:5:45 PM – 6 PM\nCombined Choir: Age 3 – 5th Grade: Room 103\nChildcare (children under 3): Room 124 \n6 PM – 6:30 PM\nMusic Makers Choir: K-5th Grade\nChildcare: All preschoolers: Room 124*\n* Music Makers stay in Room 103. Preschoolers will be taken to childcare. \n 
URL:https://www.fbcjeff.org/calendar/kids-choir/2031-02-19/
LOCATION:FBC Room 103
CATEGORIES:Kids
ORGANIZER;CN="First Jeff Kids":MAILTO:firstjeffkids@gmail.com
END:VEVENT
BEGIN:VEVENT
DTSTART;TZID=America/New_York:20310219T174500
DTEND;TZID=America/New_York:20310219T183000
DTSTAMP:20260420T213807
CREATED:20250913T153530Z
LAST-MODIFIED:20251214T140900Z
UID:10010183-1929289500-1929292200@www.fbcjeff.org
SUMMARY:Parent Meet-Up
DESCRIPTION:
URL:https://www.fbcjeff.org/calendar/parent-meet-up/2031-02-19/
LOCATION:FBC Media Center\, 1610 Russell Ave\, Jefferson CIty\, TN\, 37760
CATEGORIES:Kids
ORGANIZER;CN="First Jeff Kids":MAILTO:firstjeffkids@gmail.com
END:VEVENT
BEGIN:VEVENT
DTSTART;TZID=America/New_York:20310226T174500
DTEND;TZID=America/New_York:20310226T183000
DTSTAMP:20260420T213807
CREATED:20250913T153403Z
LAST-MODIFIED:20251214T140708Z
UID:10010171-1929894300-1929897000@www.fbcjeff.org
SUMMARY:Kids Choir
DESCRIPTION:5:45 PM – 6 PM\nCombined Choir: Age 3 – 5th Grade: Room 103\nChildcare (children under 3): Room 124 \n6 PM – 6:30 PM\nMusic Makers Choir: K-5th Grade\nChildcare: All preschoolers: Room 124*\n* Music Makers stay in Room 103. Preschoolers will be taken to childcare. \n 
URL:https://www.fbcjeff.org/calendar/kids-choir/2031-02-26/
LOCATION:FBC Room 103
CATEGORIES:Kids
ORGANIZER;CN="First Jeff Kids":MAILTO:firstjeffkids@gmail.com
END:VEVENT
BEGIN:VEVENT
DTSTART;TZID=America/New_York:20310226T174500
DTEND;TZID=America/New_York:20310226T183000
DTSTAMP:20260420T213807
CREATED:20250913T153530Z
LAST-MODIFIED:20251214T140900Z
UID:10010184-1929894300-1929897000@www.fbcjeff.org
SUMMARY:Parent Meet-Up
DESCRIPTION:
URL:https://www.fbcjeff.org/calendar/parent-meet-up/2031-02-26/
LOCATION:FBC Media Center\, 1610 Russell Ave\, Jefferson CIty\, TN\, 37760
CATEGORIES:Kids
ORGANIZER;CN="First Jeff Kids":MAILTO:firstjeffkids@gmail.com
END:VEVENT
BEGIN:VEVENT
DTSTART;TZID=America/New_York:20310305T174500
DTEND;TZID=America/New_York:20310305T183000
DTSTAMP:20260420T213807
CREATED:20250913T153403Z
LAST-MODIFIED:20251214T140708Z
UID:10010172-1930499100-1930501800@www.fbcjeff.org
SUMMARY:Kids Choir
DESCRIPTION:5:45 PM – 6 PM\nCombined Choir: Age 3 – 5th Grade: Room 103\nChildcare (children under 3): Room 124 \n6 PM – 6:30 PM\nMusic Makers Choir: K-5th Grade\nChildcare: All preschoolers: Room 124*\n* Music Makers stay in Room 103. Preschoolers will be taken to childcare. \n 
URL:https://www.fbcjeff.org/calendar/kids-choir/2031-03-05/
LOCATION:FBC Room 103
CATEGORIES:Kids
ORGANIZER;CN="First Jeff Kids":MAILTO:firstjeffkids@gmail.com
END:VEVENT
BEGIN:VEVENT
DTSTART;TZID=America/New_York:20310305T174500
DTEND;TZID=America/New_York:20310305T183000
DTSTAMP:20260420T213807
CREATED:20250913T153530Z
LAST-MODIFIED:20251214T140900Z
UID:10010185-1930499100-1930501800@www.fbcjeff.org
SUMMARY:Parent Meet-Up
DESCRIPTION:
URL:https://www.fbcjeff.org/calendar/parent-meet-up/2031-03-05/
LOCATION:FBC Media Center\, 1610 Russell Ave\, Jefferson CIty\, TN\, 37760
CATEGORIES:Kids
ORGANIZER;CN="First Jeff Kids":MAILTO:firstjeffkids@gmail.com
END:VEVENT
BEGIN:VEVENT
DTSTART;TZID=America/New_York:20310312T174500
DTEND;TZID=America/New_York:20310312T183000
DTSTAMP:20260420T213807
CREATED:20250913T153403Z
LAST-MODIFIED:20251214T140708Z
UID:10010173-1931103900-1931106600@www.fbcjeff.org
SUMMARY:Kids Choir
DESCRIPTION:5:45 PM – 6 PM\nCombined Choir: Age 3 – 5th Grade: Room 103\nChildcare (children under 3): Room 124 \n6 PM – 6:30 PM\nMusic Makers Choir: K-5th Grade\nChildcare: All preschoolers: Room 124*\n* Music Makers stay in Room 103. Preschoolers will be taken to childcare. \n 
URL:https://www.fbcjeff.org/calendar/kids-choir/2031-03-12/
LOCATION:FBC Room 103
CATEGORIES:Kids
ORGANIZER;CN="First Jeff Kids":MAILTO:firstjeffkids@gmail.com
END:VEVENT
BEGIN:VEVENT
DTSTART;TZID=America/New_York:20310312T174500
DTEND;TZID=America/New_York:20310312T183000
DTSTAMP:20260420T213807
CREATED:20250913T153530Z
LAST-MODIFIED:20251214T140900Z
UID:10010186-1931103900-1931106600@www.fbcjeff.org
SUMMARY:Parent Meet-Up
DESCRIPTION:
URL:https://www.fbcjeff.org/calendar/parent-meet-up/2031-03-12/
LOCATION:FBC Media Center\, 1610 Russell Ave\, Jefferson CIty\, TN\, 37760
CATEGORIES:Kids
ORGANIZER;CN="First Jeff Kids":MAILTO:firstjeffkids@gmail.com
END:VEVENT
BEGIN:VEVENT
DTSTART;TZID=America/New_York:20310319T174500
DTEND;TZID=America/New_York:20310319T183000
DTSTAMP:20260420T213807
CREATED:20250913T153403Z
LAST-MODIFIED:20251214T140708Z
UID:10010200-1931708700-1931711400@www.fbcjeff.org
SUMMARY:Kids Choir
DESCRIPTION:5:45 PM – 6 PM\nCombined Choir: Age 3 – 5th Grade: Room 103\nChildcare (children under 3): Room 124 \n6 PM – 6:30 PM\nMusic Makers Choir: K-5th Grade\nChildcare: All preschoolers: Room 124*\n* Music Makers stay in Room 103. Preschoolers will be taken to childcare. \n 
URL:https://www.fbcjeff.org/calendar/kids-choir/2031-03-19/
LOCATION:FBC Room 103
CATEGORIES:Kids
ORGANIZER;CN="First Jeff Kids":MAILTO:firstjeffkids@gmail.com
END:VEVENT
END:VCALENDAR