BEGIN:VCALENDAR
VERSION:2.0
PRODID:-//First Baptist Church, Jefferson City, TN - ECPv6.15.20//NONSGML v1.0//EN
CALSCALE:GREGORIAN
METHOD:PUBLISH
X-WR-CALNAME:First Baptist Church, Jefferson City, TN
X-ORIGINAL-URL:https://www.fbcjeff.org
X-WR-CALDESC:Events for First Baptist Church, Jefferson City, TN
REFRESH-INTERVAL;VALUE=DURATION:PT1H
X-Robots-Tag:noindex
X-PUBLISHED-TTL:PT1H
BEGIN:VTIMEZONE
TZID:America/New_York
BEGIN:DAYLIGHT
TZOFFSETFROM:-0500
TZOFFSETTO:-0400
TZNAME:EDT
DTSTART:20260308T070000
END:DAYLIGHT
BEGIN:STANDARD
TZOFFSETFROM:-0400
TZOFFSETTO:-0500
TZNAME:EST
DTSTART:20261101T060000
END:STANDARD
BEGIN:DAYLIGHT
TZOFFSETFROM:-0500
TZOFFSETTO:-0400
TZNAME:EDT
DTSTART:20270314T070000
END:DAYLIGHT
BEGIN:STANDARD
TZOFFSETFROM:-0400
TZOFFSETTO:-0500
TZNAME:EST
DTSTART:20271107T060000
END:STANDARD
BEGIN:DAYLIGHT
TZOFFSETFROM:-0500
TZOFFSETTO:-0400
TZNAME:EDT
DTSTART:20280312T070000
END:DAYLIGHT
BEGIN:STANDARD
TZOFFSETFROM:-0400
TZOFFSETTO:-0500
TZNAME:EST
DTSTART:20281105T060000
END:STANDARD
END:VTIMEZONE
BEGIN:VEVENT
DTSTART;TZID=America/New_York:20271226T104500
DTEND;TZID=America/New_York:20271226T114500
DTSTAMP:20260421T101522
CREATED:20250717T194028Z
LAST-MODIFIED:20250717T194028Z
UID:10008794-1829817900-1829821500@www.fbcjeff.org
SUMMARY:Worship
DESCRIPTION:Join us each week in person or online.
URL:https://www.fbcjeff.org/calendar/worship/2027-12-26/
LOCATION:FBC Sanctuary\, 1610 Russell Ave\, Jefferson City\, TN\, 37760\, United States
ORGANIZER;CN="FBC Church Office":MAILTO:help@fbcjeff.org
END:VEVENT
BEGIN:VEVENT
DTSTART;TZID=America/New_York:20271226T170000
DTEND;TZID=America/New_York:20271226T190000
DTSTAMP:20260421T101522
CREATED:20250717T192603Z
LAST-MODIFIED:20250717T192603Z
UID:10006446-1829840400-1829847600@www.fbcjeff.org
SUMMARY:Youth Gathering
DESCRIPTION:
URL:https://www.fbcjeff.org/calendar/youth-gathering/2027-12-26/
LOCATION:FBC Youth Room 214\, 1610 Russell Ave\, Jefferson City\, TN\, 37760\, United States
CATEGORIES:Youth
ORGANIZER;CN="Chad Hartsock":MAILTO:jchartsock77@gmail.com
END:VEVENT
BEGIN:VEVENT
DTSTART;TZID=America/New_York:20271227T180000
DTEND;TZID=America/New_York:20271227T190000
DTSTAMP:20260421T101522
CREATED:20250717T192938Z
LAST-MODIFIED:20250717T192938Z
UID:10006968-1829930400-1829934000@www.fbcjeff.org
SUMMARY:Cub Scouts
DESCRIPTION:
URL:https://www.fbcjeff.org/calendar/cub-scouts/2027-12-27/
LOCATION:FBC Fellowship Hall\, 1610 Russell Ave\, Jefferson City\, TN\, 37760\, United States
ORGANIZER;CN="FBC Church Office":MAILTO:help@fbcjeff.org
END:VEVENT
BEGIN:VEVENT
DTSTART;TZID=America/New_York:20271227T190000
DTEND;TZID=America/New_York:20271227T200000
DTSTAMP:20260421T101522
CREATED:20250717T193032Z
LAST-MODIFIED:20250717T193032Z
UID:10007229-1829934000-1829937600@www.fbcjeff.org
SUMMARY:Boy Scouts
DESCRIPTION:
URL:https://www.fbcjeff.org/calendar/boy-scouts/2027-12-27/
LOCATION:FBC Fellowship Hall\, 1610 Russell Ave\, Jefferson City\, TN\, 37760\, United States
ORGANIZER;CN="FBC Church Office":MAILTO:help@fbcjeff.org
END:VEVENT
BEGIN:VEVENT
DTSTART;TZID=America/New_York:20271227T193000
DTEND;TZID=America/New_York:20271227T203000
DTSTAMP:20260421T101522
CREATED:20250717T192817Z
LAST-MODIFIED:20250717T192817Z
UID:10006707-1829935800-1829939400@www.fbcjeff.org
SUMMARY:Upper Room Ladies Bible Study
DESCRIPTION:
URL:https://www.fbcjeff.org/calendar/upper-room-ladies-bible-study/2027-12-27/
LOCATION:Zoom
ORGANIZER;CN="FBC Church Office":MAILTO:help@fbcjeff.org
END:VEVENT
BEGIN:VEVENT
DTSTART;TZID=America/New_York:20271228T130000
DTEND;TZID=America/New_York:20271228T140000
DTSTAMP:20260421T101522
CREATED:20250717T193238Z
LAST-MODIFIED:20250717T193238Z
UID:10007490-1829998800-1830002400@www.fbcjeff.org
SUMMARY:Staff Meeting
DESCRIPTION:
URL:https://www.fbcjeff.org/calendar/staff-meeting/2027-12-28/
LOCATION:FBC Office\, 1610 Russell Ave\, Jefferson City\, 37760\, United States
END:VEVENT
BEGIN:VEVENT
DTSTART;TZID=America/New_York:20271229T093000
DTEND;TZID=America/New_York:20271229T103000
DTSTAMP:20260421T101522
CREATED:20250717T193407Z
LAST-MODIFIED:20250717T193407Z
UID:10007751-1830072600-1830076200@www.fbcjeff.org
SUMMARY:Community Bible Study
DESCRIPTION:
URL:https://www.fbcjeff.org/calendar/community-bible-study/2027-12-29/
LOCATION:FBC College Room 301\, 1610 Russell Ave\, Jefferson City\, TN\, 37760\, United States
ORGANIZER;CN="FBC Church Office":MAILTO:help@fbcjeff.org
END:VEVENT
BEGIN:VEVENT
DTSTART;TZID=America/New_York:20271229T160000
DTEND;TZID=America/New_York:20271229T170000
DTSTAMP:20260421T101522
CREATED:20250502T132827Z
LAST-MODIFIED:20250502T133817Z
UID:10006142-1830096000-1830099600@www.fbcjeff.org
SUMMARY:Wednesday's Neighbors
DESCRIPTION:Find out more about Wednesday’s Neighbors
URL:https://www.fbcjeff.org/calendar/wednesdays-neighbors/2027-12-29/
LOCATION:FBC Parlor\, 1610 Russell Ave\, Jefferson City\, TN\, 37760\, United States
ORGANIZER;CN="FBC Church Office":MAILTO:help@fbcjeff.org
END:VEVENT
BEGIN:VEVENT
DTSTART;TZID=America/New_York:20271229T174500
DTEND;TZID=America/New_York:20271229T183000
DTSTAMP:20260421T101522
CREATED:20250913T153403Z
LAST-MODIFIED:20251214T140708Z
UID:10009317-1830102300-1830105000@www.fbcjeff.org
SUMMARY:Kids Choir
DESCRIPTION:5:45 PM – 6 PM\nCombined Choir: Age 3 – 5th Grade: Room 103\nChildcare (children under 3): Room 124 \n6 PM – 6:30 PM\nMusic Makers Choir: K-5th Grade\nChildcare: All preschoolers: Room 124*\n* Music Makers stay in Room 103. Preschoolers will be taken to childcare. \n 
URL:https://www.fbcjeff.org/calendar/kids-choir/2027-12-29/
LOCATION:FBC Room 103
CATEGORIES:Kids
ORGANIZER;CN="First Jeff Kids":MAILTO:firstjeffkids@gmail.com
END:VEVENT
BEGIN:VEVENT
DTSTART;TZID=America/New_York:20271229T174500
DTEND;TZID=America/New_York:20271229T183000
DTSTAMP:20260421T101522
CREATED:20250913T153530Z
LAST-MODIFIED:20251214T140900Z
UID:10009578-1830102300-1830105000@www.fbcjeff.org
SUMMARY:Parent Meet-Up
DESCRIPTION:
URL:https://www.fbcjeff.org/calendar/parent-meet-up/2027-12-29/
LOCATION:FBC Media Center\, 1610 Russell Ave\, Jefferson CIty\, TN\, 37760
CATEGORIES:Kids
ORGANIZER;CN="First Jeff Kids":MAILTO:firstjeffkids@gmail.com
END:VEVENT
BEGIN:VEVENT
DTSTART;TZID=America/New_York:20271229T180000
DTEND;TZID=America/New_York:20271229T190000
DTSTAMP:20260421T101522
CREATED:20250717T193539Z
LAST-MODIFIED:20251214T140811Z
UID:10008012-1830103200-1830106800@www.fbcjeff.org
SUMMARY:Common Prayer and Bible Study
DESCRIPTION:
URL:https://www.fbcjeff.org/calendar/common-prayer-and-bible-study/2027-12-29/
LOCATION:FBC Music Suite\, 1610 Russell Ave\, Jefferson City\, TN\, 37760\, United States
ORGANIZER;CN="FBC Church Office":MAILTO:help@fbcjeff.org
END:VEVENT
BEGIN:VEVENT
DTSTART;TZID=America/New_York:20271229T184500
DTEND;TZID=America/New_York:20271229T194500
DTSTAMP:20260421T101522
CREATED:20250717T193648Z
LAST-MODIFIED:20251214T141150Z
UID:10008273-1830105900-1830109500@www.fbcjeff.org
SUMMARY:Worship Ensemble Rehearsal
DESCRIPTION:
URL:https://www.fbcjeff.org/calendar/worship-ensemble-rehearsal/2027-12-29/
LOCATION:FBC Music Suite\, 1610 Russell Ave\, Jefferson City\, TN\, 37760\, United States
END:VEVENT
BEGIN:VEVENT
DTSTART;TZID=America/New_York:20271230T083000
DTEND;TZID=America/New_York:20271230T093000
DTSTAMP:20260421T101522
CREATED:20250717T193800Z
LAST-MODIFIED:20250717T193800Z
UID:10008534-1830155400-1830159000@www.fbcjeff.org
SUMMARY:Men’s Breakfast
DESCRIPTION:
URL:https://www.fbcjeff.org/calendar/mens-breakfast/2027-12-30/
LOCATION:Bojangles\, 103 Mossy Creek Dr\, Jefferson City\, TN\, 37760
ORGANIZER;CN="FBC Church Office":MAILTO:help@fbcjeff.org
END:VEVENT
END:VCALENDAR