BEGIN:VCALENDAR
VERSION:2.0
PRODID:-//First Baptist Church, Jefferson City, TN - ECPv6.15.20//NONSGML v1.0//EN
CALSCALE:GREGORIAN
METHOD:PUBLISH
X-WR-CALNAME:First Baptist Church, Jefferson City, TN
X-ORIGINAL-URL:https://www.fbcjeff.org
X-WR-CALDESC:Events for First Baptist Church, Jefferson City, TN
REFRESH-INTERVAL;VALUE=DURATION:PT1H
X-Robots-Tag:noindex
X-PUBLISHED-TTL:PT1H
BEGIN:VTIMEZONE
TZID:America/New_York
BEGIN:DAYLIGHT
TZOFFSETFROM:-0500
TZOFFSETTO:-0400
TZNAME:EDT
DTSTART:20270314T070000
END:DAYLIGHT
BEGIN:STANDARD
TZOFFSETFROM:-0400
TZOFFSETTO:-0500
TZNAME:EST
DTSTART:20271107T060000
END:STANDARD
BEGIN:DAYLIGHT
TZOFFSETFROM:-0500
TZOFFSETTO:-0400
TZNAME:EDT
DTSTART:20280312T070000
END:DAYLIGHT
BEGIN:STANDARD
TZOFFSETFROM:-0400
TZOFFSETTO:-0500
TZNAME:EST
DTSTART:20281105T060000
END:STANDARD
BEGIN:DAYLIGHT
TZOFFSETFROM:-0500
TZOFFSETTO:-0400
TZNAME:EDT
DTSTART:20290311T070000
END:DAYLIGHT
BEGIN:STANDARD
TZOFFSETFROM:-0400
TZOFFSETTO:-0500
TZNAME:EST
DTSTART:20291104T060000
END:STANDARD
END:VTIMEZONE
BEGIN:VEVENT
DTSTART;TZID=America/New_York:20280813T104500
DTEND;TZID=America/New_York:20280813T114500
DTSTAMP:20260421T231807
CREATED:20250717T194028Z
LAST-MODIFIED:20250717T194028Z
UID:10008827-1849776300-1849779900@www.fbcjeff.org
SUMMARY:Worship
DESCRIPTION:Join us each week in person or online.
URL:https://www.fbcjeff.org/calendar/worship/2028-08-13/
LOCATION:FBC Sanctuary\, 1610 Russell Ave\, Jefferson City\, TN\, 37760\, United States
ORGANIZER;CN="FBC Church Office":MAILTO:help@fbcjeff.org
END:VEVENT
BEGIN:VEVENT
DTSTART;TZID=America/New_York:20280813T140000
DTEND;TZID=America/New_York:20280813T160000
DTSTAMP:20260421T231808
CREATED:20240229T045509Z
LAST-MODIFIED:20260413T145815Z
UID:10005401-1849788000-1849795200@www.fbcjeff.org
SUMMARY:Church Advisory Council Meeting
DESCRIPTION:
URL:https://www.fbcjeff.org/calendar/church-advisory-council-meeting/2028-08-13/
LOCATION:FBC Music Suite\, 1610 Russell Ave\, Jefferson City\, TN\, 37760\, United States
ORGANIZER;CN="FBC Church Office":MAILTO:help@fbcjeff.org
END:VEVENT
BEGIN:VEVENT
DTSTART;TZID=America/New_York:20280813T170000
DTEND;TZID=America/New_York:20280813T190000
DTSTAMP:20260421T231808
CREATED:20250717T192603Z
LAST-MODIFIED:20250717T192603Z
UID:10006479-1849798800-1849806000@www.fbcjeff.org
SUMMARY:Youth Gathering
DESCRIPTION:
URL:https://www.fbcjeff.org/calendar/youth-gathering/2028-08-13/
LOCATION:FBC Youth Room 214\, 1610 Russell Ave\, Jefferson City\, TN\, 37760\, United States
CATEGORIES:Youth
ORGANIZER;CN="Chad Hartsock":MAILTO:jchartsock77@gmail.com
END:VEVENT
BEGIN:VEVENT
DTSTART;TZID=America/New_York:20280814T180000
DTEND;TZID=America/New_York:20280814T190000
DTSTAMP:20260421T231808
CREATED:20250717T192938Z
LAST-MODIFIED:20250717T192938Z
UID:10007001-1849888800-1849892400@www.fbcjeff.org
SUMMARY:Cub Scouts
DESCRIPTION:
URL:https://www.fbcjeff.org/calendar/cub-scouts/2028-08-14/
LOCATION:FBC Fellowship Hall\, 1610 Russell Ave\, Jefferson City\, TN\, 37760\, United States
ORGANIZER;CN="FBC Church Office":MAILTO:help@fbcjeff.org
END:VEVENT
BEGIN:VEVENT
DTSTART;TZID=America/New_York:20280814T190000
DTEND;TZID=America/New_York:20280814T200000
DTSTAMP:20260421T231808
CREATED:20250717T193032Z
LAST-MODIFIED:20250717T193032Z
UID:10007262-1849892400-1849896000@www.fbcjeff.org
SUMMARY:Boy Scouts
DESCRIPTION:
URL:https://www.fbcjeff.org/calendar/boy-scouts/2028-08-14/
LOCATION:FBC Fellowship Hall\, 1610 Russell Ave\, Jefferson City\, TN\, 37760\, United States
ORGANIZER;CN="FBC Church Office":MAILTO:help@fbcjeff.org
END:VEVENT
BEGIN:VEVENT
DTSTART;TZID=America/New_York:20280814T193000
DTEND;TZID=America/New_York:20280814T203000
DTSTAMP:20260421T231808
CREATED:20250717T192817Z
LAST-MODIFIED:20250717T192817Z
UID:10006740-1849894200-1849897800@www.fbcjeff.org
SUMMARY:Upper Room Ladies Bible Study
DESCRIPTION:
URL:https://www.fbcjeff.org/calendar/upper-room-ladies-bible-study/2028-08-14/
LOCATION:Zoom
ORGANIZER;CN="FBC Church Office":MAILTO:help@fbcjeff.org
END:VEVENT
BEGIN:VEVENT
DTSTART;TZID=America/New_York:20280815T130000
DTEND;TZID=America/New_York:20280815T140000
DTSTAMP:20260421T231808
CREATED:20250717T193238Z
LAST-MODIFIED:20250717T193238Z
UID:10007523-1849957200-1849960800@www.fbcjeff.org
SUMMARY:Staff Meeting
DESCRIPTION:
URL:https://www.fbcjeff.org/calendar/staff-meeting/2028-08-15/
LOCATION:FBC Office\, 1610 Russell Ave\, Jefferson City\, 37760\, United States
END:VEVENT
BEGIN:VEVENT
DTSTART;TZID=America/New_York:20280816T093000
DTEND;TZID=America/New_York:20280816T103000
DTSTAMP:20260421T231808
CREATED:20250717T193407Z
LAST-MODIFIED:20250717T193407Z
UID:10007784-1850031000-1850034600@www.fbcjeff.org
SUMMARY:Community Bible Study
DESCRIPTION:
URL:https://www.fbcjeff.org/calendar/community-bible-study/2028-08-16/
LOCATION:FBC College Room 301\, 1610 Russell Ave\, Jefferson City\, TN\, 37760\, United States
ORGANIZER;CN="FBC Church Office":MAILTO:help@fbcjeff.org
END:VEVENT
BEGIN:VEVENT
DTSTART;TZID=America/New_York:20280816T160000
DTEND;TZID=America/New_York:20280816T170000
DTSTAMP:20260421T231808
CREATED:20250502T132827Z
LAST-MODIFIED:20250502T133817Z
UID:10006175-1850054400-1850058000@www.fbcjeff.org
SUMMARY:Wednesday's Neighbors
DESCRIPTION:Find out more about Wednesday’s Neighbors
URL:https://www.fbcjeff.org/calendar/wednesdays-neighbors/2028-08-16/
LOCATION:FBC Parlor\, 1610 Russell Ave\, Jefferson City\, TN\, 37760\, United States
ORGANIZER;CN="FBC Church Office":MAILTO:help@fbcjeff.org
END:VEVENT
BEGIN:VEVENT
DTSTART;TZID=America/New_York:20280816T174500
DTEND;TZID=America/New_York:20280816T183000
DTSTAMP:20260421T231808
CREATED:20250913T153403Z
LAST-MODIFIED:20251214T140708Z
UID:10009350-1850060700-1850063400@www.fbcjeff.org
SUMMARY:Kids Choir
DESCRIPTION:5:45 PM – 6 PM\nCombined Choir: Age 3 – 5th Grade: Room 103\nChildcare (children under 3): Room 124 \n6 PM – 6:30 PM\nMusic Makers Choir: K-5th Grade\nChildcare: All preschoolers: Room 124*\n* Music Makers stay in Room 103. Preschoolers will be taken to childcare. \n 
URL:https://www.fbcjeff.org/calendar/kids-choir/2028-08-16/
LOCATION:FBC Room 103
CATEGORIES:Kids
ORGANIZER;CN="First Jeff Kids":MAILTO:firstjeffkids@gmail.com
END:VEVENT
BEGIN:VEVENT
DTSTART;TZID=America/New_York:20280816T174500
DTEND;TZID=America/New_York:20280816T183000
DTSTAMP:20260421T231808
CREATED:20250913T153530Z
LAST-MODIFIED:20251214T140900Z
UID:10009611-1850060700-1850063400@www.fbcjeff.org
SUMMARY:Parent Meet-Up
DESCRIPTION:
URL:https://www.fbcjeff.org/calendar/parent-meet-up/2028-08-16/
LOCATION:FBC Media Center\, 1610 Russell Ave\, Jefferson CIty\, TN\, 37760
CATEGORIES:Kids
ORGANIZER;CN="First Jeff Kids":MAILTO:firstjeffkids@gmail.com
END:VEVENT
BEGIN:VEVENT
DTSTART;TZID=America/New_York:20280816T180000
DTEND;TZID=America/New_York:20280816T190000
DTSTAMP:20260421T231808
CREATED:20250717T193539Z
LAST-MODIFIED:20251214T140811Z
UID:10008045-1850061600-1850065200@www.fbcjeff.org
SUMMARY:Common Prayer and Bible Study
DESCRIPTION:
URL:https://www.fbcjeff.org/calendar/common-prayer-and-bible-study/2028-08-16/
LOCATION:FBC Music Suite\, 1610 Russell Ave\, Jefferson City\, TN\, 37760\, United States
ORGANIZER;CN="FBC Church Office":MAILTO:help@fbcjeff.org
END:VEVENT
BEGIN:VEVENT
DTSTART;TZID=America/New_York:20280816T184500
DTEND;TZID=America/New_York:20280816T194500
DTSTAMP:20260421T231808
CREATED:20250717T193648Z
LAST-MODIFIED:20251214T141150Z
UID:10008306-1850064300-1850067900@www.fbcjeff.org
SUMMARY:Worship Ensemble Rehearsal
DESCRIPTION:
URL:https://www.fbcjeff.org/calendar/worship-ensemble-rehearsal/2028-08-16/
LOCATION:FBC Music Suite\, 1610 Russell Ave\, Jefferson City\, TN\, 37760\, United States
END:VEVENT
BEGIN:VEVENT
DTSTART;TZID=America/New_York:20280817T083000
DTEND;TZID=America/New_York:20280817T093000
DTSTAMP:20260421T231808
CREATED:20250717T193800Z
LAST-MODIFIED:20250717T193800Z
UID:10008567-1850113800-1850117400@www.fbcjeff.org
SUMMARY:Men’s Breakfast
DESCRIPTION:
URL:https://www.fbcjeff.org/calendar/mens-breakfast/2028-08-17/
LOCATION:Bojangles\, 103 Mossy Creek Dr\, Jefferson City\, TN\, 37760
ORGANIZER;CN="FBC Church Office":MAILTO:help@fbcjeff.org
END:VEVENT
END:VCALENDAR