BEGIN:VCALENDAR
VERSION:2.0
PRODID:-//First Baptist Church, Jefferson City, TN - ECPv6.15.20//NONSGML v1.0//EN
CALSCALE:GREGORIAN
METHOD:PUBLISH
X-WR-CALNAME:First Baptist Church, Jefferson City, TN
X-ORIGINAL-URL:https://www.fbcjeff.org
X-WR-CALDESC:Events for First Baptist Church, Jefferson City, TN
REFRESH-INTERVAL;VALUE=DURATION:PT1H
X-Robots-Tag:noindex
X-PUBLISHED-TTL:PT1H
BEGIN:VTIMEZONE
TZID:America/New_York
BEGIN:DAYLIGHT
TZOFFSETFROM:-0500
TZOFFSETTO:-0400
TZNAME:EDT
DTSTART:20250309T070000
END:DAYLIGHT
BEGIN:STANDARD
TZOFFSETFROM:-0400
TZOFFSETTO:-0500
TZNAME:EST
DTSTART:20251102T060000
END:STANDARD
BEGIN:DAYLIGHT
TZOFFSETFROM:-0500
TZOFFSETTO:-0400
TZNAME:EDT
DTSTART:20260308T070000
END:DAYLIGHT
BEGIN:STANDARD
TZOFFSETFROM:-0400
TZOFFSETTO:-0500
TZNAME:EST
DTSTART:20261101T060000
END:STANDARD
BEGIN:DAYLIGHT
TZOFFSETFROM:-0500
TZOFFSETTO:-0400
TZNAME:EDT
DTSTART:20270314T070000
END:DAYLIGHT
BEGIN:STANDARD
TZOFFSETFROM:-0400
TZOFFSETTO:-0500
TZNAME:EST
DTSTART:20271107T060000
END:STANDARD
BEGIN:DAYLIGHT
TZOFFSETFROM:-0500
TZOFFSETTO:-0400
TZNAME:EDT
DTSTART:20280312T070000
END:DAYLIGHT
BEGIN:STANDARD
TZOFFSETFROM:-0400
TZOFFSETTO:-0500
TZNAME:EST
DTSTART:20281105T060000
END:STANDARD
END:VTIMEZONE
BEGIN:VEVENT
DTSTART;TZID=America/New_York:20261217T083000
DTEND;TZID=America/New_York:20261217T093000
DTSTAMP:20260424T185815
CREATED:20250717T193800Z
LAST-MODIFIED:20250717T193800Z
UID:10008480-1797496200-1797499800@www.fbcjeff.org
SUMMARY:Men’s Breakfast
DESCRIPTION:
URL:https://www.fbcjeff.org/calendar/mens-breakfast/2026-12-17/
LOCATION:Bojangles\, 103 Mossy Creek Dr\, Jefferson City\, TN\, 37760
ORGANIZER;CN="FBC Church Office":MAILTO:help@fbcjeff.org
END:VEVENT
BEGIN:VEVENT
DTSTART;TZID=America/New_York:20261220T104500
DTEND;TZID=America/New_York:20261220T114500
DTSTAMP:20260424T185815
CREATED:20250717T194028Z
LAST-MODIFIED:20250717T194028Z
UID:10008741-1797763500-1797767100@www.fbcjeff.org
SUMMARY:Worship
DESCRIPTION:Join us each week in person or online.
URL:https://www.fbcjeff.org/calendar/worship/2026-12-20/
LOCATION:FBC Sanctuary\, 1610 Russell Ave\, Jefferson City\, TN\, 37760\, United States
ORGANIZER;CN="FBC Church Office":MAILTO:help@fbcjeff.org
END:VEVENT
BEGIN:VEVENT
DTSTART;TZID=America/New_York:20261221T170000
DTEND;TZID=America/New_York:20261221T180000
DTSTAMP:20260424T185815
CREATED:20240229T051320Z
LAST-MODIFIED:20240229T051320Z
UID:10003382-1797872400-1797876000@www.fbcjeff.org
SUMMARY:Genealogy Society Meeting
DESCRIPTION:The Jefferson County Genealogy Socitey will meet the third Monday of each month from 5 to 6 pm. \nContact: Rob Beuch\, 865-399-2285 or rbeuch@gmail.com \nThey mailto:rbeuch@gmail.comwill need a projection screen for their meetings; they will bring their own projector and laptop.
URL:https://www.fbcjeff.org/calendar/genealogy-society-meeting/2026-12-21/
LOCATION:FBC Fellowship Hall\, 1610 Russell Ave\, Jefferson City\, TN\, 37760\, United States
ORGANIZER;CN="FBC Church Office":MAILTO:help@fbcjeff.org
END:VEVENT
BEGIN:VEVENT
DTSTART;TZID=America/New_York:20261221T180000
DTEND;TZID=America/New_York:20261221T190000
DTSTAMP:20260424T185815
CREATED:20250717T192938Z
LAST-MODIFIED:20250717T192938Z
UID:10006915-1797876000-1797879600@www.fbcjeff.org
SUMMARY:Cub Scouts
DESCRIPTION:
URL:https://www.fbcjeff.org/calendar/cub-scouts/2026-12-21/
LOCATION:FBC Fellowship Hall\, 1610 Russell Ave\, Jefferson City\, TN\, 37760\, United States
ORGANIZER;CN="FBC Church Office":MAILTO:help@fbcjeff.org
END:VEVENT
BEGIN:VEVENT
DTSTART;TZID=America/New_York:20261221T190000
DTEND;TZID=America/New_York:20261221T200000
DTSTAMP:20260424T185815
CREATED:20250717T193032Z
LAST-MODIFIED:20250717T193032Z
UID:10007176-1797879600-1797883200@www.fbcjeff.org
SUMMARY:Boy Scouts
DESCRIPTION:
URL:https://www.fbcjeff.org/calendar/boy-scouts/2026-12-21/
LOCATION:FBC Fellowship Hall\, 1610 Russell Ave\, Jefferson City\, TN\, 37760\, United States
ORGANIZER;CN="FBC Church Office":MAILTO:help@fbcjeff.org
END:VEVENT
BEGIN:VEVENT
DTSTART;TZID=America/New_York:20261221T193000
DTEND;TZID=America/New_York:20261221T203000
DTSTAMP:20260424T185815
CREATED:20250717T192817Z
LAST-MODIFIED:20250717T192817Z
UID:10006654-1797881400-1797885000@www.fbcjeff.org
SUMMARY:Upper Room Ladies Bible Study
DESCRIPTION:
URL:https://www.fbcjeff.org/calendar/upper-room-ladies-bible-study/2026-12-21/
LOCATION:Zoom
ORGANIZER;CN="FBC Church Office":MAILTO:help@fbcjeff.org
END:VEVENT
BEGIN:VEVENT
DTSTART;TZID=America/New_York:20261223T093000
DTEND;TZID=America/New_York:20261223T103000
DTSTAMP:20260424T185815
CREATED:20250717T193407Z
LAST-MODIFIED:20250717T193407Z
UID:10007698-1798018200-1798021800@www.fbcjeff.org
SUMMARY:Community Bible Study
DESCRIPTION:
URL:https://www.fbcjeff.org/calendar/community-bible-study/2026-12-23/
LOCATION:FBC College Room 301\, 1610 Russell Ave\, Jefferson City\, TN\, 37760\, United States
ORGANIZER;CN="FBC Church Office":MAILTO:help@fbcjeff.org
END:VEVENT
BEGIN:VEVENT
DTSTART;TZID=America/New_York:20261223T160000
DTEND;TZID=America/New_York:20261223T170000
DTSTAMP:20260424T185815
CREATED:20250502T132827Z
LAST-MODIFIED:20250502T133817Z
UID:10006089-1798041600-1798045200@www.fbcjeff.org
SUMMARY:Wednesday's Neighbors
DESCRIPTION:Find out more about Wednesday’s Neighbors
URL:https://www.fbcjeff.org/calendar/wednesdays-neighbors/2026-12-23/
LOCATION:FBC Parlor\, 1610 Russell Ave\, Jefferson City\, TN\, 37760\, United States
ORGANIZER;CN="FBC Church Office":MAILTO:help@fbcjeff.org
END:VEVENT
BEGIN:VEVENT
DTSTART;TZID=America/New_York:20261223T180000
DTEND;TZID=America/New_York:20261223T190000
DTSTAMP:20260424T185815
CREATED:20250717T193539Z
LAST-MODIFIED:20251214T140811Z
UID:10007959-1798048800-1798052400@www.fbcjeff.org
SUMMARY:Common Prayer and Bible Study
DESCRIPTION:
URL:https://www.fbcjeff.org/calendar/common-prayer-and-bible-study/2026-12-23/
LOCATION:FBC Music Suite\, 1610 Russell Ave\, Jefferson City\, TN\, 37760\, United States
ORGANIZER;CN="FBC Church Office":MAILTO:help@fbcjeff.org
END:VEVENT
BEGIN:VEVENT
DTSTART;TZID=America/New_York:20261224T083000
DTEND;TZID=America/New_York:20261224T093000
DTSTAMP:20260424T185815
CREATED:20250717T193800Z
LAST-MODIFIED:20250717T193800Z
UID:10008481-1798101000-1798104600@www.fbcjeff.org
SUMMARY:Men’s Breakfast
DESCRIPTION:
URL:https://www.fbcjeff.org/calendar/mens-breakfast/2026-12-24/
LOCATION:Bojangles\, 103 Mossy Creek Dr\, Jefferson City\, TN\, 37760
ORGANIZER;CN="FBC Church Office":MAILTO:help@fbcjeff.org
END:VEVENT
BEGIN:VEVENT
DTSTART;TZID=America/New_York:20261227T104500
DTEND;TZID=America/New_York:20261227T114500
DTSTAMP:20260424T185815
CREATED:20250717T194028Z
LAST-MODIFIED:20250717T194028Z
UID:10008742-1798368300-1798371900@www.fbcjeff.org
SUMMARY:Worship
DESCRIPTION:Join us each week in person or online.
URL:https://www.fbcjeff.org/calendar/worship/2026-12-27/
LOCATION:FBC Sanctuary\, 1610 Russell Ave\, Jefferson City\, TN\, 37760\, United States
ORGANIZER;CN="FBC Church Office":MAILTO:help@fbcjeff.org
END:VEVENT
BEGIN:VEVENT
DTSTART;TZID=America/New_York:20261228T180000
DTEND;TZID=America/New_York:20261228T190000
DTSTAMP:20260424T185815
CREATED:20250717T192938Z
LAST-MODIFIED:20250717T192938Z
UID:10006916-1798480800-1798484400@www.fbcjeff.org
SUMMARY:Cub Scouts
DESCRIPTION:
URL:https://www.fbcjeff.org/calendar/cub-scouts/2026-12-28/
LOCATION:FBC Fellowship Hall\, 1610 Russell Ave\, Jefferson City\, TN\, 37760\, United States
ORGANIZER;CN="FBC Church Office":MAILTO:help@fbcjeff.org
END:VEVENT
BEGIN:VEVENT
DTSTART;TZID=America/New_York:20261228T190000
DTEND;TZID=America/New_York:20261228T200000
DTSTAMP:20260424T185815
CREATED:20250717T193032Z
LAST-MODIFIED:20250717T193032Z
UID:10007177-1798484400-1798488000@www.fbcjeff.org
SUMMARY:Boy Scouts
DESCRIPTION:
URL:https://www.fbcjeff.org/calendar/boy-scouts/2026-12-28/
LOCATION:FBC Fellowship Hall\, 1610 Russell Ave\, Jefferson City\, TN\, 37760\, United States
ORGANIZER;CN="FBC Church Office":MAILTO:help@fbcjeff.org
END:VEVENT
BEGIN:VEVENT
DTSTART;TZID=America/New_York:20261228T193000
DTEND;TZID=America/New_York:20261228T203000
DTSTAMP:20260424T185815
CREATED:20250717T192817Z
LAST-MODIFIED:20250717T192817Z
UID:10006655-1798486200-1798489800@www.fbcjeff.org
SUMMARY:Upper Room Ladies Bible Study
DESCRIPTION:
URL:https://www.fbcjeff.org/calendar/upper-room-ladies-bible-study/2026-12-28/
LOCATION:Zoom
ORGANIZER;CN="FBC Church Office":MAILTO:help@fbcjeff.org
END:VEVENT
BEGIN:VEVENT
DTSTART;TZID=America/New_York:20261230T093000
DTEND;TZID=America/New_York:20261230T103000
DTSTAMP:20260424T185815
CREATED:20250717T193407Z
LAST-MODIFIED:20250717T193407Z
UID:10007699-1798623000-1798626600@www.fbcjeff.org
SUMMARY:Community Bible Study
DESCRIPTION:
URL:https://www.fbcjeff.org/calendar/community-bible-study/2026-12-30/
LOCATION:FBC College Room 301\, 1610 Russell Ave\, Jefferson City\, TN\, 37760\, United States
ORGANIZER;CN="FBC Church Office":MAILTO:help@fbcjeff.org
END:VEVENT
BEGIN:VEVENT
DTSTART;TZID=America/New_York:20261230T160000
DTEND;TZID=America/New_York:20261230T170000
DTSTAMP:20260424T185815
CREATED:20250502T132827Z
LAST-MODIFIED:20250502T133817Z
UID:10006090-1798646400-1798650000@www.fbcjeff.org
SUMMARY:Wednesday's Neighbors
DESCRIPTION:Find out more about Wednesday’s Neighbors
URL:https://www.fbcjeff.org/calendar/wednesdays-neighbors/2026-12-30/
LOCATION:FBC Parlor\, 1610 Russell Ave\, Jefferson City\, TN\, 37760\, United States
ORGANIZER;CN="FBC Church Office":MAILTO:help@fbcjeff.org
END:VEVENT
BEGIN:VEVENT
DTSTART;TZID=America/New_York:20261230T180000
DTEND;TZID=America/New_York:20261230T190000
DTSTAMP:20260424T185815
CREATED:20250717T193539Z
LAST-MODIFIED:20251214T140811Z
UID:10007960-1798653600-1798657200@www.fbcjeff.org
SUMMARY:Common Prayer and Bible Study
DESCRIPTION:
URL:https://www.fbcjeff.org/calendar/common-prayer-and-bible-study/2026-12-30/
LOCATION:FBC Music Suite\, 1610 Russell Ave\, Jefferson City\, TN\, 37760\, United States
ORGANIZER;CN="FBC Church Office":MAILTO:help@fbcjeff.org
END:VEVENT
BEGIN:VEVENT
DTSTART;TZID=America/New_York:20261231T083000
DTEND;TZID=America/New_York:20261231T093000
DTSTAMP:20260424T185815
CREATED:20250717T193800Z
LAST-MODIFIED:20250717T193800Z
UID:10008482-1798705800-1798709400@www.fbcjeff.org
SUMMARY:Men’s Breakfast
DESCRIPTION:
URL:https://www.fbcjeff.org/calendar/mens-breakfast/2026-12-31/
LOCATION:Bojangles\, 103 Mossy Creek Dr\, Jefferson City\, TN\, 37760
ORGANIZER;CN="FBC Church Office":MAILTO:help@fbcjeff.org
END:VEVENT
BEGIN:VEVENT
DTSTART;TZID=America/New_York:20270103T104500
DTEND;TZID=America/New_York:20270103T114500
DTSTAMP:20260424T185815
CREATED:20250717T194028Z
LAST-MODIFIED:20250717T194028Z
UID:10008743-1798973100-1798976700@www.fbcjeff.org
SUMMARY:Worship
DESCRIPTION:Join us each week in person or online.
URL:https://www.fbcjeff.org/calendar/worship/2027-01-03/
LOCATION:FBC Sanctuary\, 1610 Russell Ave\, Jefferson City\, TN\, 37760\, United States
ORGANIZER;CN="FBC Church Office":MAILTO:help@fbcjeff.org
END:VEVENT
BEGIN:VEVENT
DTSTART;TZID=America/New_York:20270104T180000
DTEND;TZID=America/New_York:20270104T190000
DTSTAMP:20260424T185815
CREATED:20250717T192938Z
LAST-MODIFIED:20250717T192938Z
UID:10006917-1799085600-1799089200@www.fbcjeff.org
SUMMARY:Cub Scouts
DESCRIPTION:
URL:https://www.fbcjeff.org/calendar/cub-scouts/2027-01-04/
LOCATION:FBC Fellowship Hall\, 1610 Russell Ave\, Jefferson City\, TN\, 37760\, United States
ORGANIZER;CN="FBC Church Office":MAILTO:help@fbcjeff.org
END:VEVENT
BEGIN:VEVENT
DTSTART;TZID=America/New_York:20270104T190000
DTEND;TZID=America/New_York:20270104T200000
DTSTAMP:20260424T185815
CREATED:20250717T193032Z
LAST-MODIFIED:20250717T193032Z
UID:10007178-1799089200-1799092800@www.fbcjeff.org
SUMMARY:Boy Scouts
DESCRIPTION:
URL:https://www.fbcjeff.org/calendar/boy-scouts/2027-01-04/
LOCATION:FBC Fellowship Hall\, 1610 Russell Ave\, Jefferson City\, TN\, 37760\, United States
ORGANIZER;CN="FBC Church Office":MAILTO:help@fbcjeff.org
END:VEVENT
BEGIN:VEVENT
DTSTART;TZID=America/New_York:20270104T193000
DTEND;TZID=America/New_York:20270104T203000
DTSTAMP:20260424T185815
CREATED:20250717T192817Z
LAST-MODIFIED:20250717T192817Z
UID:10006656-1799091000-1799094600@www.fbcjeff.org
SUMMARY:Upper Room Ladies Bible Study
DESCRIPTION:
URL:https://www.fbcjeff.org/calendar/upper-room-ladies-bible-study/2027-01-04/
LOCATION:Zoom
ORGANIZER;CN="FBC Church Office":MAILTO:help@fbcjeff.org
END:VEVENT
BEGIN:VEVENT
DTSTART;TZID=America/New_York:20270106T093000
DTEND;TZID=America/New_York:20270106T103000
DTSTAMP:20260424T185815
CREATED:20250717T193407Z
LAST-MODIFIED:20250717T193407Z
UID:10007700-1799227800-1799231400@www.fbcjeff.org
SUMMARY:Community Bible Study
DESCRIPTION:
URL:https://www.fbcjeff.org/calendar/community-bible-study/2027-01-06/
LOCATION:FBC College Room 301\, 1610 Russell Ave\, Jefferson City\, TN\, 37760\, United States
ORGANIZER;CN="FBC Church Office":MAILTO:help@fbcjeff.org
END:VEVENT
BEGIN:VEVENT
DTSTART;TZID=America/New_York:20270106T160000
DTEND;TZID=America/New_York:20270106T170000
DTSTAMP:20260424T185815
CREATED:20250502T132827Z
LAST-MODIFIED:20250502T133817Z
UID:10006091-1799251200-1799254800@www.fbcjeff.org
SUMMARY:Wednesday's Neighbors
DESCRIPTION:Find out more about Wednesday’s Neighbors
URL:https://www.fbcjeff.org/calendar/wednesdays-neighbors/2027-01-06/
LOCATION:FBC Parlor\, 1610 Russell Ave\, Jefferson City\, TN\, 37760\, United States
ORGANIZER;CN="FBC Church Office":MAILTO:help@fbcjeff.org
END:VEVENT
BEGIN:VEVENT
DTSTART;TZID=America/New_York:20270106T180000
DTEND;TZID=America/New_York:20270106T190000
DTSTAMP:20260424T185815
CREATED:20250717T193539Z
LAST-MODIFIED:20251214T140811Z
UID:10007961-1799258400-1799262000@www.fbcjeff.org
SUMMARY:Common Prayer and Bible Study
DESCRIPTION:
URL:https://www.fbcjeff.org/calendar/common-prayer-and-bible-study/2027-01-06/
LOCATION:FBC Music Suite\, 1610 Russell Ave\, Jefferson City\, TN\, 37760\, United States
ORGANIZER;CN="FBC Church Office":MAILTO:help@fbcjeff.org
END:VEVENT
BEGIN:VEVENT
DTSTART;TZID=America/New_York:20270107T083000
DTEND;TZID=America/New_York:20270107T093000
DTSTAMP:20260424T185815
CREATED:20250717T193800Z
LAST-MODIFIED:20250717T193800Z
UID:10008483-1799310600-1799314200@www.fbcjeff.org
SUMMARY:Men’s Breakfast
DESCRIPTION:
URL:https://www.fbcjeff.org/calendar/mens-breakfast/2027-01-07/
LOCATION:Bojangles\, 103 Mossy Creek Dr\, Jefferson City\, TN\, 37760
ORGANIZER;CN="FBC Church Office":MAILTO:help@fbcjeff.org
END:VEVENT
BEGIN:VEVENT
DTSTART;TZID=America/New_York:20270110T104500
DTEND;TZID=America/New_York:20270110T114500
DTSTAMP:20260424T185815
CREATED:20250717T194028Z
LAST-MODIFIED:20250717T194028Z
UID:10008744-1799577900-1799581500@www.fbcjeff.org
SUMMARY:Worship
DESCRIPTION:Join us each week in person or online.
URL:https://www.fbcjeff.org/calendar/worship/2027-01-10/
LOCATION:FBC Sanctuary\, 1610 Russell Ave\, Jefferson City\, TN\, 37760\, United States
ORGANIZER;CN="FBC Church Office":MAILTO:help@fbcjeff.org
END:VEVENT
BEGIN:VEVENT
DTSTART;TZID=America/New_York:20270110T140000
DTEND;TZID=America/New_York:20270110T160000
DTSTAMP:20260424T185815
CREATED:20240229T045509Z
LAST-MODIFIED:20260413T145815Z
UID:10005382-1799589600-1799596800@www.fbcjeff.org
SUMMARY:Church Advisory Council Meeting
DESCRIPTION:
URL:https://www.fbcjeff.org/calendar/church-advisory-council-meeting/2027-01-10/
LOCATION:FBC Music Suite\, 1610 Russell Ave\, Jefferson City\, TN\, 37760\, United States
ORGANIZER;CN="FBC Church Office":MAILTO:help@fbcjeff.org
END:VEVENT
BEGIN:VEVENT
DTSTART;TZID=America/New_York:20270111T180000
DTEND;TZID=America/New_York:20270111T190000
DTSTAMP:20260424T185815
CREATED:20250717T192938Z
LAST-MODIFIED:20250717T192938Z
UID:10006918-1799690400-1799694000@www.fbcjeff.org
SUMMARY:Cub Scouts
DESCRIPTION:
URL:https://www.fbcjeff.org/calendar/cub-scouts/2027-01-11/
LOCATION:FBC Fellowship Hall\, 1610 Russell Ave\, Jefferson City\, TN\, 37760\, United States
ORGANIZER;CN="FBC Church Office":MAILTO:help@fbcjeff.org
END:VEVENT
BEGIN:VEVENT
DTSTART;TZID=America/New_York:20270111T190000
DTEND;TZID=America/New_York:20270111T200000
DTSTAMP:20260424T185815
CREATED:20250717T193032Z
LAST-MODIFIED:20250717T193032Z
UID:10007179-1799694000-1799697600@www.fbcjeff.org
SUMMARY:Boy Scouts
DESCRIPTION:
URL:https://www.fbcjeff.org/calendar/boy-scouts/2027-01-11/
LOCATION:FBC Fellowship Hall\, 1610 Russell Ave\, Jefferson City\, TN\, 37760\, United States
ORGANIZER;CN="FBC Church Office":MAILTO:help@fbcjeff.org
END:VEVENT
END:VCALENDAR