BEGIN:VCALENDAR
VERSION:2.0
PRODID:-//First Baptist Church, Jefferson City, TN - ECPv6.15.20//NONSGML v1.0//EN
CALSCALE:GREGORIAN
METHOD:PUBLISH
X-ORIGINAL-URL:https://www.fbcjeff.org
X-WR-CALDESC:Events for First Baptist Church, Jefferson City, TN
REFRESH-INTERVAL;VALUE=DURATION:PT1H
X-Robots-Tag:noindex
X-PUBLISHED-TTL:PT1H
BEGIN:VTIMEZONE
TZID:America/New_York
BEGIN:DAYLIGHT
TZOFFSETFROM:-0500
TZOFFSETTO:-0400
TZNAME:EDT
DTSTART:20260308T070000
END:DAYLIGHT
BEGIN:STANDARD
TZOFFSETFROM:-0400
TZOFFSETTO:-0500
TZNAME:EST
DTSTART:20261101T060000
END:STANDARD
BEGIN:DAYLIGHT
TZOFFSETFROM:-0500
TZOFFSETTO:-0400
TZNAME:EDT
DTSTART:20270314T070000
END:DAYLIGHT
BEGIN:STANDARD
TZOFFSETFROM:-0400
TZOFFSETTO:-0500
TZNAME:EST
DTSTART:20271107T060000
END:STANDARD
BEGIN:DAYLIGHT
TZOFFSETFROM:-0500
TZOFFSETTO:-0400
TZNAME:EDT
DTSTART:20280312T070000
END:DAYLIGHT
BEGIN:STANDARD
TZOFFSETFROM:-0400
TZOFFSETTO:-0500
TZNAME:EST
DTSTART:20281105T060000
END:STANDARD
END:VTIMEZONE
BEGIN:VEVENT
DTSTART;TZID=America/New_York:20270117T113000
DTEND;TZID=America/New_York:20270117T133000
DTSTAMP:20260425T110454
CREATED:20250712T144936Z
LAST-MODIFIED:20250712T144936Z
UID:10006304-1800185400-1800192600@www.fbcjeff.org
SUMMARY:Church Ministries Meeting
DESCRIPTION:Immediately after worship\, join us for lunch in the fellowship hall\, then our quarterly Church Ministries Meeting.
URL:https://www.fbcjeff.org/calendar/church-ministries-meeting-2/2027-01-17/
LOCATION:FBC Fellowship Hall\, 1610 Russell Ave\, Jefferson City\, TN\, 37760\, United States
ORGANIZER;CN="FBC Church Office":MAILTO:help@fbcjeff.org
END:VEVENT
BEGIN:VEVENT
DTSTART;TZID=America/New_York:20270118T170000
DTEND;TZID=America/New_York:20270118T180000
DTSTAMP:20260425T110454
CREATED:20240229T051320Z
LAST-MODIFIED:20240229T051320Z
UID:10003383-1800291600-1800295200@www.fbcjeff.org
SUMMARY:Genealogy Society Meeting
DESCRIPTION:The Jefferson County Genealogy Socitey will meet the third Monday of each month from 5 to 6 pm. \nContact: Rob Beuch\, 865-399-2285 or rbeuch@gmail.com \nThey mailto:rbeuch@gmail.comwill need a projection screen for their meetings; they will bring their own projector and laptop.
URL:https://www.fbcjeff.org/calendar/genealogy-society-meeting/2027-01-18/
LOCATION:FBC Fellowship Hall\, 1610 Russell Ave\, Jefferson City\, TN\, 37760\, United States
ORGANIZER;CN="FBC Church Office":MAILTO:help@fbcjeff.org
END:VEVENT
BEGIN:VEVENT
DTSTART;TZID=America/New_York:20270118T180000
DTEND;TZID=America/New_York:20270118T190000
DTSTAMP:20260425T110454
CREATED:20250717T192938Z
LAST-MODIFIED:20250717T192938Z
UID:10006919-1800295200-1800298800@www.fbcjeff.org
SUMMARY:Cub Scouts
DESCRIPTION:
URL:https://www.fbcjeff.org/calendar/cub-scouts/2027-01-18/
LOCATION:FBC Fellowship Hall\, 1610 Russell Ave\, Jefferson City\, TN\, 37760\, United States
ORGANIZER;CN="FBC Church Office":MAILTO:help@fbcjeff.org
END:VEVENT
BEGIN:VEVENT
DTSTART;TZID=America/New_York:20270118T190000
DTEND;TZID=America/New_York:20270118T200000
DTSTAMP:20260425T110454
CREATED:20250717T193032Z
LAST-MODIFIED:20250717T193032Z
UID:10007180-1800298800-1800302400@www.fbcjeff.org
SUMMARY:Boy Scouts
DESCRIPTION:
URL:https://www.fbcjeff.org/calendar/boy-scouts/2027-01-18/
LOCATION:FBC Fellowship Hall\, 1610 Russell Ave\, Jefferson City\, TN\, 37760\, United States
ORGANIZER;CN="FBC Church Office":MAILTO:help@fbcjeff.org
END:VEVENT
BEGIN:VEVENT
DTSTART;TZID=America/New_York:20270118T193000
DTEND;TZID=America/New_York:20270118T203000
DTSTAMP:20260425T110454
CREATED:20250717T192817Z
LAST-MODIFIED:20250717T192817Z
UID:10006658-1800300600-1800304200@www.fbcjeff.org
SUMMARY:Upper Room Ladies Bible Study
DESCRIPTION:
URL:https://www.fbcjeff.org/calendar/upper-room-ladies-bible-study/2027-01-18/
LOCATION:Zoom
ORGANIZER;CN="FBC Church Office":MAILTO:help@fbcjeff.org
END:VEVENT
BEGIN:VEVENT
DTSTART;TZID=America/New_York:20270120T093000
DTEND;TZID=America/New_York:20270120T103000
DTSTAMP:20260425T110454
CREATED:20250717T193407Z
LAST-MODIFIED:20250717T193407Z
UID:10007702-1800437400-1800441000@www.fbcjeff.org
SUMMARY:Community Bible Study
DESCRIPTION:
URL:https://www.fbcjeff.org/calendar/community-bible-study/2027-01-20/
LOCATION:FBC College Room 301\, 1610 Russell Ave\, Jefferson City\, TN\, 37760\, United States
ORGANIZER;CN="FBC Church Office":MAILTO:help@fbcjeff.org
END:VEVENT
BEGIN:VEVENT
DTSTART;TZID=America/New_York:20270120T160000
DTEND;TZID=America/New_York:20270120T170000
DTSTAMP:20260425T110454
CREATED:20250502T132827Z
LAST-MODIFIED:20250502T133817Z
UID:10006093-1800460800-1800464400@www.fbcjeff.org
SUMMARY:Wednesday's Neighbors
DESCRIPTION:Find out more about Wednesday’s Neighbors
URL:https://www.fbcjeff.org/calendar/wednesdays-neighbors/2027-01-20/
LOCATION:FBC Parlor\, 1610 Russell Ave\, Jefferson City\, TN\, 37760\, United States
ORGANIZER;CN="FBC Church Office":MAILTO:help@fbcjeff.org
END:VEVENT
BEGIN:VEVENT
DTSTART;TZID=America/New_York:20270120T180000
DTEND;TZID=America/New_York:20270120T190000
DTSTAMP:20260425T110454
CREATED:20250717T193539Z
LAST-MODIFIED:20251214T140811Z
UID:10007963-1800468000-1800471600@www.fbcjeff.org
SUMMARY:Common Prayer and Bible Study
DESCRIPTION:
URL:https://www.fbcjeff.org/calendar/common-prayer-and-bible-study/2027-01-20/
LOCATION:FBC Music Suite\, 1610 Russell Ave\, Jefferson City\, TN\, 37760\, United States
ORGANIZER;CN="FBC Church Office":MAILTO:help@fbcjeff.org
END:VEVENT
BEGIN:VEVENT
DTSTART;TZID=America/New_York:20270121T083000
DTEND;TZID=America/New_York:20270121T093000
DTSTAMP:20260425T110454
CREATED:20250717T193800Z
LAST-MODIFIED:20250717T193800Z
UID:10008485-1800520200-1800523800@www.fbcjeff.org
SUMMARY:Men’s Breakfast
DESCRIPTION:
URL:https://www.fbcjeff.org/calendar/mens-breakfast/2027-01-21/
LOCATION:Bojangles\, 103 Mossy Creek Dr\, Jefferson City\, TN\, 37760
ORGANIZER;CN="FBC Church Office":MAILTO:help@fbcjeff.org
END:VEVENT
BEGIN:VEVENT
DTSTART;TZID=America/New_York:20270124T104500
DTEND;TZID=America/New_York:20270124T114500
DTSTAMP:20260425T110454
CREATED:20250717T194028Z
LAST-MODIFIED:20250717T194028Z
UID:10008746-1800787500-1800791100@www.fbcjeff.org
SUMMARY:Worship
DESCRIPTION:Join us each week in person or online.
URL:https://www.fbcjeff.org/calendar/worship/2027-01-24/
LOCATION:FBC Sanctuary\, 1610 Russell Ave\, Jefferson City\, TN\, 37760\, United States
ORGANIZER;CN="FBC Church Office":MAILTO:help@fbcjeff.org
END:VEVENT
BEGIN:VEVENT
DTSTART;TZID=America/New_York:20270125T180000
DTEND;TZID=America/New_York:20270125T190000
DTSTAMP:20260425T110454
CREATED:20250717T192938Z
LAST-MODIFIED:20250717T192938Z
UID:10006920-1800900000-1800903600@www.fbcjeff.org
SUMMARY:Cub Scouts
DESCRIPTION:
URL:https://www.fbcjeff.org/calendar/cub-scouts/2027-01-25/
LOCATION:FBC Fellowship Hall\, 1610 Russell Ave\, Jefferson City\, TN\, 37760\, United States
ORGANIZER;CN="FBC Church Office":MAILTO:help@fbcjeff.org
END:VEVENT
BEGIN:VEVENT
DTSTART;TZID=America/New_York:20270125T190000
DTEND;TZID=America/New_York:20270125T200000
DTSTAMP:20260425T110454
CREATED:20250717T193032Z
LAST-MODIFIED:20250717T193032Z
UID:10007181-1800903600-1800907200@www.fbcjeff.org
SUMMARY:Boy Scouts
DESCRIPTION:
URL:https://www.fbcjeff.org/calendar/boy-scouts/2027-01-25/
LOCATION:FBC Fellowship Hall\, 1610 Russell Ave\, Jefferson City\, TN\, 37760\, United States
ORGANIZER;CN="FBC Church Office":MAILTO:help@fbcjeff.org
END:VEVENT
BEGIN:VEVENT
DTSTART;TZID=America/New_York:20270125T193000
DTEND;TZID=America/New_York:20270125T203000
DTSTAMP:20260425T110454
CREATED:20250717T192817Z
LAST-MODIFIED:20250717T192817Z
UID:10006659-1800905400-1800909000@www.fbcjeff.org
SUMMARY:Upper Room Ladies Bible Study
DESCRIPTION:
URL:https://www.fbcjeff.org/calendar/upper-room-ladies-bible-study/2027-01-25/
LOCATION:Zoom
ORGANIZER;CN="FBC Church Office":MAILTO:help@fbcjeff.org
END:VEVENT
BEGIN:VEVENT
DTSTART;TZID=America/New_York:20270127T093000
DTEND;TZID=America/New_York:20270127T103000
DTSTAMP:20260425T110454
CREATED:20250717T193407Z
LAST-MODIFIED:20250717T193407Z
UID:10007703-1801042200-1801045800@www.fbcjeff.org
SUMMARY:Community Bible Study
DESCRIPTION:
URL:https://www.fbcjeff.org/calendar/community-bible-study/2027-01-27/
LOCATION:FBC College Room 301\, 1610 Russell Ave\, Jefferson City\, TN\, 37760\, United States
ORGANIZER;CN="FBC Church Office":MAILTO:help@fbcjeff.org
END:VEVENT
BEGIN:VEVENT
DTSTART;TZID=America/New_York:20270127T160000
DTEND;TZID=America/New_York:20270127T170000
DTSTAMP:20260425T110454
CREATED:20250502T132827Z
LAST-MODIFIED:20250502T133817Z
UID:10006094-1801065600-1801069200@www.fbcjeff.org
SUMMARY:Wednesday's Neighbors
DESCRIPTION:Find out more about Wednesday’s Neighbors
URL:https://www.fbcjeff.org/calendar/wednesdays-neighbors/2027-01-27/
LOCATION:FBC Parlor\, 1610 Russell Ave\, Jefferson City\, TN\, 37760\, United States
ORGANIZER;CN="FBC Church Office":MAILTO:help@fbcjeff.org
END:VEVENT
BEGIN:VEVENT
DTSTART;TZID=America/New_York:20270127T180000
DTEND;TZID=America/New_York:20270127T190000
DTSTAMP:20260425T110454
CREATED:20250717T193539Z
LAST-MODIFIED:20251214T140811Z
UID:10007964-1801072800-1801076400@www.fbcjeff.org
SUMMARY:Common Prayer and Bible Study
DESCRIPTION:
URL:https://www.fbcjeff.org/calendar/common-prayer-and-bible-study/2027-01-27/
LOCATION:FBC Music Suite\, 1610 Russell Ave\, Jefferson City\, TN\, 37760\, United States
ORGANIZER;CN="FBC Church Office":MAILTO:help@fbcjeff.org
END:VEVENT
BEGIN:VEVENT
DTSTART;TZID=America/New_York:20270128T083000
DTEND;TZID=America/New_York:20270128T093000
DTSTAMP:20260425T110454
CREATED:20250717T193800Z
LAST-MODIFIED:20250717T193800Z
UID:10008486-1801125000-1801128600@www.fbcjeff.org
SUMMARY:Men’s Breakfast
DESCRIPTION:
URL:https://www.fbcjeff.org/calendar/mens-breakfast/2027-01-28/
LOCATION:Bojangles\, 103 Mossy Creek Dr\, Jefferson City\, TN\, 37760
ORGANIZER;CN="FBC Church Office":MAILTO:help@fbcjeff.org
END:VEVENT
BEGIN:VEVENT
DTSTART;TZID=America/New_York:20270131T104500
DTEND;TZID=America/New_York:20270131T114500
DTSTAMP:20260425T110454
CREATED:20250717T194028Z
LAST-MODIFIED:20250717T194028Z
UID:10008747-1801392300-1801395900@www.fbcjeff.org
SUMMARY:Worship
DESCRIPTION:Join us each week in person or online.
URL:https://www.fbcjeff.org/calendar/worship/2027-01-31/
LOCATION:FBC Sanctuary\, 1610 Russell Ave\, Jefferson City\, TN\, 37760\, United States
ORGANIZER;CN="FBC Church Office":MAILTO:help@fbcjeff.org
END:VEVENT
BEGIN:VEVENT
DTSTART;TZID=America/New_York:20270201T180000
DTEND;TZID=America/New_York:20270201T190000
DTSTAMP:20260425T110454
CREATED:20250717T192938Z
LAST-MODIFIED:20250717T192938Z
UID:10006921-1801504800-1801508400@www.fbcjeff.org
SUMMARY:Cub Scouts
DESCRIPTION:
URL:https://www.fbcjeff.org/calendar/cub-scouts/2027-02-01/
LOCATION:FBC Fellowship Hall\, 1610 Russell Ave\, Jefferson City\, TN\, 37760\, United States
ORGANIZER;CN="FBC Church Office":MAILTO:help@fbcjeff.org
END:VEVENT
BEGIN:VEVENT
DTSTART;TZID=America/New_York:20270201T190000
DTEND;TZID=America/New_York:20270201T200000
DTSTAMP:20260425T110454
CREATED:20250717T193032Z
LAST-MODIFIED:20250717T193032Z
UID:10007182-1801508400-1801512000@www.fbcjeff.org
SUMMARY:Boy Scouts
DESCRIPTION:
URL:https://www.fbcjeff.org/calendar/boy-scouts/2027-02-01/
LOCATION:FBC Fellowship Hall\, 1610 Russell Ave\, Jefferson City\, TN\, 37760\, United States
ORGANIZER;CN="FBC Church Office":MAILTO:help@fbcjeff.org
END:VEVENT
BEGIN:VEVENT
DTSTART;TZID=America/New_York:20270201T193000
DTEND;TZID=America/New_York:20270201T203000
DTSTAMP:20260425T110454
CREATED:20250717T192817Z
LAST-MODIFIED:20250717T192817Z
UID:10006660-1801510200-1801513800@www.fbcjeff.org
SUMMARY:Upper Room Ladies Bible Study
DESCRIPTION:
URL:https://www.fbcjeff.org/calendar/upper-room-ladies-bible-study/2027-02-01/
LOCATION:Zoom
ORGANIZER;CN="FBC Church Office":MAILTO:help@fbcjeff.org
END:VEVENT
BEGIN:VEVENT
DTSTART;TZID=America/New_York:20270203T093000
DTEND;TZID=America/New_York:20270203T103000
DTSTAMP:20260425T110454
CREATED:20250717T193407Z
LAST-MODIFIED:20250717T193407Z
UID:10007704-1801647000-1801650600@www.fbcjeff.org
SUMMARY:Community Bible Study
DESCRIPTION:
URL:https://www.fbcjeff.org/calendar/community-bible-study/2027-02-03/
LOCATION:FBC College Room 301\, 1610 Russell Ave\, Jefferson City\, TN\, 37760\, United States
ORGANIZER;CN="FBC Church Office":MAILTO:help@fbcjeff.org
END:VEVENT
BEGIN:VEVENT
DTSTART;TZID=America/New_York:20270203T160000
DTEND;TZID=America/New_York:20270203T170000
DTSTAMP:20260425T110454
CREATED:20250502T132827Z
LAST-MODIFIED:20250502T133817Z
UID:10006095-1801670400-1801674000@www.fbcjeff.org
SUMMARY:Wednesday's Neighbors
DESCRIPTION:Find out more about Wednesday’s Neighbors
URL:https://www.fbcjeff.org/calendar/wednesdays-neighbors/2027-02-03/
LOCATION:FBC Parlor\, 1610 Russell Ave\, Jefferson City\, TN\, 37760\, United States
ORGANIZER;CN="FBC Church Office":MAILTO:help@fbcjeff.org
END:VEVENT
BEGIN:VEVENT
DTSTART;TZID=America/New_York:20270203T180000
DTEND;TZID=America/New_York:20270203T190000
DTSTAMP:20260425T110454
CREATED:20250717T193539Z
LAST-MODIFIED:20251214T140811Z
UID:10007965-1801677600-1801681200@www.fbcjeff.org
SUMMARY:Common Prayer and Bible Study
DESCRIPTION:
URL:https://www.fbcjeff.org/calendar/common-prayer-and-bible-study/2027-02-03/
LOCATION:FBC Music Suite\, 1610 Russell Ave\, Jefferson City\, TN\, 37760\, United States
ORGANIZER;CN="FBC Church Office":MAILTO:help@fbcjeff.org
END:VEVENT
BEGIN:VEVENT
DTSTART;TZID=America/New_York:20270204T083000
DTEND;TZID=America/New_York:20270204T093000
DTSTAMP:20260425T110454
CREATED:20250717T193800Z
LAST-MODIFIED:20250717T193800Z
UID:10008487-1801729800-1801733400@www.fbcjeff.org
SUMMARY:Men’s Breakfast
DESCRIPTION:
URL:https://www.fbcjeff.org/calendar/mens-breakfast/2027-02-04/
LOCATION:Bojangles\, 103 Mossy Creek Dr\, Jefferson City\, TN\, 37760
ORGANIZER;CN="FBC Church Office":MAILTO:help@fbcjeff.org
END:VEVENT
BEGIN:VEVENT
DTSTART;TZID=America/New_York:20270207T104500
DTEND;TZID=America/New_York:20270207T114500
DTSTAMP:20260425T110454
CREATED:20250717T194028Z
LAST-MODIFIED:20250717T194028Z
UID:10008748-1801997100-1802000700@www.fbcjeff.org
SUMMARY:Worship
DESCRIPTION:Join us each week in person or online.
URL:https://www.fbcjeff.org/calendar/worship/2027-02-07/
LOCATION:FBC Sanctuary\, 1610 Russell Ave\, Jefferson City\, TN\, 37760\, United States
ORGANIZER;CN="FBC Church Office":MAILTO:help@fbcjeff.org
END:VEVENT
BEGIN:VEVENT
DTSTART;TZID=America/New_York:20270208T180000
DTEND;TZID=America/New_York:20270208T190000
DTSTAMP:20260425T110454
CREATED:20250717T192938Z
LAST-MODIFIED:20250717T192938Z
UID:10006922-1802109600-1802113200@www.fbcjeff.org
SUMMARY:Cub Scouts
DESCRIPTION:
URL:https://www.fbcjeff.org/calendar/cub-scouts/2027-02-08/
LOCATION:FBC Fellowship Hall\, 1610 Russell Ave\, Jefferson City\, TN\, 37760\, United States
ORGANIZER;CN="FBC Church Office":MAILTO:help@fbcjeff.org
END:VEVENT
BEGIN:VEVENT
DTSTART;TZID=America/New_York:20270208T190000
DTEND;TZID=America/New_York:20270208T200000
DTSTAMP:20260425T110454
CREATED:20250717T193032Z
LAST-MODIFIED:20250717T193032Z
UID:10007183-1802113200-1802116800@www.fbcjeff.org
SUMMARY:Boy Scouts
DESCRIPTION:
URL:https://www.fbcjeff.org/calendar/boy-scouts/2027-02-08/
LOCATION:FBC Fellowship Hall\, 1610 Russell Ave\, Jefferson City\, TN\, 37760\, United States
ORGANIZER;CN="FBC Church Office":MAILTO:help@fbcjeff.org
END:VEVENT
BEGIN:VEVENT
DTSTART;TZID=America/New_York:20270208T193000
DTEND;TZID=America/New_York:20270208T203000
DTSTAMP:20260425T110454
CREATED:20250717T192817Z
LAST-MODIFIED:20250717T192817Z
UID:10006661-1802115000-1802118600@www.fbcjeff.org
SUMMARY:Upper Room Ladies Bible Study
DESCRIPTION:
URL:https://www.fbcjeff.org/calendar/upper-room-ladies-bible-study/2027-02-08/
LOCATION:Zoom
ORGANIZER;CN="FBC Church Office":MAILTO:help@fbcjeff.org
END:VEVENT
BEGIN:VEVENT
DTSTART;TZID=America/New_York:20270210T093000
DTEND;TZID=America/New_York:20270210T103000
DTSTAMP:20260425T110454
CREATED:20250717T193407Z
LAST-MODIFIED:20250717T193407Z
UID:10007705-1802251800-1802255400@www.fbcjeff.org
SUMMARY:Community Bible Study
DESCRIPTION:
URL:https://www.fbcjeff.org/calendar/community-bible-study/2027-02-10/
LOCATION:FBC College Room 301\, 1610 Russell Ave\, Jefferson City\, TN\, 37760\, United States
ORGANIZER;CN="FBC Church Office":MAILTO:help@fbcjeff.org
END:VEVENT
END:VCALENDAR