BEGIN:VCALENDAR
VERSION:2.0
PRODID:-//First Baptist Church, Jefferson City, TN - ECPv6.15.20//NONSGML v1.0//EN
CALSCALE:GREGORIAN
METHOD:PUBLISH
X-WR-CALNAME:First Baptist Church, Jefferson City, TN
X-ORIGINAL-URL:https://www.fbcjeff.org
X-WR-CALDESC:Events for First Baptist Church, Jefferson City, TN
REFRESH-INTERVAL;VALUE=DURATION:PT1H
X-Robots-Tag:noindex
X-PUBLISHED-TTL:PT1H
BEGIN:VTIMEZONE
TZID:America/New_York
BEGIN:DAYLIGHT
TZOFFSETFROM:-0500
TZOFFSETTO:-0400
TZNAME:EDT
DTSTART:20250309T070000
END:DAYLIGHT
BEGIN:STANDARD
TZOFFSETFROM:-0400
TZOFFSETTO:-0500
TZNAME:EST
DTSTART:20251102T060000
END:STANDARD
BEGIN:DAYLIGHT
TZOFFSETFROM:-0500
TZOFFSETTO:-0400
TZNAME:EDT
DTSTART:20260308T070000
END:DAYLIGHT
BEGIN:STANDARD
TZOFFSETFROM:-0400
TZOFFSETTO:-0500
TZNAME:EST
DTSTART:20261101T060000
END:STANDARD
BEGIN:DAYLIGHT
TZOFFSETFROM:-0500
TZOFFSETTO:-0400
TZNAME:EDT
DTSTART:20270314T070000
END:DAYLIGHT
BEGIN:STANDARD
TZOFFSETFROM:-0400
TZOFFSETTO:-0500
TZNAME:EST
DTSTART:20271107T060000
END:STANDARD
END:VTIMEZONE
BEGIN:VEVENT
DTSTART;TZID=America/New_York:20260701T093000
DTEND;TZID=America/New_York:20260701T103000
DTSTAMP:20260421T101517
CREATED:20250717T193407Z
LAST-MODIFIED:20250717T193407Z
UID:10007673-1782898200-1782901800@www.fbcjeff.org
SUMMARY:Community Bible Study
DESCRIPTION:
URL:https://www.fbcjeff.org/calendar/community-bible-study/2026-07-01/
LOCATION:FBC College Room 301\, 1610 Russell Ave\, Jefferson City\, TN\, 37760\, United States
ORGANIZER;CN="FBC Church Office":MAILTO:help@fbcjeff.org
END:VEVENT
BEGIN:VEVENT
DTSTART;TZID=America/New_York:20260701T160000
DTEND;TZID=America/New_York:20260701T170000
DTSTAMP:20260421T101517
CREATED:20250502T132827Z
LAST-MODIFIED:20250502T133817Z
UID:10006064-1782921600-1782925200@www.fbcjeff.org
SUMMARY:Wednesday's Neighbors
DESCRIPTION:Find out more about Wednesday’s Neighbors
URL:https://www.fbcjeff.org/calendar/wednesdays-neighbors/2026-07-01/
LOCATION:FBC Parlor\, 1610 Russell Ave\, Jefferson City\, TN\, 37760\, United States
ORGANIZER;CN="FBC Church Office":MAILTO:help@fbcjeff.org
END:VEVENT
BEGIN:VEVENT
DTSTART;TZID=America/New_York:20260701T180000
DTEND;TZID=America/New_York:20260701T190000
DTSTAMP:20260421T101517
CREATED:20250717T193539Z
LAST-MODIFIED:20251214T140811Z
UID:10007934-1782928800-1782932400@www.fbcjeff.org
SUMMARY:Common Prayer and Bible Study
DESCRIPTION:
URL:https://www.fbcjeff.org/calendar/common-prayer-and-bible-study/2026-07-01/
LOCATION:FBC Music Suite\, 1610 Russell Ave\, Jefferson City\, TN\, 37760\, United States
ORGANIZER;CN="FBC Church Office":MAILTO:help@fbcjeff.org
END:VEVENT
BEGIN:VEVENT
DTSTART;TZID=America/New_York:20260702T083000
DTEND;TZID=America/New_York:20260702T093000
DTSTAMP:20260421T101517
CREATED:20250717T193800Z
LAST-MODIFIED:20250717T193800Z
UID:10008456-1782981000-1782984600@www.fbcjeff.org
SUMMARY:Men’s Breakfast
DESCRIPTION:
URL:https://www.fbcjeff.org/calendar/mens-breakfast/2026-07-02/
LOCATION:Bojangles\, 103 Mossy Creek Dr\, Jefferson City\, TN\, 37760
ORGANIZER;CN="FBC Church Office":MAILTO:help@fbcjeff.org
END:VEVENT
BEGIN:VEVENT
DTSTART;TZID=America/New_York:20260705T104500
DTEND;TZID=America/New_York:20260705T114500
DTSTAMP:20260421T101517
CREATED:20250717T194028Z
LAST-MODIFIED:20250717T194028Z
UID:10008717-1783248300-1783251900@www.fbcjeff.org
SUMMARY:Worship
DESCRIPTION:Join us each week in person or online.
URL:https://www.fbcjeff.org/calendar/worship/2026-07-05/
LOCATION:FBC Sanctuary\, 1610 Russell Ave\, Jefferson City\, TN\, 37760\, United States
ORGANIZER;CN="FBC Church Office":MAILTO:help@fbcjeff.org
END:VEVENT
BEGIN:VEVENT
DTSTART;TZID=America/New_York:20260706T180000
DTEND;TZID=America/New_York:20260706T190000
DTSTAMP:20260421T101517
CREATED:20250717T192938Z
LAST-MODIFIED:20250717T192938Z
UID:10006891-1783360800-1783364400@www.fbcjeff.org
SUMMARY:Cub Scouts
DESCRIPTION:
URL:https://www.fbcjeff.org/calendar/cub-scouts/2026-07-06/
LOCATION:FBC Fellowship Hall\, 1610 Russell Ave\, Jefferson City\, TN\, 37760\, United States
ORGANIZER;CN="FBC Church Office":MAILTO:help@fbcjeff.org
END:VEVENT
BEGIN:VEVENT
DTSTART;TZID=America/New_York:20260706T190000
DTEND;TZID=America/New_York:20260706T200000
DTSTAMP:20260421T101517
CREATED:20250717T193032Z
LAST-MODIFIED:20250717T193032Z
UID:10007152-1783364400-1783368000@www.fbcjeff.org
SUMMARY:Boy Scouts
DESCRIPTION:
URL:https://www.fbcjeff.org/calendar/boy-scouts/2026-07-06/
LOCATION:FBC Fellowship Hall\, 1610 Russell Ave\, Jefferson City\, TN\, 37760\, United States
ORGANIZER;CN="FBC Church Office":MAILTO:help@fbcjeff.org
END:VEVENT
BEGIN:VEVENT
DTSTART;TZID=America/New_York:20260706T193000
DTEND;TZID=America/New_York:20260706T203000
DTSTAMP:20260421T101517
CREATED:20250717T192817Z
LAST-MODIFIED:20250717T192817Z
UID:10006630-1783366200-1783369800@www.fbcjeff.org
SUMMARY:Upper Room Ladies Bible Study
DESCRIPTION:
URL:https://www.fbcjeff.org/calendar/upper-room-ladies-bible-study/2026-07-06/
LOCATION:Zoom
ORGANIZER;CN="FBC Church Office":MAILTO:help@fbcjeff.org
END:VEVENT
BEGIN:VEVENT
DTSTART;TZID=America/New_York:20260708T093000
DTEND;TZID=America/New_York:20260708T103000
DTSTAMP:20260421T101517
CREATED:20250717T193407Z
LAST-MODIFIED:20250717T193407Z
UID:10007674-1783503000-1783506600@www.fbcjeff.org
SUMMARY:Community Bible Study
DESCRIPTION:
URL:https://www.fbcjeff.org/calendar/community-bible-study/2026-07-08/
LOCATION:FBC College Room 301\, 1610 Russell Ave\, Jefferson City\, TN\, 37760\, United States
ORGANIZER;CN="FBC Church Office":MAILTO:help@fbcjeff.org
END:VEVENT
BEGIN:VEVENT
DTSTART;TZID=America/New_York:20260708T160000
DTEND;TZID=America/New_York:20260708T170000
DTSTAMP:20260421T101517
CREATED:20250502T132827Z
LAST-MODIFIED:20250502T133817Z
UID:10006065-1783526400-1783530000@www.fbcjeff.org
SUMMARY:Wednesday's Neighbors
DESCRIPTION:Find out more about Wednesday’s Neighbors
URL:https://www.fbcjeff.org/calendar/wednesdays-neighbors/2026-07-08/
LOCATION:FBC Parlor\, 1610 Russell Ave\, Jefferson City\, TN\, 37760\, United States
ORGANIZER;CN="FBC Church Office":MAILTO:help@fbcjeff.org
END:VEVENT
BEGIN:VEVENT
DTSTART;TZID=America/New_York:20260708T180000
DTEND;TZID=America/New_York:20260708T190000
DTSTAMP:20260421T101517
CREATED:20250717T193539Z
LAST-MODIFIED:20251214T140811Z
UID:10007935-1783533600-1783537200@www.fbcjeff.org
SUMMARY:Common Prayer and Bible Study
DESCRIPTION:
URL:https://www.fbcjeff.org/calendar/common-prayer-and-bible-study/2026-07-08/
LOCATION:FBC Music Suite\, 1610 Russell Ave\, Jefferson City\, TN\, 37760\, United States
ORGANIZER;CN="FBC Church Office":MAILTO:help@fbcjeff.org
END:VEVENT
BEGIN:VEVENT
DTSTART;TZID=America/New_York:20260709T083000
DTEND;TZID=America/New_York:20260709T093000
DTSTAMP:20260421T101517
CREATED:20250717T193800Z
LAST-MODIFIED:20250717T193800Z
UID:10008457-1783585800-1783589400@www.fbcjeff.org
SUMMARY:Men’s Breakfast
DESCRIPTION:
URL:https://www.fbcjeff.org/calendar/mens-breakfast/2026-07-09/
LOCATION:Bojangles\, 103 Mossy Creek Dr\, Jefferson City\, TN\, 37760
ORGANIZER;CN="FBC Church Office":MAILTO:help@fbcjeff.org
END:VEVENT
BEGIN:VEVENT
DTSTART;TZID=America/New_York:20260712T104500
DTEND;TZID=America/New_York:20260712T114500
DTSTAMP:20260421T101517
CREATED:20250717T194028Z
LAST-MODIFIED:20250717T194028Z
UID:10008718-1783853100-1783856700@www.fbcjeff.org
SUMMARY:Worship
DESCRIPTION:Join us each week in person or online.
URL:https://www.fbcjeff.org/calendar/worship/2026-07-12/
LOCATION:FBC Sanctuary\, 1610 Russell Ave\, Jefferson City\, TN\, 37760\, United States
ORGANIZER;CN="FBC Church Office":MAILTO:help@fbcjeff.org
END:VEVENT
BEGIN:VEVENT
DTSTART;TZID=America/New_York:20260712T140000
DTEND;TZID=America/New_York:20260712T160000
DTSTAMP:20260421T101517
CREATED:20240229T045509Z
LAST-MODIFIED:20260413T145815Z
UID:10005376-1783864800-1783872000@www.fbcjeff.org
SUMMARY:Church Advisory Council Meeting
DESCRIPTION:
URL:https://www.fbcjeff.org/calendar/church-advisory-council-meeting/2026-07-12/
LOCATION:FBC Music Suite\, 1610 Russell Ave\, Jefferson City\, TN\, 37760\, United States
ORGANIZER;CN="FBC Church Office":MAILTO:help@fbcjeff.org
END:VEVENT
BEGIN:VEVENT
DTSTART;TZID=America/New_York:20260713T180000
DTEND;TZID=America/New_York:20260713T190000
DTSTAMP:20260421T101517
CREATED:20250717T192938Z
LAST-MODIFIED:20250717T192938Z
UID:10006892-1783965600-1783969200@www.fbcjeff.org
SUMMARY:Cub Scouts
DESCRIPTION:
URL:https://www.fbcjeff.org/calendar/cub-scouts/2026-07-13/
LOCATION:FBC Fellowship Hall\, 1610 Russell Ave\, Jefferson City\, TN\, 37760\, United States
ORGANIZER;CN="FBC Church Office":MAILTO:help@fbcjeff.org
END:VEVENT
BEGIN:VEVENT
DTSTART;TZID=America/New_York:20260713T190000
DTEND;TZID=America/New_York:20260713T200000
DTSTAMP:20260421T101517
CREATED:20250717T193032Z
LAST-MODIFIED:20250717T193032Z
UID:10007153-1783969200-1783972800@www.fbcjeff.org
SUMMARY:Boy Scouts
DESCRIPTION:
URL:https://www.fbcjeff.org/calendar/boy-scouts/2026-07-13/
LOCATION:FBC Fellowship Hall\, 1610 Russell Ave\, Jefferson City\, TN\, 37760\, United States
ORGANIZER;CN="FBC Church Office":MAILTO:help@fbcjeff.org
END:VEVENT
BEGIN:VEVENT
DTSTART;TZID=America/New_York:20260713T193000
DTEND;TZID=America/New_York:20260713T203000
DTSTAMP:20260421T101517
CREATED:20250717T192817Z
LAST-MODIFIED:20250717T192817Z
UID:10006631-1783971000-1783974600@www.fbcjeff.org
SUMMARY:Upper Room Ladies Bible Study
DESCRIPTION:
URL:https://www.fbcjeff.org/calendar/upper-room-ladies-bible-study/2026-07-13/
LOCATION:Zoom
ORGANIZER;CN="FBC Church Office":MAILTO:help@fbcjeff.org
END:VEVENT
BEGIN:VEVENT
DTSTART;TZID=America/New_York:20260715T093000
DTEND;TZID=America/New_York:20260715T103000
DTSTAMP:20260421T101517
CREATED:20250717T193407Z
LAST-MODIFIED:20250717T193407Z
UID:10007675-1784107800-1784111400@www.fbcjeff.org
SUMMARY:Community Bible Study
DESCRIPTION:
URL:https://www.fbcjeff.org/calendar/community-bible-study/2026-07-15/
LOCATION:FBC College Room 301\, 1610 Russell Ave\, Jefferson City\, TN\, 37760\, United States
ORGANIZER;CN="FBC Church Office":MAILTO:help@fbcjeff.org
END:VEVENT
BEGIN:VEVENT
DTSTART;TZID=America/New_York:20260715T160000
DTEND;TZID=America/New_York:20260715T170000
DTSTAMP:20260421T101517
CREATED:20250502T132827Z
LAST-MODIFIED:20250502T133817Z
UID:10006066-1784131200-1784134800@www.fbcjeff.org
SUMMARY:Wednesday's Neighbors
DESCRIPTION:Find out more about Wednesday’s Neighbors
URL:https://www.fbcjeff.org/calendar/wednesdays-neighbors/2026-07-15/
LOCATION:FBC Parlor\, 1610 Russell Ave\, Jefferson City\, TN\, 37760\, United States
ORGANIZER;CN="FBC Church Office":MAILTO:help@fbcjeff.org
END:VEVENT
BEGIN:VEVENT
DTSTART;TZID=America/New_York:20260715T180000
DTEND;TZID=America/New_York:20260715T190000
DTSTAMP:20260421T101517
CREATED:20250717T193539Z
LAST-MODIFIED:20251214T140811Z
UID:10007936-1784138400-1784142000@www.fbcjeff.org
SUMMARY:Common Prayer and Bible Study
DESCRIPTION:
URL:https://www.fbcjeff.org/calendar/common-prayer-and-bible-study/2026-07-15/
LOCATION:FBC Music Suite\, 1610 Russell Ave\, Jefferson City\, TN\, 37760\, United States
ORGANIZER;CN="FBC Church Office":MAILTO:help@fbcjeff.org
END:VEVENT
BEGIN:VEVENT
DTSTART;TZID=America/New_York:20260716T083000
DTEND;TZID=America/New_York:20260716T093000
DTSTAMP:20260421T101517
CREATED:20250717T193800Z
LAST-MODIFIED:20250717T193800Z
UID:10008458-1784190600-1784194200@www.fbcjeff.org
SUMMARY:Men’s Breakfast
DESCRIPTION:
URL:https://www.fbcjeff.org/calendar/mens-breakfast/2026-07-16/
LOCATION:Bojangles\, 103 Mossy Creek Dr\, Jefferson City\, TN\, 37760
ORGANIZER;CN="FBC Church Office":MAILTO:help@fbcjeff.org
END:VEVENT
BEGIN:VEVENT
DTSTART;TZID=America/New_York:20260719T104500
DTEND;TZID=America/New_York:20260719T114500
DTSTAMP:20260421T101517
CREATED:20250717T194028Z
LAST-MODIFIED:20250717T194028Z
UID:10008719-1784457900-1784461500@www.fbcjeff.org
SUMMARY:Worship
DESCRIPTION:Join us each week in person or online.
URL:https://www.fbcjeff.org/calendar/worship/2026-07-19/
LOCATION:FBC Sanctuary\, 1610 Russell Ave\, Jefferson City\, TN\, 37760\, United States
ORGANIZER;CN="FBC Church Office":MAILTO:help@fbcjeff.org
END:VEVENT
BEGIN:VEVENT
DTSTART;TZID=America/New_York:20260719T113000
DTEND;TZID=America/New_York:20260719T133000
DTSTAMP:20260421T101517
CREATED:20250712T144936Z
LAST-MODIFIED:20250712T144936Z
UID:10006302-1784460600-1784467800@www.fbcjeff.org
SUMMARY:Church Ministries Meeting
DESCRIPTION:Immediately after worship\, join us for lunch in the fellowship hall\, then our quarterly Church Ministries Meeting.
URL:https://www.fbcjeff.org/calendar/church-ministries-meeting-2/2026-07-19/
LOCATION:FBC Fellowship Hall\, 1610 Russell Ave\, Jefferson City\, TN\, 37760\, United States
ORGANIZER;CN="FBC Church Office":MAILTO:help@fbcjeff.org
END:VEVENT
BEGIN:VEVENT
DTSTART;TZID=America/New_York:20260720T170000
DTEND;TZID=America/New_York:20260720T180000
DTSTAMP:20260421T101517
CREATED:20240229T051320Z
LAST-MODIFIED:20240229T051320Z
UID:10003377-1784566800-1784570400@www.fbcjeff.org
SUMMARY:Genealogy Society Meeting
DESCRIPTION:The Jefferson County Genealogy Socitey will meet the third Monday of each month from 5 to 6 pm. \nContact: Rob Beuch\, 865-399-2285 or rbeuch@gmail.com \nThey mailto:rbeuch@gmail.comwill need a projection screen for their meetings; they will bring their own projector and laptop.
URL:https://www.fbcjeff.org/calendar/genealogy-society-meeting/2026-07-20/
LOCATION:FBC Fellowship Hall\, 1610 Russell Ave\, Jefferson City\, TN\, 37760\, United States
ORGANIZER;CN="FBC Church Office":MAILTO:help@fbcjeff.org
END:VEVENT
BEGIN:VEVENT
DTSTART;TZID=America/New_York:20260720T180000
DTEND;TZID=America/New_York:20260720T190000
DTSTAMP:20260421T101517
CREATED:20250717T192938Z
LAST-MODIFIED:20250717T192938Z
UID:10006893-1784570400-1784574000@www.fbcjeff.org
SUMMARY:Cub Scouts
DESCRIPTION:
URL:https://www.fbcjeff.org/calendar/cub-scouts/2026-07-20/
LOCATION:FBC Fellowship Hall\, 1610 Russell Ave\, Jefferson City\, TN\, 37760\, United States
ORGANIZER;CN="FBC Church Office":MAILTO:help@fbcjeff.org
END:VEVENT
BEGIN:VEVENT
DTSTART;TZID=America/New_York:20260720T190000
DTEND;TZID=America/New_York:20260720T200000
DTSTAMP:20260421T101517
CREATED:20250717T193032Z
LAST-MODIFIED:20250717T193032Z
UID:10007154-1784574000-1784577600@www.fbcjeff.org
SUMMARY:Boy Scouts
DESCRIPTION:
URL:https://www.fbcjeff.org/calendar/boy-scouts/2026-07-20/
LOCATION:FBC Fellowship Hall\, 1610 Russell Ave\, Jefferson City\, TN\, 37760\, United States
ORGANIZER;CN="FBC Church Office":MAILTO:help@fbcjeff.org
END:VEVENT
BEGIN:VEVENT
DTSTART;TZID=America/New_York:20260720T193000
DTEND;TZID=America/New_York:20260720T203000
DTSTAMP:20260421T101517
CREATED:20250717T192817Z
LAST-MODIFIED:20250717T192817Z
UID:10006632-1784575800-1784579400@www.fbcjeff.org
SUMMARY:Upper Room Ladies Bible Study
DESCRIPTION:
URL:https://www.fbcjeff.org/calendar/upper-room-ladies-bible-study/2026-07-20/
LOCATION:Zoom
ORGANIZER;CN="FBC Church Office":MAILTO:help@fbcjeff.org
END:VEVENT
BEGIN:VEVENT
DTSTART;TZID=America/New_York:20260722T093000
DTEND;TZID=America/New_York:20260722T103000
DTSTAMP:20260421T101517
CREATED:20250717T193407Z
LAST-MODIFIED:20250717T193407Z
UID:10007676-1784712600-1784716200@www.fbcjeff.org
SUMMARY:Community Bible Study
DESCRIPTION:
URL:https://www.fbcjeff.org/calendar/community-bible-study/2026-07-22/
LOCATION:FBC College Room 301\, 1610 Russell Ave\, Jefferson City\, TN\, 37760\, United States
ORGANIZER;CN="FBC Church Office":MAILTO:help@fbcjeff.org
END:VEVENT
BEGIN:VEVENT
DTSTART;TZID=America/New_York:20260722T160000
DTEND;TZID=America/New_York:20260722T170000
DTSTAMP:20260421T101517
CREATED:20250502T132827Z
LAST-MODIFIED:20250502T133817Z
UID:10006067-1784736000-1784739600@www.fbcjeff.org
SUMMARY:Wednesday's Neighbors
DESCRIPTION:Find out more about Wednesday’s Neighbors
URL:https://www.fbcjeff.org/calendar/wednesdays-neighbors/2026-07-22/
LOCATION:FBC Parlor\, 1610 Russell Ave\, Jefferson City\, TN\, 37760\, United States
ORGANIZER;CN="FBC Church Office":MAILTO:help@fbcjeff.org
END:VEVENT
BEGIN:VEVENT
DTSTART;TZID=America/New_York:20260722T180000
DTEND;TZID=America/New_York:20260722T190000
DTSTAMP:20260421T101517
CREATED:20250717T193539Z
LAST-MODIFIED:20251214T140811Z
UID:10007937-1784743200-1784746800@www.fbcjeff.org
SUMMARY:Common Prayer and Bible Study
DESCRIPTION:
URL:https://www.fbcjeff.org/calendar/common-prayer-and-bible-study/2026-07-22/
LOCATION:FBC Music Suite\, 1610 Russell Ave\, Jefferson City\, TN\, 37760\, United States
ORGANIZER;CN="FBC Church Office":MAILTO:help@fbcjeff.org
END:VEVENT
END:VCALENDAR