BEGIN:VCALENDAR
VERSION:2.0
PRODID:-//First Baptist Church, Jefferson City, TN - ECPv6.15.20//NONSGML v1.0//EN
CALSCALE:GREGORIAN
METHOD:PUBLISH
X-ORIGINAL-URL:https://www.fbcjeff.org
X-WR-CALDESC:Events for First Baptist Church, Jefferson City, TN
REFRESH-INTERVAL;VALUE=DURATION:PT1H
X-Robots-Tag:noindex
X-PUBLISHED-TTL:PT1H
BEGIN:VTIMEZONE
TZID:America/New_York
BEGIN:DAYLIGHT
TZOFFSETFROM:-0500
TZOFFSETTO:-0400
TZNAME:EDT
DTSTART:20280312T070000
END:DAYLIGHT
BEGIN:STANDARD
TZOFFSETFROM:-0400
TZOFFSETTO:-0500
TZNAME:EST
DTSTART:20281105T060000
END:STANDARD
BEGIN:DAYLIGHT
TZOFFSETFROM:-0500
TZOFFSETTO:-0400
TZNAME:EDT
DTSTART:20290311T070000
END:DAYLIGHT
BEGIN:STANDARD
TZOFFSETFROM:-0400
TZOFFSETTO:-0500
TZNAME:EST
DTSTART:20291104T060000
END:STANDARD
BEGIN:DAYLIGHT
TZOFFSETFROM:-0500
TZOFFSETTO:-0400
TZNAME:EDT
DTSTART:20300310T070000
END:DAYLIGHT
BEGIN:STANDARD
TZOFFSETFROM:-0400
TZOFFSETTO:-0500
TZNAME:EST
DTSTART:20301103T060000
END:STANDARD
END:VTIMEZONE
BEGIN:VEVENT
DTSTART;TZID=America/New_York:20290418T184500
DTEND;TZID=America/New_York:20290418T194500
DTSTAMP:20260419T113820
CREATED:20250717T193648Z
LAST-MODIFIED:20251214T141150Z
UID:10008341-1871232300-1871235900@www.fbcjeff.org
SUMMARY:Worship Ensemble Rehearsal
DESCRIPTION:
URL:https://www.fbcjeff.org/calendar/worship-ensemble-rehearsal/2029-04-18/
LOCATION:FBC Music Suite\, 1610 Russell Ave\, Jefferson City\, TN\, 37760\, United States
END:VEVENT
BEGIN:VEVENT
DTSTART;TZID=America/New_York:20290425T184500
DTEND;TZID=America/New_York:20290425T194500
DTSTAMP:20260419T113820
CREATED:20250717T193648Z
LAST-MODIFIED:20251214T141150Z
UID:10008342-1871837100-1871840700@www.fbcjeff.org
SUMMARY:Worship Ensemble Rehearsal
DESCRIPTION:
URL:https://www.fbcjeff.org/calendar/worship-ensemble-rehearsal/2029-04-25/
LOCATION:FBC Music Suite\, 1610 Russell Ave\, Jefferson City\, TN\, 37760\, United States
END:VEVENT
BEGIN:VEVENT
DTSTART;TZID=America/New_York:20290502T184500
DTEND;TZID=America/New_York:20290502T194500
DTSTAMP:20260419T113820
CREATED:20250717T193648Z
LAST-MODIFIED:20251214T141150Z
UID:10008343-1872441900-1872445500@www.fbcjeff.org
SUMMARY:Worship Ensemble Rehearsal
DESCRIPTION:
URL:https://www.fbcjeff.org/calendar/worship-ensemble-rehearsal/2029-05-02/
LOCATION:FBC Music Suite\, 1610 Russell Ave\, Jefferson City\, TN\, 37760\, United States
END:VEVENT
BEGIN:VEVENT
DTSTART;TZID=America/New_York:20290509T184500
DTEND;TZID=America/New_York:20290509T194500
DTSTAMP:20260419T113820
CREATED:20250717T193648Z
LAST-MODIFIED:20251214T141150Z
UID:10008344-1873046700-1873050300@www.fbcjeff.org
SUMMARY:Worship Ensemble Rehearsal
DESCRIPTION:
URL:https://www.fbcjeff.org/calendar/worship-ensemble-rehearsal/2029-05-09/
LOCATION:FBC Music Suite\, 1610 Russell Ave\, Jefferson City\, TN\, 37760\, United States
END:VEVENT
BEGIN:VEVENT
DTSTART;TZID=America/New_York:20290516T184500
DTEND;TZID=America/New_York:20290516T194500
DTSTAMP:20260419T113820
CREATED:20250717T193648Z
LAST-MODIFIED:20251214T141150Z
UID:10008345-1873651500-1873655100@www.fbcjeff.org
SUMMARY:Worship Ensemble Rehearsal
DESCRIPTION:
URL:https://www.fbcjeff.org/calendar/worship-ensemble-rehearsal/2029-05-16/
LOCATION:FBC Music Suite\, 1610 Russell Ave\, Jefferson City\, TN\, 37760\, United States
END:VEVENT
BEGIN:VEVENT
DTSTART;TZID=America/New_York:20290523T184500
DTEND;TZID=America/New_York:20290523T194500
DTSTAMP:20260419T113820
CREATED:20250717T193648Z
LAST-MODIFIED:20251214T141150Z
UID:10008346-1874256300-1874259900@www.fbcjeff.org
SUMMARY:Worship Ensemble Rehearsal
DESCRIPTION:
URL:https://www.fbcjeff.org/calendar/worship-ensemble-rehearsal/2029-05-23/
LOCATION:FBC Music Suite\, 1610 Russell Ave\, Jefferson City\, TN\, 37760\, United States
END:VEVENT
BEGIN:VEVENT
DTSTART;TZID=America/New_York:20290530T184500
DTEND;TZID=America/New_York:20290530T194500
DTSTAMP:20260419T113820
CREATED:20250717T193648Z
LAST-MODIFIED:20251214T141150Z
UID:10008347-1874861100-1874864700@www.fbcjeff.org
SUMMARY:Worship Ensemble Rehearsal
DESCRIPTION:
URL:https://www.fbcjeff.org/calendar/worship-ensemble-rehearsal/2029-05-30/
LOCATION:FBC Music Suite\, 1610 Russell Ave\, Jefferson City\, TN\, 37760\, United States
END:VEVENT
BEGIN:VEVENT
DTSTART;TZID=America/New_York:20290606T184500
DTEND;TZID=America/New_York:20290606T194500
DTSTAMP:20260419T113820
CREATED:20250717T193648Z
LAST-MODIFIED:20251214T141150Z
UID:10008348-1875465900-1875469500@www.fbcjeff.org
SUMMARY:Worship Ensemble Rehearsal
DESCRIPTION:
URL:https://www.fbcjeff.org/calendar/worship-ensemble-rehearsal/2029-06-06/
LOCATION:FBC Music Suite\, 1610 Russell Ave\, Jefferson City\, TN\, 37760\, United States
END:VEVENT
BEGIN:VEVENT
DTSTART;TZID=America/New_York:20290613T184500
DTEND;TZID=America/New_York:20290613T194500
DTSTAMP:20260419T113820
CREATED:20250717T193648Z
LAST-MODIFIED:20251214T141150Z
UID:10008349-1876070700-1876074300@www.fbcjeff.org
SUMMARY:Worship Ensemble Rehearsal
DESCRIPTION:
URL:https://www.fbcjeff.org/calendar/worship-ensemble-rehearsal/2029-06-13/
LOCATION:FBC Music Suite\, 1610 Russell Ave\, Jefferson City\, TN\, 37760\, United States
END:VEVENT
BEGIN:VEVENT
DTSTART;TZID=America/New_York:20290620T184500
DTEND;TZID=America/New_York:20290620T194500
DTSTAMP:20260419T113820
CREATED:20250717T193648Z
LAST-MODIFIED:20251214T141150Z
UID:10008350-1876675500-1876679100@www.fbcjeff.org
SUMMARY:Worship Ensemble Rehearsal
DESCRIPTION:
URL:https://www.fbcjeff.org/calendar/worship-ensemble-rehearsal/2029-06-20/
LOCATION:FBC Music Suite\, 1610 Russell Ave\, Jefferson City\, TN\, 37760\, United States
END:VEVENT
BEGIN:VEVENT
DTSTART;TZID=America/New_York:20290627T184500
DTEND;TZID=America/New_York:20290627T194500
DTSTAMP:20260419T113820
CREATED:20250717T193648Z
LAST-MODIFIED:20251214T141150Z
UID:10008351-1877280300-1877283900@www.fbcjeff.org
SUMMARY:Worship Ensemble Rehearsal
DESCRIPTION:
URL:https://www.fbcjeff.org/calendar/worship-ensemble-rehearsal/2029-06-27/
LOCATION:FBC Music Suite\, 1610 Russell Ave\, Jefferson City\, TN\, 37760\, United States
END:VEVENT
BEGIN:VEVENT
DTSTART;TZID=America/New_York:20290704T184500
DTEND;TZID=America/New_York:20290704T194500
DTSTAMP:20260419T113820
CREATED:20250717T193648Z
LAST-MODIFIED:20251214T141150Z
UID:10008352-1877885100-1877888700@www.fbcjeff.org
SUMMARY:Worship Ensemble Rehearsal
DESCRIPTION:
URL:https://www.fbcjeff.org/calendar/worship-ensemble-rehearsal/2029-07-04/
LOCATION:FBC Music Suite\, 1610 Russell Ave\, Jefferson City\, TN\, 37760\, United States
END:VEVENT
BEGIN:VEVENT
DTSTART;TZID=America/New_York:20290711T184500
DTEND;TZID=America/New_York:20290711T194500
DTSTAMP:20260419T113820
CREATED:20250717T193648Z
LAST-MODIFIED:20251214T141150Z
UID:10008353-1878489900-1878493500@www.fbcjeff.org
SUMMARY:Worship Ensemble Rehearsal
DESCRIPTION:
URL:https://www.fbcjeff.org/calendar/worship-ensemble-rehearsal/2029-07-11/
LOCATION:FBC Music Suite\, 1610 Russell Ave\, Jefferson City\, TN\, 37760\, United States
END:VEVENT
BEGIN:VEVENT
DTSTART;TZID=America/New_York:20290718T184500
DTEND;TZID=America/New_York:20290718T194500
DTSTAMP:20260419T113820
CREATED:20250717T193648Z
LAST-MODIFIED:20251214T141150Z
UID:10008354-1879094700-1879098300@www.fbcjeff.org
SUMMARY:Worship Ensemble Rehearsal
DESCRIPTION:
URL:https://www.fbcjeff.org/calendar/worship-ensemble-rehearsal/2029-07-18/
LOCATION:FBC Music Suite\, 1610 Russell Ave\, Jefferson City\, TN\, 37760\, United States
END:VEVENT
BEGIN:VEVENT
DTSTART;TZID=America/New_York:20290725T184500
DTEND;TZID=America/New_York:20290725T194500
DTSTAMP:20260419T113820
CREATED:20250717T193648Z
LAST-MODIFIED:20251214T141150Z
UID:10008355-1879699500-1879703100@www.fbcjeff.org
SUMMARY:Worship Ensemble Rehearsal
DESCRIPTION:
URL:https://www.fbcjeff.org/calendar/worship-ensemble-rehearsal/2029-07-25/
LOCATION:FBC Music Suite\, 1610 Russell Ave\, Jefferson City\, TN\, 37760\, United States
END:VEVENT
BEGIN:VEVENT
DTSTART;TZID=America/New_York:20290801T184500
DTEND;TZID=America/New_York:20290801T194500
DTSTAMP:20260419T113820
CREATED:20250717T193648Z
LAST-MODIFIED:20251214T141150Z
UID:10008356-1880304300-1880307900@www.fbcjeff.org
SUMMARY:Worship Ensemble Rehearsal
DESCRIPTION:
URL:https://www.fbcjeff.org/calendar/worship-ensemble-rehearsal/2029-08-01/
LOCATION:FBC Music Suite\, 1610 Russell Ave\, Jefferson City\, TN\, 37760\, United States
END:VEVENT
BEGIN:VEVENT
DTSTART;TZID=America/New_York:20290808T184500
DTEND;TZID=America/New_York:20290808T194500
DTSTAMP:20260419T113820
CREATED:20250717T193648Z
LAST-MODIFIED:20251214T141150Z
UID:10008357-1880909100-1880912700@www.fbcjeff.org
SUMMARY:Worship Ensemble Rehearsal
DESCRIPTION:
URL:https://www.fbcjeff.org/calendar/worship-ensemble-rehearsal/2029-08-08/
LOCATION:FBC Music Suite\, 1610 Russell Ave\, Jefferson City\, TN\, 37760\, United States
END:VEVENT
BEGIN:VEVENT
DTSTART;TZID=America/New_York:20290815T184500
DTEND;TZID=America/New_York:20290815T194500
DTSTAMP:20260419T113820
CREATED:20250717T193648Z
LAST-MODIFIED:20251214T141150Z
UID:10008358-1881513900-1881517500@www.fbcjeff.org
SUMMARY:Worship Ensemble Rehearsal
DESCRIPTION:
URL:https://www.fbcjeff.org/calendar/worship-ensemble-rehearsal/2029-08-15/
LOCATION:FBC Music Suite\, 1610 Russell Ave\, Jefferson City\, TN\, 37760\, United States
END:VEVENT
BEGIN:VEVENT
DTSTART;TZID=America/New_York:20290822T184500
DTEND;TZID=America/New_York:20290822T194500
DTSTAMP:20260419T113820
CREATED:20250717T193648Z
LAST-MODIFIED:20251214T141150Z
UID:10008359-1882118700-1882122300@www.fbcjeff.org
SUMMARY:Worship Ensemble Rehearsal
DESCRIPTION:
URL:https://www.fbcjeff.org/calendar/worship-ensemble-rehearsal/2029-08-22/
LOCATION:FBC Music Suite\, 1610 Russell Ave\, Jefferson City\, TN\, 37760\, United States
END:VEVENT
BEGIN:VEVENT
DTSTART;TZID=America/New_York:20290829T184500
DTEND;TZID=America/New_York:20290829T194500
DTSTAMP:20260419T113820
CREATED:20250717T193648Z
LAST-MODIFIED:20251214T141150Z
UID:10008360-1882723500-1882727100@www.fbcjeff.org
SUMMARY:Worship Ensemble Rehearsal
DESCRIPTION:
URL:https://www.fbcjeff.org/calendar/worship-ensemble-rehearsal/2029-08-29/
LOCATION:FBC Music Suite\, 1610 Russell Ave\, Jefferson City\, TN\, 37760\, United States
END:VEVENT
BEGIN:VEVENT
DTSTART;TZID=America/New_York:20290905T184500
DTEND;TZID=America/New_York:20290905T194500
DTSTAMP:20260419T113820
CREATED:20250717T193648Z
LAST-MODIFIED:20251214T141150Z
UID:10008361-1883328300-1883331900@www.fbcjeff.org
SUMMARY:Worship Ensemble Rehearsal
DESCRIPTION:
URL:https://www.fbcjeff.org/calendar/worship-ensemble-rehearsal/2029-09-05/
LOCATION:FBC Music Suite\, 1610 Russell Ave\, Jefferson City\, TN\, 37760\, United States
END:VEVENT
BEGIN:VEVENT
DTSTART;TZID=America/New_York:20290912T184500
DTEND;TZID=America/New_York:20290912T194500
DTSTAMP:20260419T113820
CREATED:20250717T193648Z
LAST-MODIFIED:20251214T141150Z
UID:10008362-1883933100-1883936700@www.fbcjeff.org
SUMMARY:Worship Ensemble Rehearsal
DESCRIPTION:
URL:https://www.fbcjeff.org/calendar/worship-ensemble-rehearsal/2029-09-12/
LOCATION:FBC Music Suite\, 1610 Russell Ave\, Jefferson City\, TN\, 37760\, United States
END:VEVENT
BEGIN:VEVENT
DTSTART;TZID=America/New_York:20290919T184500
DTEND;TZID=America/New_York:20290919T194500
DTSTAMP:20260419T113820
CREATED:20250717T193648Z
LAST-MODIFIED:20251214T141150Z
UID:10008363-1884537900-1884541500@www.fbcjeff.org
SUMMARY:Worship Ensemble Rehearsal
DESCRIPTION:
URL:https://www.fbcjeff.org/calendar/worship-ensemble-rehearsal/2029-09-19/
LOCATION:FBC Music Suite\, 1610 Russell Ave\, Jefferson City\, TN\, 37760\, United States
END:VEVENT
BEGIN:VEVENT
DTSTART;TZID=America/New_York:20290926T184500
DTEND;TZID=America/New_York:20290926T194500
DTSTAMP:20260419T113820
CREATED:20250717T193648Z
LAST-MODIFIED:20251214T141150Z
UID:10008364-1885142700-1885146300@www.fbcjeff.org
SUMMARY:Worship Ensemble Rehearsal
DESCRIPTION:
URL:https://www.fbcjeff.org/calendar/worship-ensemble-rehearsal/2029-09-26/
LOCATION:FBC Music Suite\, 1610 Russell Ave\, Jefferson City\, TN\, 37760\, United States
END:VEVENT
BEGIN:VEVENT
DTSTART;TZID=America/New_York:20291003T184500
DTEND;TZID=America/New_York:20291003T194500
DTSTAMP:20260419T113820
CREATED:20250717T193648Z
LAST-MODIFIED:20251214T141150Z
UID:10008365-1885747500-1885751100@www.fbcjeff.org
SUMMARY:Worship Ensemble Rehearsal
DESCRIPTION:
URL:https://www.fbcjeff.org/calendar/worship-ensemble-rehearsal/2029-10-03/
LOCATION:FBC Music Suite\, 1610 Russell Ave\, Jefferson City\, TN\, 37760\, United States
END:VEVENT
BEGIN:VEVENT
DTSTART;TZID=America/New_York:20291010T184500
DTEND;TZID=America/New_York:20291010T194500
DTSTAMP:20260419T113820
CREATED:20250717T193648Z
LAST-MODIFIED:20251214T141150Z
UID:10008366-1886352300-1886355900@www.fbcjeff.org
SUMMARY:Worship Ensemble Rehearsal
DESCRIPTION:
URL:https://www.fbcjeff.org/calendar/worship-ensemble-rehearsal/2029-10-10/
LOCATION:FBC Music Suite\, 1610 Russell Ave\, Jefferson City\, TN\, 37760\, United States
END:VEVENT
BEGIN:VEVENT
DTSTART;TZID=America/New_York:20291017T184500
DTEND;TZID=America/New_York:20291017T194500
DTSTAMP:20260419T113820
CREATED:20250717T193648Z
LAST-MODIFIED:20251214T141150Z
UID:10008367-1886957100-1886960700@www.fbcjeff.org
SUMMARY:Worship Ensemble Rehearsal
DESCRIPTION:
URL:https://www.fbcjeff.org/calendar/worship-ensemble-rehearsal/2029-10-17/
LOCATION:FBC Music Suite\, 1610 Russell Ave\, Jefferson City\, TN\, 37760\, United States
END:VEVENT
BEGIN:VEVENT
DTSTART;TZID=America/New_York:20291024T184500
DTEND;TZID=America/New_York:20291024T194500
DTSTAMP:20260419T113820
CREATED:20250717T193648Z
LAST-MODIFIED:20251214T141150Z
UID:10008368-1887561900-1887565500@www.fbcjeff.org
SUMMARY:Worship Ensemble Rehearsal
DESCRIPTION:
URL:https://www.fbcjeff.org/calendar/worship-ensemble-rehearsal/2029-10-24/
LOCATION:FBC Music Suite\, 1610 Russell Ave\, Jefferson City\, TN\, 37760\, United States
END:VEVENT
BEGIN:VEVENT
DTSTART;TZID=America/New_York:20291031T184500
DTEND;TZID=America/New_York:20291031T194500
DTSTAMP:20260419T113820
CREATED:20250717T193648Z
LAST-MODIFIED:20251214T141150Z
UID:10008369-1888166700-1888170300@www.fbcjeff.org
SUMMARY:Worship Ensemble Rehearsal
DESCRIPTION:
URL:https://www.fbcjeff.org/calendar/worship-ensemble-rehearsal/2029-10-31/
LOCATION:FBC Music Suite\, 1610 Russell Ave\, Jefferson City\, TN\, 37760\, United States
END:VEVENT
BEGIN:VEVENT
DTSTART;TZID=America/New_York:20291107T184500
DTEND;TZID=America/New_York:20291107T194500
DTSTAMP:20260419T113820
CREATED:20250717T193648Z
LAST-MODIFIED:20251214T141150Z
UID:10008370-1888771500-1888775100@www.fbcjeff.org
SUMMARY:Worship Ensemble Rehearsal
DESCRIPTION:
URL:https://www.fbcjeff.org/calendar/worship-ensemble-rehearsal/2029-11-07/
LOCATION:FBC Music Suite\, 1610 Russell Ave\, Jefferson City\, TN\, 37760\, United States
END:VEVENT
END:VCALENDAR