BEGIN:VCALENDAR
VERSION:2.0
PRODID:-//First Baptist Church, Jefferson City, TN - ECPv6.15.20//NONSGML v1.0//EN
CALSCALE:GREGORIAN
METHOD:PUBLISH
X-WR-CALNAME:First Baptist Church, Jefferson City, TN
X-ORIGINAL-URL:https://www.fbcjeff.org
X-WR-CALDESC:Events for First Baptist Church, Jefferson City, TN
REFRESH-INTERVAL;VALUE=DURATION:PT1H
X-Robots-Tag:noindex
X-PUBLISHED-TTL:PT1H
BEGIN:VTIMEZONE
TZID:America/New_York
BEGIN:DAYLIGHT
TZOFFSETFROM:-0500
TZOFFSETTO:-0400
TZNAME:EDT
DTSTART:20280312T070000
END:DAYLIGHT
BEGIN:STANDARD
TZOFFSETFROM:-0400
TZOFFSETTO:-0500
TZNAME:EST
DTSTART:20281105T060000
END:STANDARD
BEGIN:DAYLIGHT
TZOFFSETFROM:-0500
TZOFFSETTO:-0400
TZNAME:EDT
DTSTART:20290311T070000
END:DAYLIGHT
BEGIN:STANDARD
TZOFFSETFROM:-0400
TZOFFSETTO:-0500
TZNAME:EST
DTSTART:20291104T060000
END:STANDARD
BEGIN:DAYLIGHT
TZOFFSETFROM:-0500
TZOFFSETTO:-0400
TZNAME:EDT
DTSTART:20300310T070000
END:DAYLIGHT
BEGIN:STANDARD
TZOFFSETFROM:-0400
TZOFFSETTO:-0500
TZNAME:EST
DTSTART:20301103T060000
END:STANDARD
BEGIN:DAYLIGHT
TZOFFSETFROM:-0500
TZOFFSETTO:-0400
TZNAME:EDT
DTSTART:20310309T070000
END:DAYLIGHT
BEGIN:STANDARD
TZOFFSETFROM:-0400
TZOFFSETTO:-0500
TZNAME:EST
DTSTART:20311102T060000
END:STANDARD
END:VTIMEZONE
BEGIN:VEVENT
DTSTART;TZID=America/New_York:20291003T184500
DTEND;TZID=America/New_York:20291003T194500
DTSTAMP:20260419T153634
CREATED:20250717T193648Z
LAST-MODIFIED:20251214T141150Z
UID:10008365-1885747500-1885751100@www.fbcjeff.org
SUMMARY:Worship Ensemble Rehearsal
DESCRIPTION:
URL:https://www.fbcjeff.org/calendar/worship-ensemble-rehearsal/2029-10-03/
LOCATION:FBC Music Suite\, 1610 Russell Ave\, Jefferson City\, TN\, 37760\, United States
END:VEVENT
BEGIN:VEVENT
DTSTART;TZID=America/New_York:20291010T184500
DTEND;TZID=America/New_York:20291010T194500
DTSTAMP:20260419T153634
CREATED:20250717T193648Z
LAST-MODIFIED:20251214T141150Z
UID:10008366-1886352300-1886355900@www.fbcjeff.org
SUMMARY:Worship Ensemble Rehearsal
DESCRIPTION:
URL:https://www.fbcjeff.org/calendar/worship-ensemble-rehearsal/2029-10-10/
LOCATION:FBC Music Suite\, 1610 Russell Ave\, Jefferson City\, TN\, 37760\, United States
END:VEVENT
BEGIN:VEVENT
DTSTART;TZID=America/New_York:20291017T184500
DTEND;TZID=America/New_York:20291017T194500
DTSTAMP:20260419T153634
CREATED:20250717T193648Z
LAST-MODIFIED:20251214T141150Z
UID:10008367-1886957100-1886960700@www.fbcjeff.org
SUMMARY:Worship Ensemble Rehearsal
DESCRIPTION:
URL:https://www.fbcjeff.org/calendar/worship-ensemble-rehearsal/2029-10-17/
LOCATION:FBC Music Suite\, 1610 Russell Ave\, Jefferson City\, TN\, 37760\, United States
END:VEVENT
BEGIN:VEVENT
DTSTART;TZID=America/New_York:20291024T184500
DTEND;TZID=America/New_York:20291024T194500
DTSTAMP:20260419T153634
CREATED:20250717T193648Z
LAST-MODIFIED:20251214T141150Z
UID:10008368-1887561900-1887565500@www.fbcjeff.org
SUMMARY:Worship Ensemble Rehearsal
DESCRIPTION:
URL:https://www.fbcjeff.org/calendar/worship-ensemble-rehearsal/2029-10-24/
LOCATION:FBC Music Suite\, 1610 Russell Ave\, Jefferson City\, TN\, 37760\, United States
END:VEVENT
BEGIN:VEVENT
DTSTART;TZID=America/New_York:20291031T184500
DTEND;TZID=America/New_York:20291031T194500
DTSTAMP:20260419T153634
CREATED:20250717T193648Z
LAST-MODIFIED:20251214T141150Z
UID:10008369-1888166700-1888170300@www.fbcjeff.org
SUMMARY:Worship Ensemble Rehearsal
DESCRIPTION:
URL:https://www.fbcjeff.org/calendar/worship-ensemble-rehearsal/2029-10-31/
LOCATION:FBC Music Suite\, 1610 Russell Ave\, Jefferson City\, TN\, 37760\, United States
END:VEVENT
BEGIN:VEVENT
DTSTART;TZID=America/New_York:20291107T184500
DTEND;TZID=America/New_York:20291107T194500
DTSTAMP:20260419T153634
CREATED:20250717T193648Z
LAST-MODIFIED:20251214T141150Z
UID:10008370-1888771500-1888775100@www.fbcjeff.org
SUMMARY:Worship Ensemble Rehearsal
DESCRIPTION:
URL:https://www.fbcjeff.org/calendar/worship-ensemble-rehearsal/2029-11-07/
LOCATION:FBC Music Suite\, 1610 Russell Ave\, Jefferson City\, TN\, 37760\, United States
END:VEVENT
BEGIN:VEVENT
DTSTART;TZID=America/New_York:20291114T184500
DTEND;TZID=America/New_York:20291114T194500
DTSTAMP:20260419T153634
CREATED:20250717T193648Z
LAST-MODIFIED:20251214T141150Z
UID:10008371-1889376300-1889379900@www.fbcjeff.org
SUMMARY:Worship Ensemble Rehearsal
DESCRIPTION:
URL:https://www.fbcjeff.org/calendar/worship-ensemble-rehearsal/2029-11-14/
LOCATION:FBC Music Suite\, 1610 Russell Ave\, Jefferson City\, TN\, 37760\, United States
END:VEVENT
BEGIN:VEVENT
DTSTART;TZID=America/New_York:20291121T184500
DTEND;TZID=America/New_York:20291121T194500
DTSTAMP:20260419T153634
CREATED:20250717T193648Z
LAST-MODIFIED:20251214T141150Z
UID:10008372-1889981100-1889984700@www.fbcjeff.org
SUMMARY:Worship Ensemble Rehearsal
DESCRIPTION:
URL:https://www.fbcjeff.org/calendar/worship-ensemble-rehearsal/2029-11-21/
LOCATION:FBC Music Suite\, 1610 Russell Ave\, Jefferson City\, TN\, 37760\, United States
END:VEVENT
BEGIN:VEVENT
DTSTART;TZID=America/New_York:20291128T184500
DTEND;TZID=America/New_York:20291128T194500
DTSTAMP:20260419T153634
CREATED:20250717T193648Z
LAST-MODIFIED:20251214T141150Z
UID:10008373-1890585900-1890589500@www.fbcjeff.org
SUMMARY:Worship Ensemble Rehearsal
DESCRIPTION:
URL:https://www.fbcjeff.org/calendar/worship-ensemble-rehearsal/2029-11-28/
LOCATION:FBC Music Suite\, 1610 Russell Ave\, Jefferson City\, TN\, 37760\, United States
END:VEVENT
BEGIN:VEVENT
DTSTART;TZID=America/New_York:20291205T184500
DTEND;TZID=America/New_York:20291205T194500
DTSTAMP:20260419T153634
CREATED:20250717T193648Z
LAST-MODIFIED:20251214T141150Z
UID:10008374-1891190700-1891194300@www.fbcjeff.org
SUMMARY:Worship Ensemble Rehearsal
DESCRIPTION:
URL:https://www.fbcjeff.org/calendar/worship-ensemble-rehearsal/2029-12-05/
LOCATION:FBC Music Suite\, 1610 Russell Ave\, Jefferson City\, TN\, 37760\, United States
END:VEVENT
BEGIN:VEVENT
DTSTART;TZID=America/New_York:20291212T184500
DTEND;TZID=America/New_York:20291212T194500
DTSTAMP:20260419T153634
CREATED:20250717T193648Z
LAST-MODIFIED:20251214T141150Z
UID:10008375-1891795500-1891799100@www.fbcjeff.org
SUMMARY:Worship Ensemble Rehearsal
DESCRIPTION:
URL:https://www.fbcjeff.org/calendar/worship-ensemble-rehearsal/2029-12-12/
LOCATION:FBC Music Suite\, 1610 Russell Ave\, Jefferson City\, TN\, 37760\, United States
END:VEVENT
BEGIN:VEVENT
DTSTART;TZID=America/New_York:20291219T184500
DTEND;TZID=America/New_York:20291219T194500
DTSTAMP:20260419T153634
CREATED:20250717T193648Z
LAST-MODIFIED:20251214T141150Z
UID:10008376-1892400300-1892403900@www.fbcjeff.org
SUMMARY:Worship Ensemble Rehearsal
DESCRIPTION:
URL:https://www.fbcjeff.org/calendar/worship-ensemble-rehearsal/2029-12-19/
LOCATION:FBC Music Suite\, 1610 Russell Ave\, Jefferson City\, TN\, 37760\, United States
END:VEVENT
BEGIN:VEVENT
DTSTART;TZID=America/New_York:20291226T184500
DTEND;TZID=America/New_York:20291226T194500
DTSTAMP:20260419T153634
CREATED:20250717T193648Z
LAST-MODIFIED:20251214T141150Z
UID:10008377-1893005100-1893008700@www.fbcjeff.org
SUMMARY:Worship Ensemble Rehearsal
DESCRIPTION:
URL:https://www.fbcjeff.org/calendar/worship-ensemble-rehearsal/2029-12-26/
LOCATION:FBC Music Suite\, 1610 Russell Ave\, Jefferson City\, TN\, 37760\, United States
END:VEVENT
BEGIN:VEVENT
DTSTART;TZID=America/New_York:20300102T184500
DTEND;TZID=America/New_York:20300102T194500
DTSTAMP:20260419T153634
CREATED:20250717T193648Z
LAST-MODIFIED:20251214T141150Z
UID:10008378-1893609900-1893613500@www.fbcjeff.org
SUMMARY:Worship Ensemble Rehearsal
DESCRIPTION:
URL:https://www.fbcjeff.org/calendar/worship-ensemble-rehearsal/2030-01-02/
LOCATION:FBC Music Suite\, 1610 Russell Ave\, Jefferson City\, TN\, 37760\, United States
END:VEVENT
BEGIN:VEVENT
DTSTART;TZID=America/New_York:20300109T184500
DTEND;TZID=America/New_York:20300109T194500
DTSTAMP:20260419T153634
CREATED:20250717T193648Z
LAST-MODIFIED:20251214T141150Z
UID:10008379-1894214700-1894218300@www.fbcjeff.org
SUMMARY:Worship Ensemble Rehearsal
DESCRIPTION:
URL:https://www.fbcjeff.org/calendar/worship-ensemble-rehearsal/2030-01-09/
LOCATION:FBC Music Suite\, 1610 Russell Ave\, Jefferson City\, TN\, 37760\, United States
END:VEVENT
BEGIN:VEVENT
DTSTART;TZID=America/New_York:20300116T184500
DTEND;TZID=America/New_York:20300116T194500
DTSTAMP:20260419T153634
CREATED:20250717T193648Z
LAST-MODIFIED:20251214T141150Z
UID:10008380-1894819500-1894823100@www.fbcjeff.org
SUMMARY:Worship Ensemble Rehearsal
DESCRIPTION:
URL:https://www.fbcjeff.org/calendar/worship-ensemble-rehearsal/2030-01-16/
LOCATION:FBC Music Suite\, 1610 Russell Ave\, Jefferson City\, TN\, 37760\, United States
END:VEVENT
BEGIN:VEVENT
DTSTART;TZID=America/New_York:20300123T184500
DTEND;TZID=America/New_York:20300123T194500
DTSTAMP:20260419T153634
CREATED:20250717T193648Z
LAST-MODIFIED:20251214T141150Z
UID:10008381-1895424300-1895427900@www.fbcjeff.org
SUMMARY:Worship Ensemble Rehearsal
DESCRIPTION:
URL:https://www.fbcjeff.org/calendar/worship-ensemble-rehearsal/2030-01-23/
LOCATION:FBC Music Suite\, 1610 Russell Ave\, Jefferson City\, TN\, 37760\, United States
END:VEVENT
BEGIN:VEVENT
DTSTART;TZID=America/New_York:20300130T184500
DTEND;TZID=America/New_York:20300130T194500
DTSTAMP:20260419T153634
CREATED:20250717T193648Z
LAST-MODIFIED:20251214T141150Z
UID:10008382-1896029100-1896032700@www.fbcjeff.org
SUMMARY:Worship Ensemble Rehearsal
DESCRIPTION:
URL:https://www.fbcjeff.org/calendar/worship-ensemble-rehearsal/2030-01-30/
LOCATION:FBC Music Suite\, 1610 Russell Ave\, Jefferson City\, TN\, 37760\, United States
END:VEVENT
BEGIN:VEVENT
DTSTART;TZID=America/New_York:20300206T184500
DTEND;TZID=America/New_York:20300206T194500
DTSTAMP:20260419T153634
CREATED:20250717T193648Z
LAST-MODIFIED:20251214T141150Z
UID:10008383-1896633900-1896637500@www.fbcjeff.org
SUMMARY:Worship Ensemble Rehearsal
DESCRIPTION:
URL:https://www.fbcjeff.org/calendar/worship-ensemble-rehearsal/2030-02-06/
LOCATION:FBC Music Suite\, 1610 Russell Ave\, Jefferson City\, TN\, 37760\, United States
END:VEVENT
BEGIN:VEVENT
DTSTART;TZID=America/New_York:20300213T184500
DTEND;TZID=America/New_York:20300213T194500
DTSTAMP:20260419T153634
CREATED:20250717T193648Z
LAST-MODIFIED:20251214T141150Z
UID:10008384-1897238700-1897242300@www.fbcjeff.org
SUMMARY:Worship Ensemble Rehearsal
DESCRIPTION:
URL:https://www.fbcjeff.org/calendar/worship-ensemble-rehearsal/2030-02-13/
LOCATION:FBC Music Suite\, 1610 Russell Ave\, Jefferson City\, TN\, 37760\, United States
END:VEVENT
BEGIN:VEVENT
DTSTART;TZID=America/New_York:20300220T184500
DTEND;TZID=America/New_York:20300220T194500
DTSTAMP:20260419T153634
CREATED:20250717T193648Z
LAST-MODIFIED:20251214T141150Z
UID:10008385-1897843500-1897847100@www.fbcjeff.org
SUMMARY:Worship Ensemble Rehearsal
DESCRIPTION:
URL:https://www.fbcjeff.org/calendar/worship-ensemble-rehearsal/2030-02-20/
LOCATION:FBC Music Suite\, 1610 Russell Ave\, Jefferson City\, TN\, 37760\, United States
END:VEVENT
BEGIN:VEVENT
DTSTART;TZID=America/New_York:20300227T184500
DTEND;TZID=America/New_York:20300227T194500
DTSTAMP:20260419T153634
CREATED:20250717T193648Z
LAST-MODIFIED:20251214T141150Z
UID:10008386-1898448300-1898451900@www.fbcjeff.org
SUMMARY:Worship Ensemble Rehearsal
DESCRIPTION:
URL:https://www.fbcjeff.org/calendar/worship-ensemble-rehearsal/2030-02-27/
LOCATION:FBC Music Suite\, 1610 Russell Ave\, Jefferson City\, TN\, 37760\, United States
END:VEVENT
BEGIN:VEVENT
DTSTART;TZID=America/New_York:20300306T184500
DTEND;TZID=America/New_York:20300306T194500
DTSTAMP:20260419T153634
CREATED:20250717T193648Z
LAST-MODIFIED:20251214T141150Z
UID:10008387-1899053100-1899056700@www.fbcjeff.org
SUMMARY:Worship Ensemble Rehearsal
DESCRIPTION:
URL:https://www.fbcjeff.org/calendar/worship-ensemble-rehearsal/2030-03-06/
LOCATION:FBC Music Suite\, 1610 Russell Ave\, Jefferson City\, TN\, 37760\, United States
END:VEVENT
BEGIN:VEVENT
DTSTART;TZID=America/New_York:20300313T184500
DTEND;TZID=America/New_York:20300313T194500
DTSTAMP:20260419T153634
CREATED:20250717T193648Z
LAST-MODIFIED:20251214T141150Z
UID:10008388-1899657900-1899661500@www.fbcjeff.org
SUMMARY:Worship Ensemble Rehearsal
DESCRIPTION:
URL:https://www.fbcjeff.org/calendar/worship-ensemble-rehearsal/2030-03-13/
LOCATION:FBC Music Suite\, 1610 Russell Ave\, Jefferson City\, TN\, 37760\, United States
END:VEVENT
BEGIN:VEVENT
DTSTART;TZID=America/New_York:20300320T184500
DTEND;TZID=America/New_York:20300320T194500
DTSTAMP:20260419T153634
CREATED:20250717T193648Z
LAST-MODIFIED:20251214T141150Z
UID:10008389-1900262700-1900266300@www.fbcjeff.org
SUMMARY:Worship Ensemble Rehearsal
DESCRIPTION:
URL:https://www.fbcjeff.org/calendar/worship-ensemble-rehearsal/2030-03-20/
LOCATION:FBC Music Suite\, 1610 Russell Ave\, Jefferson City\, TN\, 37760\, United States
END:VEVENT
BEGIN:VEVENT
DTSTART;TZID=America/New_York:20300327T184500
DTEND;TZID=America/New_York:20300327T194500
DTSTAMP:20260419T153634
CREATED:20250717T193648Z
LAST-MODIFIED:20251214T141150Z
UID:10008390-1900867500-1900871100@www.fbcjeff.org
SUMMARY:Worship Ensemble Rehearsal
DESCRIPTION:
URL:https://www.fbcjeff.org/calendar/worship-ensemble-rehearsal/2030-03-27/
LOCATION:FBC Music Suite\, 1610 Russell Ave\, Jefferson City\, TN\, 37760\, United States
END:VEVENT
BEGIN:VEVENT
DTSTART;TZID=America/New_York:20300403T184500
DTEND;TZID=America/New_York:20300403T194500
DTSTAMP:20260419T153634
CREATED:20250717T193648Z
LAST-MODIFIED:20251214T141150Z
UID:10008391-1901472300-1901475900@www.fbcjeff.org
SUMMARY:Worship Ensemble Rehearsal
DESCRIPTION:
URL:https://www.fbcjeff.org/calendar/worship-ensemble-rehearsal/2030-04-03/
LOCATION:FBC Music Suite\, 1610 Russell Ave\, Jefferson City\, TN\, 37760\, United States
END:VEVENT
BEGIN:VEVENT
DTSTART;TZID=America/New_York:20300410T184500
DTEND;TZID=America/New_York:20300410T194500
DTSTAMP:20260419T153634
CREATED:20250717T193648Z
LAST-MODIFIED:20251214T141150Z
UID:10008392-1902077100-1902080700@www.fbcjeff.org
SUMMARY:Worship Ensemble Rehearsal
DESCRIPTION:
URL:https://www.fbcjeff.org/calendar/worship-ensemble-rehearsal/2030-04-10/
LOCATION:FBC Music Suite\, 1610 Russell Ave\, Jefferson City\, TN\, 37760\, United States
END:VEVENT
BEGIN:VEVENT
DTSTART;TZID=America/New_York:20300417T184500
DTEND;TZID=America/New_York:20300417T194500
DTSTAMP:20260419T153634
CREATED:20250717T193648Z
LAST-MODIFIED:20251214T141150Z
UID:10008393-1902681900-1902685500@www.fbcjeff.org
SUMMARY:Worship Ensemble Rehearsal
DESCRIPTION:
URL:https://www.fbcjeff.org/calendar/worship-ensemble-rehearsal/2030-04-17/
LOCATION:FBC Music Suite\, 1610 Russell Ave\, Jefferson City\, TN\, 37760\, United States
END:VEVENT
BEGIN:VEVENT
DTSTART;TZID=America/New_York:20300424T184500
DTEND;TZID=America/New_York:20300424T194500
DTSTAMP:20260419T153634
CREATED:20250717T193648Z
LAST-MODIFIED:20251214T141150Z
UID:10008394-1903286700-1903290300@www.fbcjeff.org
SUMMARY:Worship Ensemble Rehearsal
DESCRIPTION:
URL:https://www.fbcjeff.org/calendar/worship-ensemble-rehearsal/2030-04-24/
LOCATION:FBC Music Suite\, 1610 Russell Ave\, Jefferson City\, TN\, 37760\, United States
END:VEVENT
END:VCALENDAR