BEGIN:VCALENDAR
VERSION:2.0
PRODID:-//First Baptist Church, Jefferson City, TN - ECPv6.15.20//NONSGML v1.0//EN
CALSCALE:GREGORIAN
METHOD:PUBLISH
X-ORIGINAL-URL:https://www.fbcjeff.org
X-WR-CALDESC:Events for First Baptist Church, Jefferson City, TN
REFRESH-INTERVAL;VALUE=DURATION:PT1H
X-Robots-Tag:noindex
X-PUBLISHED-TTL:PT1H
BEGIN:VTIMEZONE
TZID:America/New_York
BEGIN:DAYLIGHT
TZOFFSETFROM:-0500
TZOFFSETTO:-0400
TZNAME:EDT
DTSTART:20290311T070000
END:DAYLIGHT
BEGIN:STANDARD
TZOFFSETFROM:-0400
TZOFFSETTO:-0500
TZNAME:EST
DTSTART:20291104T060000
END:STANDARD
BEGIN:DAYLIGHT
TZOFFSETFROM:-0500
TZOFFSETTO:-0400
TZNAME:EDT
DTSTART:20300310T070000
END:DAYLIGHT
BEGIN:STANDARD
TZOFFSETFROM:-0400
TZOFFSETTO:-0500
TZNAME:EST
DTSTART:20301103T060000
END:STANDARD
BEGIN:DAYLIGHT
TZOFFSETFROM:-0500
TZOFFSETTO:-0400
TZNAME:EDT
DTSTART:20310309T070000
END:DAYLIGHT
BEGIN:STANDARD
TZOFFSETFROM:-0400
TZOFFSETTO:-0500
TZNAME:EST
DTSTART:20311102T060000
END:STANDARD
BEGIN:DAYLIGHT
TZOFFSETFROM:-0500
TZOFFSETTO:-0400
TZNAME:EDT
DTSTART:20320314T070000
END:DAYLIGHT
BEGIN:STANDARD
TZOFFSETFROM:-0400
TZOFFSETTO:-0500
TZNAME:EST
DTSTART:20321107T060000
END:STANDARD
END:VTIMEZONE
BEGIN:VEVENT
DTSTART;TZID=America/New_York:20300612T184500
DTEND;TZID=America/New_York:20300612T194500
DTSTAMP:20260419T201701
CREATED:20250717T193648Z
LAST-MODIFIED:20251214T141150Z
UID:10008401-1907520300-1907523900@www.fbcjeff.org
SUMMARY:Worship Ensemble Rehearsal
DESCRIPTION:
URL:https://www.fbcjeff.org/calendar/worship-ensemble-rehearsal/2030-06-12/
LOCATION:FBC Music Suite\, 1610 Russell Ave\, Jefferson City\, TN\, 37760\, United States
END:VEVENT
BEGIN:VEVENT
DTSTART;TZID=America/New_York:20300619T184500
DTEND;TZID=America/New_York:20300619T194500
DTSTAMP:20260419T201701
CREATED:20250717T193648Z
LAST-MODIFIED:20251214T141150Z
UID:10008402-1908125100-1908128700@www.fbcjeff.org
SUMMARY:Worship Ensemble Rehearsal
DESCRIPTION:
URL:https://www.fbcjeff.org/calendar/worship-ensemble-rehearsal/2030-06-19/
LOCATION:FBC Music Suite\, 1610 Russell Ave\, Jefferson City\, TN\, 37760\, United States
END:VEVENT
BEGIN:VEVENT
DTSTART;TZID=America/New_York:20300626T184500
DTEND;TZID=America/New_York:20300626T194500
DTSTAMP:20260419T201701
CREATED:20250717T193648Z
LAST-MODIFIED:20251214T141150Z
UID:10008403-1908729900-1908733500@www.fbcjeff.org
SUMMARY:Worship Ensemble Rehearsal
DESCRIPTION:
URL:https://www.fbcjeff.org/calendar/worship-ensemble-rehearsal/2030-06-26/
LOCATION:FBC Music Suite\, 1610 Russell Ave\, Jefferson City\, TN\, 37760\, United States
END:VEVENT
BEGIN:VEVENT
DTSTART;TZID=America/New_York:20300703T184500
DTEND;TZID=America/New_York:20300703T194500
DTSTAMP:20260419T201701
CREATED:20250717T193648Z
LAST-MODIFIED:20251214T141150Z
UID:10008404-1909334700-1909338300@www.fbcjeff.org
SUMMARY:Worship Ensemble Rehearsal
DESCRIPTION:
URL:https://www.fbcjeff.org/calendar/worship-ensemble-rehearsal/2030-07-03/
LOCATION:FBC Music Suite\, 1610 Russell Ave\, Jefferson City\, TN\, 37760\, United States
END:VEVENT
BEGIN:VEVENT
DTSTART;TZID=America/New_York:20300710T184500
DTEND;TZID=America/New_York:20300710T194500
DTSTAMP:20260419T201701
CREATED:20250717T193648Z
LAST-MODIFIED:20251214T141150Z
UID:10008405-1909939500-1909943100@www.fbcjeff.org
SUMMARY:Worship Ensemble Rehearsal
DESCRIPTION:
URL:https://www.fbcjeff.org/calendar/worship-ensemble-rehearsal/2030-07-10/
LOCATION:FBC Music Suite\, 1610 Russell Ave\, Jefferson City\, TN\, 37760\, United States
END:VEVENT
BEGIN:VEVENT
DTSTART;TZID=America/New_York:20300717T184500
DTEND;TZID=America/New_York:20300717T194500
DTSTAMP:20260419T201701
CREATED:20250717T193648Z
LAST-MODIFIED:20251214T141150Z
UID:10008406-1910544300-1910547900@www.fbcjeff.org
SUMMARY:Worship Ensemble Rehearsal
DESCRIPTION:
URL:https://www.fbcjeff.org/calendar/worship-ensemble-rehearsal/2030-07-17/
LOCATION:FBC Music Suite\, 1610 Russell Ave\, Jefferson City\, TN\, 37760\, United States
END:VEVENT
BEGIN:VEVENT
DTSTART;TZID=America/New_York:20300724T184500
DTEND;TZID=America/New_York:20300724T194500
DTSTAMP:20260419T201701
CREATED:20250717T193648Z
LAST-MODIFIED:20251214T141150Z
UID:10009818-1911149100-1911152700@www.fbcjeff.org
SUMMARY:Worship Ensemble Rehearsal
DESCRIPTION:
URL:https://www.fbcjeff.org/calendar/worship-ensemble-rehearsal/2030-07-24/
LOCATION:FBC Music Suite\, 1610 Russell Ave\, Jefferson City\, TN\, 37760\, United States
END:VEVENT
BEGIN:VEVENT
DTSTART;TZID=America/New_York:20300731T184500
DTEND;TZID=America/New_York:20300731T194500
DTSTAMP:20260419T201701
CREATED:20250717T193648Z
LAST-MODIFIED:20251214T141150Z
UID:10009819-1911753900-1911757500@www.fbcjeff.org
SUMMARY:Worship Ensemble Rehearsal
DESCRIPTION:
URL:https://www.fbcjeff.org/calendar/worship-ensemble-rehearsal/2030-07-31/
LOCATION:FBC Music Suite\, 1610 Russell Ave\, Jefferson City\, TN\, 37760\, United States
END:VEVENT
BEGIN:VEVENT
DTSTART;TZID=America/New_York:20300807T184500
DTEND;TZID=America/New_York:20300807T194500
DTSTAMP:20260419T201701
CREATED:20250717T193648Z
LAST-MODIFIED:20251214T141150Z
UID:10009820-1912358700-1912362300@www.fbcjeff.org
SUMMARY:Worship Ensemble Rehearsal
DESCRIPTION:
URL:https://www.fbcjeff.org/calendar/worship-ensemble-rehearsal/2030-08-07/
LOCATION:FBC Music Suite\, 1610 Russell Ave\, Jefferson City\, TN\, 37760\, United States
END:VEVENT
BEGIN:VEVENT
DTSTART;TZID=America/New_York:20300814T184500
DTEND;TZID=America/New_York:20300814T194500
DTSTAMP:20260419T201701
CREATED:20250717T193648Z
LAST-MODIFIED:20251214T141150Z
UID:10009821-1912963500-1912967100@www.fbcjeff.org
SUMMARY:Worship Ensemble Rehearsal
DESCRIPTION:
URL:https://www.fbcjeff.org/calendar/worship-ensemble-rehearsal/2030-08-14/
LOCATION:FBC Music Suite\, 1610 Russell Ave\, Jefferson City\, TN\, 37760\, United States
END:VEVENT
BEGIN:VEVENT
DTSTART;TZID=America/New_York:20300821T184500
DTEND;TZID=America/New_York:20300821T194500
DTSTAMP:20260419T201701
CREATED:20250717T193648Z
LAST-MODIFIED:20251214T141150Z
UID:10009822-1913568300-1913571900@www.fbcjeff.org
SUMMARY:Worship Ensemble Rehearsal
DESCRIPTION:
URL:https://www.fbcjeff.org/calendar/worship-ensemble-rehearsal/2030-08-21/
LOCATION:FBC Music Suite\, 1610 Russell Ave\, Jefferson City\, TN\, 37760\, United States
END:VEVENT
BEGIN:VEVENT
DTSTART;TZID=America/New_York:20300828T184500
DTEND;TZID=America/New_York:20300828T194500
DTSTAMP:20260419T201701
CREATED:20250717T193648Z
LAST-MODIFIED:20251214T141150Z
UID:10009823-1914173100-1914176700@www.fbcjeff.org
SUMMARY:Worship Ensemble Rehearsal
DESCRIPTION:
URL:https://www.fbcjeff.org/calendar/worship-ensemble-rehearsal/2030-08-28/
LOCATION:FBC Music Suite\, 1610 Russell Ave\, Jefferson City\, TN\, 37760\, United States
END:VEVENT
BEGIN:VEVENT
DTSTART;TZID=America/New_York:20300904T184500
DTEND;TZID=America/New_York:20300904T194500
DTSTAMP:20260419T201701
CREATED:20250717T193648Z
LAST-MODIFIED:20251214T141150Z
UID:10009824-1914777900-1914781500@www.fbcjeff.org
SUMMARY:Worship Ensemble Rehearsal
DESCRIPTION:
URL:https://www.fbcjeff.org/calendar/worship-ensemble-rehearsal/2030-09-04/
LOCATION:FBC Music Suite\, 1610 Russell Ave\, Jefferson City\, TN\, 37760\, United States
END:VEVENT
BEGIN:VEVENT
DTSTART;TZID=America/New_York:20300911T184500
DTEND;TZID=America/New_York:20300911T194500
DTSTAMP:20260419T201701
CREATED:20250717T193648Z
LAST-MODIFIED:20251214T141150Z
UID:10009825-1915382700-1915386300@www.fbcjeff.org
SUMMARY:Worship Ensemble Rehearsal
DESCRIPTION:
URL:https://www.fbcjeff.org/calendar/worship-ensemble-rehearsal/2030-09-11/
LOCATION:FBC Music Suite\, 1610 Russell Ave\, Jefferson City\, TN\, 37760\, United States
END:VEVENT
BEGIN:VEVENT
DTSTART;TZID=America/New_York:20300918T184500
DTEND;TZID=America/New_York:20300918T194500
DTSTAMP:20260419T201701
CREATED:20250717T193648Z
LAST-MODIFIED:20251214T141150Z
UID:10009826-1915987500-1915991100@www.fbcjeff.org
SUMMARY:Worship Ensemble Rehearsal
DESCRIPTION:
URL:https://www.fbcjeff.org/calendar/worship-ensemble-rehearsal/2030-09-18/
LOCATION:FBC Music Suite\, 1610 Russell Ave\, Jefferson City\, TN\, 37760\, United States
END:VEVENT
BEGIN:VEVENT
DTSTART;TZID=America/New_York:20300925T184500
DTEND;TZID=America/New_York:20300925T194500
DTSTAMP:20260419T201701
CREATED:20250717T193648Z
LAST-MODIFIED:20251214T141150Z
UID:10009827-1916592300-1916595900@www.fbcjeff.org
SUMMARY:Worship Ensemble Rehearsal
DESCRIPTION:
URL:https://www.fbcjeff.org/calendar/worship-ensemble-rehearsal/2030-09-25/
LOCATION:FBC Music Suite\, 1610 Russell Ave\, Jefferson City\, TN\, 37760\, United States
END:VEVENT
BEGIN:VEVENT
DTSTART;TZID=America/New_York:20301002T184500
DTEND;TZID=America/New_York:20301002T194500
DTSTAMP:20260419T201701
CREATED:20250717T193648Z
LAST-MODIFIED:20251214T141150Z
UID:10009828-1917197100-1917200700@www.fbcjeff.org
SUMMARY:Worship Ensemble Rehearsal
DESCRIPTION:
URL:https://www.fbcjeff.org/calendar/worship-ensemble-rehearsal/2030-10-02/
LOCATION:FBC Music Suite\, 1610 Russell Ave\, Jefferson City\, TN\, 37760\, United States
END:VEVENT
BEGIN:VEVENT
DTSTART;TZID=America/New_York:20301009T184500
DTEND;TZID=America/New_York:20301009T194500
DTSTAMP:20260419T201701
CREATED:20250717T193648Z
LAST-MODIFIED:20251214T141150Z
UID:10009829-1917801900-1917805500@www.fbcjeff.org
SUMMARY:Worship Ensemble Rehearsal
DESCRIPTION:
URL:https://www.fbcjeff.org/calendar/worship-ensemble-rehearsal/2030-10-09/
LOCATION:FBC Music Suite\, 1610 Russell Ave\, Jefferson City\, TN\, 37760\, United States
END:VEVENT
BEGIN:VEVENT
DTSTART;TZID=America/New_York:20301016T184500
DTEND;TZID=America/New_York:20301016T194500
DTSTAMP:20260419T201701
CREATED:20250717T193648Z
LAST-MODIFIED:20251214T141150Z
UID:10009830-1918406700-1918410300@www.fbcjeff.org
SUMMARY:Worship Ensemble Rehearsal
DESCRIPTION:
URL:https://www.fbcjeff.org/calendar/worship-ensemble-rehearsal/2030-10-16/
LOCATION:FBC Music Suite\, 1610 Russell Ave\, Jefferson City\, TN\, 37760\, United States
END:VEVENT
BEGIN:VEVENT
DTSTART;TZID=America/New_York:20301023T184500
DTEND;TZID=America/New_York:20301023T194500
DTSTAMP:20260419T201701
CREATED:20250717T193648Z
LAST-MODIFIED:20251214T141150Z
UID:10009831-1919011500-1919015100@www.fbcjeff.org
SUMMARY:Worship Ensemble Rehearsal
DESCRIPTION:
URL:https://www.fbcjeff.org/calendar/worship-ensemble-rehearsal/2030-10-23/
LOCATION:FBC Music Suite\, 1610 Russell Ave\, Jefferson City\, TN\, 37760\, United States
END:VEVENT
BEGIN:VEVENT
DTSTART;TZID=America/New_York:20301030T184500
DTEND;TZID=America/New_York:20301030T194500
DTSTAMP:20260419T201701
CREATED:20250717T193648Z
LAST-MODIFIED:20251214T141150Z
UID:10009832-1919616300-1919619900@www.fbcjeff.org
SUMMARY:Worship Ensemble Rehearsal
DESCRIPTION:
URL:https://www.fbcjeff.org/calendar/worship-ensemble-rehearsal/2030-10-30/
LOCATION:FBC Music Suite\, 1610 Russell Ave\, Jefferson City\, TN\, 37760\, United States
END:VEVENT
BEGIN:VEVENT
DTSTART;TZID=America/New_York:20301106T184500
DTEND;TZID=America/New_York:20301106T194500
DTSTAMP:20260419T201701
CREATED:20250717T193648Z
LAST-MODIFIED:20251214T141150Z
UID:10009833-1920221100-1920224700@www.fbcjeff.org
SUMMARY:Worship Ensemble Rehearsal
DESCRIPTION:
URL:https://www.fbcjeff.org/calendar/worship-ensemble-rehearsal/2030-11-06/
LOCATION:FBC Music Suite\, 1610 Russell Ave\, Jefferson City\, TN\, 37760\, United States
END:VEVENT
BEGIN:VEVENT
DTSTART;TZID=America/New_York:20301113T184500
DTEND;TZID=America/New_York:20301113T194500
DTSTAMP:20260419T201701
CREATED:20250717T193648Z
LAST-MODIFIED:20251214T141150Z
UID:10009834-1920825900-1920829500@www.fbcjeff.org
SUMMARY:Worship Ensemble Rehearsal
DESCRIPTION:
URL:https://www.fbcjeff.org/calendar/worship-ensemble-rehearsal/2030-11-13/
LOCATION:FBC Music Suite\, 1610 Russell Ave\, Jefferson City\, TN\, 37760\, United States
END:VEVENT
BEGIN:VEVENT
DTSTART;TZID=America/New_York:20301120T184500
DTEND;TZID=America/New_York:20301120T194500
DTSTAMP:20260419T201701
CREATED:20250717T193648Z
LAST-MODIFIED:20251214T141150Z
UID:10009835-1921430700-1921434300@www.fbcjeff.org
SUMMARY:Worship Ensemble Rehearsal
DESCRIPTION:
URL:https://www.fbcjeff.org/calendar/worship-ensemble-rehearsal/2030-11-20/
LOCATION:FBC Music Suite\, 1610 Russell Ave\, Jefferson City\, TN\, 37760\, United States
END:VEVENT
BEGIN:VEVENT
DTSTART;TZID=America/New_York:20301127T184500
DTEND;TZID=America/New_York:20301127T194500
DTSTAMP:20260419T201701
CREATED:20250717T193648Z
LAST-MODIFIED:20251214T141150Z
UID:10009836-1922035500-1922039100@www.fbcjeff.org
SUMMARY:Worship Ensemble Rehearsal
DESCRIPTION:
URL:https://www.fbcjeff.org/calendar/worship-ensemble-rehearsal/2030-11-27/
LOCATION:FBC Music Suite\, 1610 Russell Ave\, Jefferson City\, TN\, 37760\, United States
END:VEVENT
BEGIN:VEVENT
DTSTART;TZID=America/New_York:20301204T184500
DTEND;TZID=America/New_York:20301204T194500
DTSTAMP:20260419T201701
CREATED:20250717T193648Z
LAST-MODIFIED:20251214T141150Z
UID:10009837-1922640300-1922643900@www.fbcjeff.org
SUMMARY:Worship Ensemble Rehearsal
DESCRIPTION:
URL:https://www.fbcjeff.org/calendar/worship-ensemble-rehearsal/2030-12-04/
LOCATION:FBC Music Suite\, 1610 Russell Ave\, Jefferson City\, TN\, 37760\, United States
END:VEVENT
BEGIN:VEVENT
DTSTART;TZID=America/New_York:20301211T184500
DTEND;TZID=America/New_York:20301211T194500
DTSTAMP:20260419T201701
CREATED:20250717T193648Z
LAST-MODIFIED:20251214T141150Z
UID:10009838-1923245100-1923248700@www.fbcjeff.org
SUMMARY:Worship Ensemble Rehearsal
DESCRIPTION:
URL:https://www.fbcjeff.org/calendar/worship-ensemble-rehearsal/2030-12-11/
LOCATION:FBC Music Suite\, 1610 Russell Ave\, Jefferson City\, TN\, 37760\, United States
END:VEVENT
BEGIN:VEVENT
DTSTART;TZID=America/New_York:20301218T184500
DTEND;TZID=America/New_York:20301218T194500
DTSTAMP:20260419T201701
CREATED:20250717T193648Z
LAST-MODIFIED:20251214T141150Z
UID:10010044-1923849900-1923853500@www.fbcjeff.org
SUMMARY:Worship Ensemble Rehearsal
DESCRIPTION:
URL:https://www.fbcjeff.org/calendar/worship-ensemble-rehearsal/2030-12-18/
LOCATION:FBC Music Suite\, 1610 Russell Ave\, Jefferson City\, TN\, 37760\, United States
END:VEVENT
BEGIN:VEVENT
DTSTART;TZID=America/New_York:20301225T184500
DTEND;TZID=America/New_York:20301225T194500
DTSTAMP:20260419T201701
CREATED:20250717T193648Z
LAST-MODIFIED:20251214T141150Z
UID:10010045-1924454700-1924458300@www.fbcjeff.org
SUMMARY:Worship Ensemble Rehearsal
DESCRIPTION:
URL:https://www.fbcjeff.org/calendar/worship-ensemble-rehearsal/2030-12-25/
LOCATION:FBC Music Suite\, 1610 Russell Ave\, Jefferson City\, TN\, 37760\, United States
END:VEVENT
BEGIN:VEVENT
DTSTART;TZID=America/New_York:20310101T184500
DTEND;TZID=America/New_York:20310101T194500
DTSTAMP:20260419T201701
CREATED:20250717T193648Z
LAST-MODIFIED:20251214T141150Z
UID:10010046-1925059500-1925063100@www.fbcjeff.org
SUMMARY:Worship Ensemble Rehearsal
DESCRIPTION:
URL:https://www.fbcjeff.org/calendar/worship-ensemble-rehearsal/2031-01-01/
LOCATION:FBC Music Suite\, 1610 Russell Ave\, Jefferson City\, TN\, 37760\, United States
END:VEVENT
END:VCALENDAR