BEGIN:VCALENDAR
VERSION:2.0
PRODID:-//First Baptist Church, Jefferson City, TN - ECPv6.15.20//NONSGML v1.0//EN
CALSCALE:GREGORIAN
METHOD:PUBLISH
X-WR-CALNAME:First Baptist Church, Jefferson City, TN
X-ORIGINAL-URL:https://www.fbcjeff.org
X-WR-CALDESC:Events for First Baptist Church, Jefferson City, TN
REFRESH-INTERVAL;VALUE=DURATION:PT1H
X-Robots-Tag:noindex
X-PUBLISHED-TTL:PT1H
BEGIN:VTIMEZONE
TZID:America/New_York
BEGIN:DAYLIGHT
TZOFFSETFROM:-0500
TZOFFSETTO:-0400
TZNAME:EDT
DTSTART:20290311T070000
END:DAYLIGHT
BEGIN:STANDARD
TZOFFSETFROM:-0400
TZOFFSETTO:-0500
TZNAME:EST
DTSTART:20291104T060000
END:STANDARD
BEGIN:DAYLIGHT
TZOFFSETFROM:-0500
TZOFFSETTO:-0400
TZNAME:EDT
DTSTART:20300310T070000
END:DAYLIGHT
BEGIN:STANDARD
TZOFFSETFROM:-0400
TZOFFSETTO:-0500
TZNAME:EST
DTSTART:20301103T060000
END:STANDARD
BEGIN:DAYLIGHT
TZOFFSETFROM:-0500
TZOFFSETTO:-0400
TZNAME:EDT
DTSTART:20310309T070000
END:DAYLIGHT
BEGIN:STANDARD
TZOFFSETFROM:-0400
TZOFFSETTO:-0500
TZNAME:EST
DTSTART:20311102T060000
END:STANDARD
BEGIN:DAYLIGHT
TZOFFSETFROM:-0500
TZOFFSETTO:-0400
TZNAME:EDT
DTSTART:20320314T070000
END:DAYLIGHT
BEGIN:STANDARD
TZOFFSETFROM:-0400
TZOFFSETTO:-0500
TZNAME:EST
DTSTART:20321107T060000
END:STANDARD
END:VTIMEZONE
BEGIN:VEVENT
DTSTART;TZID=America/New_York:20301127T184500
DTEND;TZID=America/New_York:20301127T194500
DTSTAMP:20260420T004218
CREATED:20250717T193648Z
LAST-MODIFIED:20251214T141150Z
UID:10009836-1922035500-1922039100@www.fbcjeff.org
SUMMARY:Worship Ensemble Rehearsal
DESCRIPTION:
URL:https://www.fbcjeff.org/calendar/worship-ensemble-rehearsal/2030-11-27/
LOCATION:FBC Music Suite\, 1610 Russell Ave\, Jefferson City\, TN\, 37760\, United States
END:VEVENT
BEGIN:VEVENT
DTSTART;TZID=America/New_York:20301204T184500
DTEND;TZID=America/New_York:20301204T194500
DTSTAMP:20260420T004218
CREATED:20250717T193648Z
LAST-MODIFIED:20251214T141150Z
UID:10009837-1922640300-1922643900@www.fbcjeff.org
SUMMARY:Worship Ensemble Rehearsal
DESCRIPTION:
URL:https://www.fbcjeff.org/calendar/worship-ensemble-rehearsal/2030-12-04/
LOCATION:FBC Music Suite\, 1610 Russell Ave\, Jefferson City\, TN\, 37760\, United States
END:VEVENT
BEGIN:VEVENT
DTSTART;TZID=America/New_York:20301211T184500
DTEND;TZID=America/New_York:20301211T194500
DTSTAMP:20260420T004218
CREATED:20250717T193648Z
LAST-MODIFIED:20251214T141150Z
UID:10009838-1923245100-1923248700@www.fbcjeff.org
SUMMARY:Worship Ensemble Rehearsal
DESCRIPTION:
URL:https://www.fbcjeff.org/calendar/worship-ensemble-rehearsal/2030-12-11/
LOCATION:FBC Music Suite\, 1610 Russell Ave\, Jefferson City\, TN\, 37760\, United States
END:VEVENT
BEGIN:VEVENT
DTSTART;TZID=America/New_York:20301218T184500
DTEND;TZID=America/New_York:20301218T194500
DTSTAMP:20260420T004218
CREATED:20250717T193648Z
LAST-MODIFIED:20251214T141150Z
UID:10010044-1923849900-1923853500@www.fbcjeff.org
SUMMARY:Worship Ensemble Rehearsal
DESCRIPTION:
URL:https://www.fbcjeff.org/calendar/worship-ensemble-rehearsal/2030-12-18/
LOCATION:FBC Music Suite\, 1610 Russell Ave\, Jefferson City\, TN\, 37760\, United States
END:VEVENT
BEGIN:VEVENT
DTSTART;TZID=America/New_York:20301225T184500
DTEND;TZID=America/New_York:20301225T194500
DTSTAMP:20260420T004218
CREATED:20250717T193648Z
LAST-MODIFIED:20251214T141150Z
UID:10010045-1924454700-1924458300@www.fbcjeff.org
SUMMARY:Worship Ensemble Rehearsal
DESCRIPTION:
URL:https://www.fbcjeff.org/calendar/worship-ensemble-rehearsal/2030-12-25/
LOCATION:FBC Music Suite\, 1610 Russell Ave\, Jefferson City\, TN\, 37760\, United States
END:VEVENT
BEGIN:VEVENT
DTSTART;TZID=America/New_York:20310101T184500
DTEND;TZID=America/New_York:20310101T194500
DTSTAMP:20260420T004218
CREATED:20250717T193648Z
LAST-MODIFIED:20251214T141150Z
UID:10010046-1925059500-1925063100@www.fbcjeff.org
SUMMARY:Worship Ensemble Rehearsal
DESCRIPTION:
URL:https://www.fbcjeff.org/calendar/worship-ensemble-rehearsal/2031-01-01/
LOCATION:FBC Music Suite\, 1610 Russell Ave\, Jefferson City\, TN\, 37760\, United States
END:VEVENT
BEGIN:VEVENT
DTSTART;TZID=America/New_York:20310108T184500
DTEND;TZID=America/New_York:20310108T194500
DTSTAMP:20260420T004218
CREATED:20250717T193648Z
LAST-MODIFIED:20251214T141150Z
UID:10010047-1925664300-1925667900@www.fbcjeff.org
SUMMARY:Worship Ensemble Rehearsal
DESCRIPTION:
URL:https://www.fbcjeff.org/calendar/worship-ensemble-rehearsal/2031-01-08/
LOCATION:FBC Music Suite\, 1610 Russell Ave\, Jefferson City\, TN\, 37760\, United States
END:VEVENT
BEGIN:VEVENT
DTSTART;TZID=America/New_York:20310115T184500
DTEND;TZID=America/New_York:20310115T194500
DTSTAMP:20260420T004218
CREATED:20250717T193648Z
LAST-MODIFIED:20251214T141150Z
UID:10010048-1926269100-1926272700@www.fbcjeff.org
SUMMARY:Worship Ensemble Rehearsal
DESCRIPTION:
URL:https://www.fbcjeff.org/calendar/worship-ensemble-rehearsal/2031-01-15/
LOCATION:FBC Music Suite\, 1610 Russell Ave\, Jefferson City\, TN\, 37760\, United States
END:VEVENT
BEGIN:VEVENT
DTSTART;TZID=America/New_York:20310122T184500
DTEND;TZID=America/New_York:20310122T194500
DTSTAMP:20260420T004218
CREATED:20250717T193648Z
LAST-MODIFIED:20251214T141150Z
UID:10010049-1926873900-1926877500@www.fbcjeff.org
SUMMARY:Worship Ensemble Rehearsal
DESCRIPTION:
URL:https://www.fbcjeff.org/calendar/worship-ensemble-rehearsal/2031-01-22/
LOCATION:FBC Music Suite\, 1610 Russell Ave\, Jefferson City\, TN\, 37760\, United States
END:VEVENT
BEGIN:VEVENT
DTSTART;TZID=America/New_York:20310129T184500
DTEND;TZID=America/New_York:20310129T194500
DTSTAMP:20260420T004218
CREATED:20250717T193648Z
LAST-MODIFIED:20251214T141150Z
UID:10010087-1927478700-1927482300@www.fbcjeff.org
SUMMARY:Worship Ensemble Rehearsal
DESCRIPTION:
URL:https://www.fbcjeff.org/calendar/worship-ensemble-rehearsal/2031-01-29/
LOCATION:FBC Music Suite\, 1610 Russell Ave\, Jefferson City\, TN\, 37760\, United States
END:VEVENT
BEGIN:VEVENT
DTSTART;TZID=America/New_York:20310205T184500
DTEND;TZID=America/New_York:20310205T194500
DTSTAMP:20260420T004218
CREATED:20250717T193648Z
LAST-MODIFIED:20251214T141150Z
UID:10010098-1928083500-1928087100@www.fbcjeff.org
SUMMARY:Worship Ensemble Rehearsal
DESCRIPTION:
URL:https://www.fbcjeff.org/calendar/worship-ensemble-rehearsal/2031-02-05/
LOCATION:FBC Music Suite\, 1610 Russell Ave\, Jefferson City\, TN\, 37760\, United States
END:VEVENT
BEGIN:VEVENT
DTSTART;TZID=America/New_York:20310212T184500
DTEND;TZID=America/New_York:20310212T194500
DTSTAMP:20260420T004218
CREATED:20250717T193648Z
LAST-MODIFIED:20251214T141150Z
UID:10010112-1928688300-1928691900@www.fbcjeff.org
SUMMARY:Worship Ensemble Rehearsal
DESCRIPTION:
URL:https://www.fbcjeff.org/calendar/worship-ensemble-rehearsal/2031-02-12/
LOCATION:FBC Music Suite\, 1610 Russell Ave\, Jefferson City\, TN\, 37760\, United States
END:VEVENT
BEGIN:VEVENT
DTSTART;TZID=America/New_York:20310219T184500
DTEND;TZID=America/New_York:20310219T194500
DTSTAMP:20260420T004218
CREATED:20250717T193648Z
LAST-MODIFIED:20251214T141150Z
UID:10010125-1929293100-1929296700@www.fbcjeff.org
SUMMARY:Worship Ensemble Rehearsal
DESCRIPTION:
URL:https://www.fbcjeff.org/calendar/worship-ensemble-rehearsal/2031-02-19/
LOCATION:FBC Music Suite\, 1610 Russell Ave\, Jefferson City\, TN\, 37760\, United States
END:VEVENT
BEGIN:VEVENT
DTSTART;TZID=America/New_York:20310226T184500
DTEND;TZID=America/New_York:20310226T194500
DTSTAMP:20260420T004218
CREATED:20250717T193648Z
LAST-MODIFIED:20251214T141150Z
UID:10010137-1929897900-1929901500@www.fbcjeff.org
SUMMARY:Worship Ensemble Rehearsal
DESCRIPTION:
URL:https://www.fbcjeff.org/calendar/worship-ensemble-rehearsal/2031-02-26/
LOCATION:FBC Music Suite\, 1610 Russell Ave\, Jefferson City\, TN\, 37760\, United States
END:VEVENT
BEGIN:VEVENT
DTSTART;TZID=America/New_York:20310305T184500
DTEND;TZID=America/New_York:20310305T194500
DTSTAMP:20260420T004218
CREATED:20250717T193648Z
LAST-MODIFIED:20251214T141150Z
UID:10010149-1930502700-1930506300@www.fbcjeff.org
SUMMARY:Worship Ensemble Rehearsal
DESCRIPTION:
URL:https://www.fbcjeff.org/calendar/worship-ensemble-rehearsal/2031-03-05/
LOCATION:FBC Music Suite\, 1610 Russell Ave\, Jefferson City\, TN\, 37760\, United States
END:VEVENT
BEGIN:VEVENT
DTSTART;TZID=America/New_York:20310312T184500
DTEND;TZID=America/New_York:20310312T194500
DTSTAMP:20260420T004218
CREATED:20250717T193648Z
LAST-MODIFIED:20251214T141150Z
UID:10010188-1931107500-1931111100@www.fbcjeff.org
SUMMARY:Worship Ensemble Rehearsal
DESCRIPTION:
URL:https://www.fbcjeff.org/calendar/worship-ensemble-rehearsal/2031-03-12/
LOCATION:FBC Music Suite\, 1610 Russell Ave\, Jefferson City\, TN\, 37760\, United States
END:VEVENT
BEGIN:VEVENT
DTSTART;TZID=America/New_York:20310319T184500
DTEND;TZID=America/New_York:20310319T194500
DTSTAMP:20260420T004218
CREATED:20250717T193648Z
LAST-MODIFIED:20251214T141150Z
UID:10010203-1931712300-1931715900@www.fbcjeff.org
SUMMARY:Worship Ensemble Rehearsal
DESCRIPTION:
URL:https://www.fbcjeff.org/calendar/worship-ensemble-rehearsal/2031-03-19/
LOCATION:FBC Music Suite\, 1610 Russell Ave\, Jefferson City\, TN\, 37760\, United States
END:VEVENT
BEGIN:VEVENT
DTSTART;TZID=America/New_York:20310326T184500
DTEND;TZID=America/New_York:20310326T194500
DTSTAMP:20260420T004218
CREATED:20250717T193648Z
LAST-MODIFIED:20251214T141150Z
UID:10010222-1932317100-1932320700@www.fbcjeff.org
SUMMARY:Worship Ensemble Rehearsal
DESCRIPTION:
URL:https://www.fbcjeff.org/calendar/worship-ensemble-rehearsal/2031-03-26/
LOCATION:FBC Music Suite\, 1610 Russell Ave\, Jefferson City\, TN\, 37760\, United States
END:VEVENT
BEGIN:VEVENT
DTSTART;TZID=America/New_York:20310402T184500
DTEND;TZID=America/New_York:20310402T194500
DTSTAMP:20260420T004218
CREATED:20250717T193648Z
LAST-MODIFIED:20251214T141150Z
UID:10010223-1932921900-1932925500@www.fbcjeff.org
SUMMARY:Worship Ensemble Rehearsal
DESCRIPTION:
URL:https://www.fbcjeff.org/calendar/worship-ensemble-rehearsal/2031-04-02/
LOCATION:FBC Music Suite\, 1610 Russell Ave\, Jefferson City\, TN\, 37760\, United States
END:VEVENT
BEGIN:VEVENT
DTSTART;TZID=America/New_York:20310409T184500
DTEND;TZID=America/New_York:20310409T194500
DTSTAMP:20260420T004218
CREATED:20250717T193648Z
LAST-MODIFIED:20251214T141150Z
UID:10010241-1933526700-1933530300@www.fbcjeff.org
SUMMARY:Worship Ensemble Rehearsal
DESCRIPTION:
URL:https://www.fbcjeff.org/calendar/worship-ensemble-rehearsal/2031-04-09/
LOCATION:FBC Music Suite\, 1610 Russell Ave\, Jefferson City\, TN\, 37760\, United States
END:VEVENT
BEGIN:VEVENT
DTSTART;TZID=America/New_York:20310416T184500
DTEND;TZID=America/New_York:20310416T194500
DTSTAMP:20260420T004218
CREATED:20250717T193648Z
LAST-MODIFIED:20251214T141150Z
UID:10010321-1934131500-1934135100@www.fbcjeff.org
SUMMARY:Worship Ensemble Rehearsal
DESCRIPTION:
URL:https://www.fbcjeff.org/calendar/worship-ensemble-rehearsal/2031-04-16/
LOCATION:FBC Music Suite\, 1610 Russell Ave\, Jefferson City\, TN\, 37760\, United States
END:VEVENT
END:VCALENDAR