BEGIN:VCALENDAR
VERSION:2.0
PRODID:-//First Baptist Church, Jefferson City, TN - ECPv6.15.20//NONSGML v1.0//EN
CALSCALE:GREGORIAN
METHOD:PUBLISH
X-WR-CALNAME:First Baptist Church, Jefferson City, TN
X-ORIGINAL-URL:https://www.fbcjeff.org
X-WR-CALDESC:Events for First Baptist Church, Jefferson City, TN
REFRESH-INTERVAL;VALUE=DURATION:PT1H
X-Robots-Tag:noindex
X-PUBLISHED-TTL:PT1H
BEGIN:VTIMEZONE
TZID:America/New_York
BEGIN:DAYLIGHT
TZOFFSETFROM:-0500
TZOFFSETTO:-0400
TZNAME:EDT
DTSTART:20270314T070000
END:DAYLIGHT
BEGIN:STANDARD
TZOFFSETFROM:-0400
TZOFFSETTO:-0500
TZNAME:EST
DTSTART:20271107T060000
END:STANDARD
BEGIN:DAYLIGHT
TZOFFSETFROM:-0500
TZOFFSETTO:-0400
TZNAME:EDT
DTSTART:20280312T070000
END:DAYLIGHT
BEGIN:STANDARD
TZOFFSETFROM:-0400
TZOFFSETTO:-0500
TZNAME:EST
DTSTART:20281105T060000
END:STANDARD
BEGIN:DAYLIGHT
TZOFFSETFROM:-0500
TZOFFSETTO:-0400
TZNAME:EDT
DTSTART:20290311T070000
END:DAYLIGHT
BEGIN:STANDARD
TZOFFSETFROM:-0400
TZOFFSETTO:-0500
TZNAME:EST
DTSTART:20291104T060000
END:STANDARD
BEGIN:DAYLIGHT
TZOFFSETFROM:-0500
TZOFFSETTO:-0400
TZNAME:EDT
DTSTART:20300310T070000
END:DAYLIGHT
BEGIN:STANDARD
TZOFFSETFROM:-0400
TZOFFSETTO:-0500
TZNAME:EST
DTSTART:20301103T060000
END:STANDARD
END:VTIMEZONE
BEGIN:VEVENT
DTSTART;TZID=America/New_York:20281102T083000
DTEND;TZID=America/New_York:20281102T093000
DTSTAMP:20260419T125722
CREATED:20250717T193800Z
LAST-MODIFIED:20250717T193800Z
UID:10008578-1856766600-1856770200@www.fbcjeff.org
SUMMARY:Men’s Breakfast
DESCRIPTION:
URL:https://www.fbcjeff.org/calendar/mens-breakfast/2028-11-02/
LOCATION:Bojangles\, 103 Mossy Creek Dr\, Jefferson City\, TN\, 37760
ORGANIZER;CN="FBC Church Office":MAILTO:help@fbcjeff.org
END:VEVENT
BEGIN:VEVENT
DTSTART;TZID=America/New_York:20281109T083000
DTEND;TZID=America/New_York:20281109T093000
DTSTAMP:20260419T125722
CREATED:20250717T193800Z
LAST-MODIFIED:20250717T193800Z
UID:10008579-1857371400-1857375000@www.fbcjeff.org
SUMMARY:Men’s Breakfast
DESCRIPTION:
URL:https://www.fbcjeff.org/calendar/mens-breakfast/2028-11-09/
LOCATION:Bojangles\, 103 Mossy Creek Dr\, Jefferson City\, TN\, 37760
ORGANIZER;CN="FBC Church Office":MAILTO:help@fbcjeff.org
END:VEVENT
BEGIN:VEVENT
DTSTART;TZID=America/New_York:20281116T083000
DTEND;TZID=America/New_York:20281116T093000
DTSTAMP:20260419T125722
CREATED:20250717T193800Z
LAST-MODIFIED:20250717T193800Z
UID:10008580-1857976200-1857979800@www.fbcjeff.org
SUMMARY:Men’s Breakfast
DESCRIPTION:
URL:https://www.fbcjeff.org/calendar/mens-breakfast/2028-11-16/
LOCATION:Bojangles\, 103 Mossy Creek Dr\, Jefferson City\, TN\, 37760
ORGANIZER;CN="FBC Church Office":MAILTO:help@fbcjeff.org
END:VEVENT
BEGIN:VEVENT
DTSTART;TZID=America/New_York:20281123T083000
DTEND;TZID=America/New_York:20281123T093000
DTSTAMP:20260419T125722
CREATED:20250717T193800Z
LAST-MODIFIED:20250717T193800Z
UID:10008581-1858581000-1858584600@www.fbcjeff.org
SUMMARY:Men’s Breakfast
DESCRIPTION:
URL:https://www.fbcjeff.org/calendar/mens-breakfast/2028-11-23/
LOCATION:Bojangles\, 103 Mossy Creek Dr\, Jefferson City\, TN\, 37760
ORGANIZER;CN="FBC Church Office":MAILTO:help@fbcjeff.org
END:VEVENT
BEGIN:VEVENT
DTSTART;TZID=America/New_York:20281130T083000
DTEND;TZID=America/New_York:20281130T093000
DTSTAMP:20260419T125722
CREATED:20250717T193800Z
LAST-MODIFIED:20250717T193800Z
UID:10008582-1859185800-1859189400@www.fbcjeff.org
SUMMARY:Men’s Breakfast
DESCRIPTION:
URL:https://www.fbcjeff.org/calendar/mens-breakfast/2028-11-30/
LOCATION:Bojangles\, 103 Mossy Creek Dr\, Jefferson City\, TN\, 37760
ORGANIZER;CN="FBC Church Office":MAILTO:help@fbcjeff.org
END:VEVENT
BEGIN:VEVENT
DTSTART;TZID=America/New_York:20281207T083000
DTEND;TZID=America/New_York:20281207T093000
DTSTAMP:20260419T125722
CREATED:20250717T193800Z
LAST-MODIFIED:20250717T193800Z
UID:10008583-1859790600-1859794200@www.fbcjeff.org
SUMMARY:Men’s Breakfast
DESCRIPTION:
URL:https://www.fbcjeff.org/calendar/mens-breakfast/2028-12-07/
LOCATION:Bojangles\, 103 Mossy Creek Dr\, Jefferson City\, TN\, 37760
ORGANIZER;CN="FBC Church Office":MAILTO:help@fbcjeff.org
END:VEVENT
BEGIN:VEVENT
DTSTART;TZID=America/New_York:20281214T083000
DTEND;TZID=America/New_York:20281214T093000
DTSTAMP:20260419T125722
CREATED:20250717T193800Z
LAST-MODIFIED:20250717T193800Z
UID:10008584-1860395400-1860399000@www.fbcjeff.org
SUMMARY:Men’s Breakfast
DESCRIPTION:
URL:https://www.fbcjeff.org/calendar/mens-breakfast/2028-12-14/
LOCATION:Bojangles\, 103 Mossy Creek Dr\, Jefferson City\, TN\, 37760
ORGANIZER;CN="FBC Church Office":MAILTO:help@fbcjeff.org
END:VEVENT
BEGIN:VEVENT
DTSTART;TZID=America/New_York:20281221T083000
DTEND;TZID=America/New_York:20281221T093000
DTSTAMP:20260419T125722
CREATED:20250717T193800Z
LAST-MODIFIED:20250717T193800Z
UID:10008585-1861000200-1861003800@www.fbcjeff.org
SUMMARY:Men’s Breakfast
DESCRIPTION:
URL:https://www.fbcjeff.org/calendar/mens-breakfast/2028-12-21/
LOCATION:Bojangles\, 103 Mossy Creek Dr\, Jefferson City\, TN\, 37760
ORGANIZER;CN="FBC Church Office":MAILTO:help@fbcjeff.org
END:VEVENT
BEGIN:VEVENT
DTSTART;TZID=America/New_York:20281228T083000
DTEND;TZID=America/New_York:20281228T093000
DTSTAMP:20260419T125722
CREATED:20250717T193800Z
LAST-MODIFIED:20250717T193800Z
UID:10008586-1861605000-1861608600@www.fbcjeff.org
SUMMARY:Men’s Breakfast
DESCRIPTION:
URL:https://www.fbcjeff.org/calendar/mens-breakfast/2028-12-28/
LOCATION:Bojangles\, 103 Mossy Creek Dr\, Jefferson City\, TN\, 37760
ORGANIZER;CN="FBC Church Office":MAILTO:help@fbcjeff.org
END:VEVENT
BEGIN:VEVENT
DTSTART;TZID=America/New_York:20290104T083000
DTEND;TZID=America/New_York:20290104T093000
DTSTAMP:20260419T125722
CREATED:20250717T193800Z
LAST-MODIFIED:20250717T193800Z
UID:10008587-1862209800-1862213400@www.fbcjeff.org
SUMMARY:Men’s Breakfast
DESCRIPTION:
URL:https://www.fbcjeff.org/calendar/mens-breakfast/2029-01-04/
LOCATION:Bojangles\, 103 Mossy Creek Dr\, Jefferson City\, TN\, 37760
ORGANIZER;CN="FBC Church Office":MAILTO:help@fbcjeff.org
END:VEVENT
BEGIN:VEVENT
DTSTART;TZID=America/New_York:20290111T083000
DTEND;TZID=America/New_York:20290111T093000
DTSTAMP:20260419T125722
CREATED:20250717T193800Z
LAST-MODIFIED:20250717T193800Z
UID:10008588-1862814600-1862818200@www.fbcjeff.org
SUMMARY:Men’s Breakfast
DESCRIPTION:
URL:https://www.fbcjeff.org/calendar/mens-breakfast/2029-01-11/
LOCATION:Bojangles\, 103 Mossy Creek Dr\, Jefferson City\, TN\, 37760
ORGANIZER;CN="FBC Church Office":MAILTO:help@fbcjeff.org
END:VEVENT
BEGIN:VEVENT
DTSTART;TZID=America/New_York:20290118T083000
DTEND;TZID=America/New_York:20290118T093000
DTSTAMP:20260419T125722
CREATED:20250717T193800Z
LAST-MODIFIED:20250717T193800Z
UID:10008589-1863419400-1863423000@www.fbcjeff.org
SUMMARY:Men’s Breakfast
DESCRIPTION:
URL:https://www.fbcjeff.org/calendar/mens-breakfast/2029-01-18/
LOCATION:Bojangles\, 103 Mossy Creek Dr\, Jefferson City\, TN\, 37760
ORGANIZER;CN="FBC Church Office":MAILTO:help@fbcjeff.org
END:VEVENT
BEGIN:VEVENT
DTSTART;TZID=America/New_York:20290125T083000
DTEND;TZID=America/New_York:20290125T093000
DTSTAMP:20260419T125722
CREATED:20250717T193800Z
LAST-MODIFIED:20250717T193800Z
UID:10008590-1864024200-1864027800@www.fbcjeff.org
SUMMARY:Men’s Breakfast
DESCRIPTION:
URL:https://www.fbcjeff.org/calendar/mens-breakfast/2029-01-25/
LOCATION:Bojangles\, 103 Mossy Creek Dr\, Jefferson City\, TN\, 37760
ORGANIZER;CN="FBC Church Office":MAILTO:help@fbcjeff.org
END:VEVENT
BEGIN:VEVENT
DTSTART;TZID=America/New_York:20290201T083000
DTEND;TZID=America/New_York:20290201T093000
DTSTAMP:20260419T125722
CREATED:20250717T193800Z
LAST-MODIFIED:20250717T193800Z
UID:10008591-1864629000-1864632600@www.fbcjeff.org
SUMMARY:Men’s Breakfast
DESCRIPTION:
URL:https://www.fbcjeff.org/calendar/mens-breakfast/2029-02-01/
LOCATION:Bojangles\, 103 Mossy Creek Dr\, Jefferson City\, TN\, 37760
ORGANIZER;CN="FBC Church Office":MAILTO:help@fbcjeff.org
END:VEVENT
BEGIN:VEVENT
DTSTART;TZID=America/New_York:20290208T083000
DTEND;TZID=America/New_York:20290208T093000
DTSTAMP:20260419T125722
CREATED:20250717T193800Z
LAST-MODIFIED:20250717T193800Z
UID:10008592-1865233800-1865237400@www.fbcjeff.org
SUMMARY:Men’s Breakfast
DESCRIPTION:
URL:https://www.fbcjeff.org/calendar/mens-breakfast/2029-02-08/
LOCATION:Bojangles\, 103 Mossy Creek Dr\, Jefferson City\, TN\, 37760
ORGANIZER;CN="FBC Church Office":MAILTO:help@fbcjeff.org
END:VEVENT
BEGIN:VEVENT
DTSTART;TZID=America/New_York:20290215T083000
DTEND;TZID=America/New_York:20290215T093000
DTSTAMP:20260419T125722
CREATED:20250717T193800Z
LAST-MODIFIED:20250717T193800Z
UID:10008593-1865838600-1865842200@www.fbcjeff.org
SUMMARY:Men’s Breakfast
DESCRIPTION:
URL:https://www.fbcjeff.org/calendar/mens-breakfast/2029-02-15/
LOCATION:Bojangles\, 103 Mossy Creek Dr\, Jefferson City\, TN\, 37760
ORGANIZER;CN="FBC Church Office":MAILTO:help@fbcjeff.org
END:VEVENT
BEGIN:VEVENT
DTSTART;TZID=America/New_York:20290222T083000
DTEND;TZID=America/New_York:20290222T093000
DTSTAMP:20260419T125722
CREATED:20250717T193800Z
LAST-MODIFIED:20250717T193800Z
UID:10008594-1866443400-1866447000@www.fbcjeff.org
SUMMARY:Men’s Breakfast
DESCRIPTION:
URL:https://www.fbcjeff.org/calendar/mens-breakfast/2029-02-22/
LOCATION:Bojangles\, 103 Mossy Creek Dr\, Jefferson City\, TN\, 37760
ORGANIZER;CN="FBC Church Office":MAILTO:help@fbcjeff.org
END:VEVENT
BEGIN:VEVENT
DTSTART;TZID=America/New_York:20290301T083000
DTEND;TZID=America/New_York:20290301T093000
DTSTAMP:20260419T125722
CREATED:20250717T193800Z
LAST-MODIFIED:20250717T193800Z
UID:10008595-1867048200-1867051800@www.fbcjeff.org
SUMMARY:Men’s Breakfast
DESCRIPTION:
URL:https://www.fbcjeff.org/calendar/mens-breakfast/2029-03-01/
LOCATION:Bojangles\, 103 Mossy Creek Dr\, Jefferson City\, TN\, 37760
ORGANIZER;CN="FBC Church Office":MAILTO:help@fbcjeff.org
END:VEVENT
BEGIN:VEVENT
DTSTART;TZID=America/New_York:20290308T083000
DTEND;TZID=America/New_York:20290308T093000
DTSTAMP:20260419T125722
CREATED:20250717T193800Z
LAST-MODIFIED:20250717T193800Z
UID:10008596-1867653000-1867656600@www.fbcjeff.org
SUMMARY:Men’s Breakfast
DESCRIPTION:
URL:https://www.fbcjeff.org/calendar/mens-breakfast/2029-03-08/
LOCATION:Bojangles\, 103 Mossy Creek Dr\, Jefferson City\, TN\, 37760
ORGANIZER;CN="FBC Church Office":MAILTO:help@fbcjeff.org
END:VEVENT
BEGIN:VEVENT
DTSTART;TZID=America/New_York:20290315T083000
DTEND;TZID=America/New_York:20290315T093000
DTSTAMP:20260419T125722
CREATED:20250717T193800Z
LAST-MODIFIED:20250717T193800Z
UID:10008597-1868257800-1868261400@www.fbcjeff.org
SUMMARY:Men’s Breakfast
DESCRIPTION:
URL:https://www.fbcjeff.org/calendar/mens-breakfast/2029-03-15/
LOCATION:Bojangles\, 103 Mossy Creek Dr\, Jefferson City\, TN\, 37760
ORGANIZER;CN="FBC Church Office":MAILTO:help@fbcjeff.org
END:VEVENT
BEGIN:VEVENT
DTSTART;TZID=America/New_York:20290322T083000
DTEND;TZID=America/New_York:20290322T093000
DTSTAMP:20260419T125722
CREATED:20250717T193800Z
LAST-MODIFIED:20250717T193800Z
UID:10008598-1868862600-1868866200@www.fbcjeff.org
SUMMARY:Men’s Breakfast
DESCRIPTION:
URL:https://www.fbcjeff.org/calendar/mens-breakfast/2029-03-22/
LOCATION:Bojangles\, 103 Mossy Creek Dr\, Jefferson City\, TN\, 37760
ORGANIZER;CN="FBC Church Office":MAILTO:help@fbcjeff.org
END:VEVENT
BEGIN:VEVENT
DTSTART;TZID=America/New_York:20290329T083000
DTEND;TZID=America/New_York:20290329T093000
DTSTAMP:20260419T125723
CREATED:20250717T193800Z
LAST-MODIFIED:20250717T193800Z
UID:10008599-1869467400-1869471000@www.fbcjeff.org
SUMMARY:Men’s Breakfast
DESCRIPTION:
URL:https://www.fbcjeff.org/calendar/mens-breakfast/2029-03-29/
LOCATION:Bojangles\, 103 Mossy Creek Dr\, Jefferson City\, TN\, 37760
ORGANIZER;CN="FBC Church Office":MAILTO:help@fbcjeff.org
END:VEVENT
BEGIN:VEVENT
DTSTART;TZID=America/New_York:20290405T083000
DTEND;TZID=America/New_York:20290405T093000
DTSTAMP:20260419T125723
CREATED:20250717T193800Z
LAST-MODIFIED:20250717T193800Z
UID:10008600-1870072200-1870075800@www.fbcjeff.org
SUMMARY:Men’s Breakfast
DESCRIPTION:
URL:https://www.fbcjeff.org/calendar/mens-breakfast/2029-04-05/
LOCATION:Bojangles\, 103 Mossy Creek Dr\, Jefferson City\, TN\, 37760
ORGANIZER;CN="FBC Church Office":MAILTO:help@fbcjeff.org
END:VEVENT
BEGIN:VEVENT
DTSTART;TZID=America/New_York:20290412T083000
DTEND;TZID=America/New_York:20290412T093000
DTSTAMP:20260419T125723
CREATED:20250717T193800Z
LAST-MODIFIED:20250717T193800Z
UID:10008601-1870677000-1870680600@www.fbcjeff.org
SUMMARY:Men’s Breakfast
DESCRIPTION:
URL:https://www.fbcjeff.org/calendar/mens-breakfast/2029-04-12/
LOCATION:Bojangles\, 103 Mossy Creek Dr\, Jefferson City\, TN\, 37760
ORGANIZER;CN="FBC Church Office":MAILTO:help@fbcjeff.org
END:VEVENT
BEGIN:VEVENT
DTSTART;TZID=America/New_York:20290419T083000
DTEND;TZID=America/New_York:20290419T093000
DTSTAMP:20260419T125723
CREATED:20250717T193800Z
LAST-MODIFIED:20250717T193800Z
UID:10008602-1871281800-1871285400@www.fbcjeff.org
SUMMARY:Men’s Breakfast
DESCRIPTION:
URL:https://www.fbcjeff.org/calendar/mens-breakfast/2029-04-19/
LOCATION:Bojangles\, 103 Mossy Creek Dr\, Jefferson City\, TN\, 37760
ORGANIZER;CN="FBC Church Office":MAILTO:help@fbcjeff.org
END:VEVENT
BEGIN:VEVENT
DTSTART;TZID=America/New_York:20290426T083000
DTEND;TZID=America/New_York:20290426T093000
DTSTAMP:20260419T125723
CREATED:20250717T193800Z
LAST-MODIFIED:20250717T193800Z
UID:10008603-1871886600-1871890200@www.fbcjeff.org
SUMMARY:Men’s Breakfast
DESCRIPTION:
URL:https://www.fbcjeff.org/calendar/mens-breakfast/2029-04-26/
LOCATION:Bojangles\, 103 Mossy Creek Dr\, Jefferson City\, TN\, 37760
ORGANIZER;CN="FBC Church Office":MAILTO:help@fbcjeff.org
END:VEVENT
BEGIN:VEVENT
DTSTART;TZID=America/New_York:20290503T083000
DTEND;TZID=America/New_York:20290503T093000
DTSTAMP:20260419T125723
CREATED:20250717T193800Z
LAST-MODIFIED:20250717T193800Z
UID:10008604-1872491400-1872495000@www.fbcjeff.org
SUMMARY:Men’s Breakfast
DESCRIPTION:
URL:https://www.fbcjeff.org/calendar/mens-breakfast/2029-05-03/
LOCATION:Bojangles\, 103 Mossy Creek Dr\, Jefferson City\, TN\, 37760
ORGANIZER;CN="FBC Church Office":MAILTO:help@fbcjeff.org
END:VEVENT
BEGIN:VEVENT
DTSTART;TZID=America/New_York:20290510T083000
DTEND;TZID=America/New_York:20290510T093000
DTSTAMP:20260419T125723
CREATED:20250717T193800Z
LAST-MODIFIED:20250717T193800Z
UID:10008605-1873096200-1873099800@www.fbcjeff.org
SUMMARY:Men’s Breakfast
DESCRIPTION:
URL:https://www.fbcjeff.org/calendar/mens-breakfast/2029-05-10/
LOCATION:Bojangles\, 103 Mossy Creek Dr\, Jefferson City\, TN\, 37760
ORGANIZER;CN="FBC Church Office":MAILTO:help@fbcjeff.org
END:VEVENT
BEGIN:VEVENT
DTSTART;TZID=America/New_York:20290517T083000
DTEND;TZID=America/New_York:20290517T093000
DTSTAMP:20260419T125723
CREATED:20250717T193800Z
LAST-MODIFIED:20250717T193800Z
UID:10008606-1873701000-1873704600@www.fbcjeff.org
SUMMARY:Men’s Breakfast
DESCRIPTION:
URL:https://www.fbcjeff.org/calendar/mens-breakfast/2029-05-17/
LOCATION:Bojangles\, 103 Mossy Creek Dr\, Jefferson City\, TN\, 37760
ORGANIZER;CN="FBC Church Office":MAILTO:help@fbcjeff.org
END:VEVENT
BEGIN:VEVENT
DTSTART;TZID=America/New_York:20290524T083000
DTEND;TZID=America/New_York:20290524T093000
DTSTAMP:20260419T125723
CREATED:20250717T193800Z
LAST-MODIFIED:20250717T193800Z
UID:10008607-1874305800-1874309400@www.fbcjeff.org
SUMMARY:Men’s Breakfast
DESCRIPTION:
URL:https://www.fbcjeff.org/calendar/mens-breakfast/2029-05-24/
LOCATION:Bojangles\, 103 Mossy Creek Dr\, Jefferson City\, TN\, 37760
ORGANIZER;CN="FBC Church Office":MAILTO:help@fbcjeff.org
END:VEVENT
END:VCALENDAR