BEGIN:VCALENDAR
VERSION:2.0
PRODID:-//First Baptist Church, Jefferson City, TN - ECPv6.15.20//NONSGML v1.0//EN
CALSCALE:GREGORIAN
METHOD:PUBLISH
X-ORIGINAL-URL:https://www.fbcjeff.org
X-WR-CALDESC:Events for First Baptist Church, Jefferson City, TN
REFRESH-INTERVAL;VALUE=DURATION:PT1H
X-Robots-Tag:noindex
X-PUBLISHED-TTL:PT1H
BEGIN:VTIMEZONE
TZID:America/New_York
BEGIN:DAYLIGHT
TZOFFSETFROM:-0500
TZOFFSETTO:-0400
TZNAME:EDT
DTSTART:20280312T070000
END:DAYLIGHT
BEGIN:STANDARD
TZOFFSETFROM:-0400
TZOFFSETTO:-0500
TZNAME:EST
DTSTART:20281105T060000
END:STANDARD
BEGIN:DAYLIGHT
TZOFFSETFROM:-0500
TZOFFSETTO:-0400
TZNAME:EDT
DTSTART:20290311T070000
END:DAYLIGHT
BEGIN:STANDARD
TZOFFSETFROM:-0400
TZOFFSETTO:-0500
TZNAME:EST
DTSTART:20291104T060000
END:STANDARD
BEGIN:DAYLIGHT
TZOFFSETFROM:-0500
TZOFFSETTO:-0400
TZNAME:EDT
DTSTART:20300310T070000
END:DAYLIGHT
BEGIN:STANDARD
TZOFFSETFROM:-0400
TZOFFSETTO:-0500
TZNAME:EST
DTSTART:20301103T060000
END:STANDARD
BEGIN:DAYLIGHT
TZOFFSETFROM:-0500
TZOFFSETTO:-0400
TZNAME:EDT
DTSTART:20310309T070000
END:DAYLIGHT
BEGIN:STANDARD
TZOFFSETFROM:-0400
TZOFFSETTO:-0500
TZNAME:EST
DTSTART:20311102T060000
END:STANDARD
END:VTIMEZONE
BEGIN:VEVENT
DTSTART;TZID=America/New_York:20291227T083000
DTEND;TZID=America/New_York:20291227T093000
DTSTAMP:20260419T201706
CREATED:20250717T193800Z
LAST-MODIFIED:20250717T193800Z
UID:10008638-1893054600-1893058200@www.fbcjeff.org
SUMMARY:Men’s Breakfast
DESCRIPTION:
URL:https://www.fbcjeff.org/calendar/mens-breakfast/2029-12-27/
LOCATION:Bojangles\, 103 Mossy Creek Dr\, Jefferson City\, TN\, 37760
ORGANIZER;CN="FBC Church Office":MAILTO:help@fbcjeff.org
END:VEVENT
BEGIN:VEVENT
DTSTART;TZID=America/New_York:20300103T083000
DTEND;TZID=America/New_York:20300103T093000
DTSTAMP:20260419T201706
CREATED:20250717T193800Z
LAST-MODIFIED:20250717T193800Z
UID:10008639-1893659400-1893663000@www.fbcjeff.org
SUMMARY:Men’s Breakfast
DESCRIPTION:
URL:https://www.fbcjeff.org/calendar/mens-breakfast/2030-01-03/
LOCATION:Bojangles\, 103 Mossy Creek Dr\, Jefferson City\, TN\, 37760
ORGANIZER;CN="FBC Church Office":MAILTO:help@fbcjeff.org
END:VEVENT
BEGIN:VEVENT
DTSTART;TZID=America/New_York:20300110T083000
DTEND;TZID=America/New_York:20300110T093000
DTSTAMP:20260419T201706
CREATED:20250717T193800Z
LAST-MODIFIED:20250717T193800Z
UID:10008640-1894264200-1894267800@www.fbcjeff.org
SUMMARY:Men’s Breakfast
DESCRIPTION:
URL:https://www.fbcjeff.org/calendar/mens-breakfast/2030-01-10/
LOCATION:Bojangles\, 103 Mossy Creek Dr\, Jefferson City\, TN\, 37760
ORGANIZER;CN="FBC Church Office":MAILTO:help@fbcjeff.org
END:VEVENT
BEGIN:VEVENT
DTSTART;TZID=America/New_York:20300117T083000
DTEND;TZID=America/New_York:20300117T093000
DTSTAMP:20260419T201706
CREATED:20250717T193800Z
LAST-MODIFIED:20250717T193800Z
UID:10008641-1894869000-1894872600@www.fbcjeff.org
SUMMARY:Men’s Breakfast
DESCRIPTION:
URL:https://www.fbcjeff.org/calendar/mens-breakfast/2030-01-17/
LOCATION:Bojangles\, 103 Mossy Creek Dr\, Jefferson City\, TN\, 37760
ORGANIZER;CN="FBC Church Office":MAILTO:help@fbcjeff.org
END:VEVENT
BEGIN:VEVENT
DTSTART;TZID=America/New_York:20300124T083000
DTEND;TZID=America/New_York:20300124T093000
DTSTAMP:20260419T201706
CREATED:20250717T193800Z
LAST-MODIFIED:20250717T193800Z
UID:10008642-1895473800-1895477400@www.fbcjeff.org
SUMMARY:Men’s Breakfast
DESCRIPTION:
URL:https://www.fbcjeff.org/calendar/mens-breakfast/2030-01-24/
LOCATION:Bojangles\, 103 Mossy Creek Dr\, Jefferson City\, TN\, 37760
ORGANIZER;CN="FBC Church Office":MAILTO:help@fbcjeff.org
END:VEVENT
BEGIN:VEVENT
DTSTART;TZID=America/New_York:20300131T083000
DTEND;TZID=America/New_York:20300131T093000
DTSTAMP:20260419T201706
CREATED:20250717T193800Z
LAST-MODIFIED:20250717T193800Z
UID:10008643-1896078600-1896082200@www.fbcjeff.org
SUMMARY:Men’s Breakfast
DESCRIPTION:
URL:https://www.fbcjeff.org/calendar/mens-breakfast/2030-01-31/
LOCATION:Bojangles\, 103 Mossy Creek Dr\, Jefferson City\, TN\, 37760
ORGANIZER;CN="FBC Church Office":MAILTO:help@fbcjeff.org
END:VEVENT
BEGIN:VEVENT
DTSTART;TZID=America/New_York:20300207T083000
DTEND;TZID=America/New_York:20300207T093000
DTSTAMP:20260419T201706
CREATED:20250717T193800Z
LAST-MODIFIED:20250717T193800Z
UID:10008644-1896683400-1896687000@www.fbcjeff.org
SUMMARY:Men’s Breakfast
DESCRIPTION:
URL:https://www.fbcjeff.org/calendar/mens-breakfast/2030-02-07/
LOCATION:Bojangles\, 103 Mossy Creek Dr\, Jefferson City\, TN\, 37760
ORGANIZER;CN="FBC Church Office":MAILTO:help@fbcjeff.org
END:VEVENT
BEGIN:VEVENT
DTSTART;TZID=America/New_York:20300214T083000
DTEND;TZID=America/New_York:20300214T093000
DTSTAMP:20260419T201706
CREATED:20250717T193800Z
LAST-MODIFIED:20250717T193800Z
UID:10008645-1897288200-1897291800@www.fbcjeff.org
SUMMARY:Men’s Breakfast
DESCRIPTION:
URL:https://www.fbcjeff.org/calendar/mens-breakfast/2030-02-14/
LOCATION:Bojangles\, 103 Mossy Creek Dr\, Jefferson City\, TN\, 37760
ORGANIZER;CN="FBC Church Office":MAILTO:help@fbcjeff.org
END:VEVENT
BEGIN:VEVENT
DTSTART;TZID=America/New_York:20300221T083000
DTEND;TZID=America/New_York:20300221T093000
DTSTAMP:20260419T201706
CREATED:20250717T193800Z
LAST-MODIFIED:20250717T193800Z
UID:10008646-1897893000-1897896600@www.fbcjeff.org
SUMMARY:Men’s Breakfast
DESCRIPTION:
URL:https://www.fbcjeff.org/calendar/mens-breakfast/2030-02-21/
LOCATION:Bojangles\, 103 Mossy Creek Dr\, Jefferson City\, TN\, 37760
ORGANIZER;CN="FBC Church Office":MAILTO:help@fbcjeff.org
END:VEVENT
BEGIN:VEVENT
DTSTART;TZID=America/New_York:20300228T083000
DTEND;TZID=America/New_York:20300228T093000
DTSTAMP:20260419T201706
CREATED:20250717T193800Z
LAST-MODIFIED:20250717T193800Z
UID:10008647-1898497800-1898501400@www.fbcjeff.org
SUMMARY:Men’s Breakfast
DESCRIPTION:
URL:https://www.fbcjeff.org/calendar/mens-breakfast/2030-02-28/
LOCATION:Bojangles\, 103 Mossy Creek Dr\, Jefferson City\, TN\, 37760
ORGANIZER;CN="FBC Church Office":MAILTO:help@fbcjeff.org
END:VEVENT
BEGIN:VEVENT
DTSTART;TZID=America/New_York:20300307T083000
DTEND;TZID=America/New_York:20300307T093000
DTSTAMP:20260419T201706
CREATED:20250717T193800Z
LAST-MODIFIED:20250717T193800Z
UID:10008648-1899102600-1899106200@www.fbcjeff.org
SUMMARY:Men’s Breakfast
DESCRIPTION:
URL:https://www.fbcjeff.org/calendar/mens-breakfast/2030-03-07/
LOCATION:Bojangles\, 103 Mossy Creek Dr\, Jefferson City\, TN\, 37760
ORGANIZER;CN="FBC Church Office":MAILTO:help@fbcjeff.org
END:VEVENT
BEGIN:VEVENT
DTSTART;TZID=America/New_York:20300314T083000
DTEND;TZID=America/New_York:20300314T093000
DTSTAMP:20260419T201706
CREATED:20250717T193800Z
LAST-MODIFIED:20250717T193800Z
UID:10008649-1899707400-1899711000@www.fbcjeff.org
SUMMARY:Men’s Breakfast
DESCRIPTION:
URL:https://www.fbcjeff.org/calendar/mens-breakfast/2030-03-14/
LOCATION:Bojangles\, 103 Mossy Creek Dr\, Jefferson City\, TN\, 37760
ORGANIZER;CN="FBC Church Office":MAILTO:help@fbcjeff.org
END:VEVENT
BEGIN:VEVENT
DTSTART;TZID=America/New_York:20300321T083000
DTEND;TZID=America/New_York:20300321T093000
DTSTAMP:20260419T201706
CREATED:20250717T193800Z
LAST-MODIFIED:20250717T193800Z
UID:10008650-1900312200-1900315800@www.fbcjeff.org
SUMMARY:Men’s Breakfast
DESCRIPTION:
URL:https://www.fbcjeff.org/calendar/mens-breakfast/2030-03-21/
LOCATION:Bojangles\, 103 Mossy Creek Dr\, Jefferson City\, TN\, 37760
ORGANIZER;CN="FBC Church Office":MAILTO:help@fbcjeff.org
END:VEVENT
BEGIN:VEVENT
DTSTART;TZID=America/New_York:20300328T083000
DTEND;TZID=America/New_York:20300328T093000
DTSTAMP:20260419T201706
CREATED:20250717T193800Z
LAST-MODIFIED:20250717T193800Z
UID:10008651-1900917000-1900920600@www.fbcjeff.org
SUMMARY:Men’s Breakfast
DESCRIPTION:
URL:https://www.fbcjeff.org/calendar/mens-breakfast/2030-03-28/
LOCATION:Bojangles\, 103 Mossy Creek Dr\, Jefferson City\, TN\, 37760
ORGANIZER;CN="FBC Church Office":MAILTO:help@fbcjeff.org
END:VEVENT
BEGIN:VEVENT
DTSTART;TZID=America/New_York:20300404T083000
DTEND;TZID=America/New_York:20300404T093000
DTSTAMP:20260419T201706
CREATED:20250717T193800Z
LAST-MODIFIED:20250717T193800Z
UID:10008652-1901521800-1901525400@www.fbcjeff.org
SUMMARY:Men’s Breakfast
DESCRIPTION:
URL:https://www.fbcjeff.org/calendar/mens-breakfast/2030-04-04/
LOCATION:Bojangles\, 103 Mossy Creek Dr\, Jefferson City\, TN\, 37760
ORGANIZER;CN="FBC Church Office":MAILTO:help@fbcjeff.org
END:VEVENT
BEGIN:VEVENT
DTSTART;TZID=America/New_York:20300411T083000
DTEND;TZID=America/New_York:20300411T093000
DTSTAMP:20260419T201706
CREATED:20250717T193800Z
LAST-MODIFIED:20250717T193800Z
UID:10008653-1902126600-1902130200@www.fbcjeff.org
SUMMARY:Men’s Breakfast
DESCRIPTION:
URL:https://www.fbcjeff.org/calendar/mens-breakfast/2030-04-11/
LOCATION:Bojangles\, 103 Mossy Creek Dr\, Jefferson City\, TN\, 37760
ORGANIZER;CN="FBC Church Office":MAILTO:help@fbcjeff.org
END:VEVENT
BEGIN:VEVENT
DTSTART;TZID=America/New_York:20300418T083000
DTEND;TZID=America/New_York:20300418T093000
DTSTAMP:20260419T201706
CREATED:20250717T193800Z
LAST-MODIFIED:20250717T193800Z
UID:10008654-1902731400-1902735000@www.fbcjeff.org
SUMMARY:Men’s Breakfast
DESCRIPTION:
URL:https://www.fbcjeff.org/calendar/mens-breakfast/2030-04-18/
LOCATION:Bojangles\, 103 Mossy Creek Dr\, Jefferson City\, TN\, 37760
ORGANIZER;CN="FBC Church Office":MAILTO:help@fbcjeff.org
END:VEVENT
BEGIN:VEVENT
DTSTART;TZID=America/New_York:20300425T083000
DTEND;TZID=America/New_York:20300425T093000
DTSTAMP:20260419T201706
CREATED:20250717T193800Z
LAST-MODIFIED:20250717T193800Z
UID:10008655-1903336200-1903339800@www.fbcjeff.org
SUMMARY:Men’s Breakfast
DESCRIPTION:
URL:https://www.fbcjeff.org/calendar/mens-breakfast/2030-04-25/
LOCATION:Bojangles\, 103 Mossy Creek Dr\, Jefferson City\, TN\, 37760
ORGANIZER;CN="FBC Church Office":MAILTO:help@fbcjeff.org
END:VEVENT
BEGIN:VEVENT
DTSTART;TZID=America/New_York:20300502T083000
DTEND;TZID=America/New_York:20300502T093000
DTSTAMP:20260419T201706
CREATED:20250717T193800Z
LAST-MODIFIED:20250717T193800Z
UID:10008656-1903941000-1903944600@www.fbcjeff.org
SUMMARY:Men’s Breakfast
DESCRIPTION:
URL:https://www.fbcjeff.org/calendar/mens-breakfast/2030-05-02/
LOCATION:Bojangles\, 103 Mossy Creek Dr\, Jefferson City\, TN\, 37760
ORGANIZER;CN="FBC Church Office":MAILTO:help@fbcjeff.org
END:VEVENT
BEGIN:VEVENT
DTSTART;TZID=America/New_York:20300509T083000
DTEND;TZID=America/New_York:20300509T093000
DTSTAMP:20260419T201706
CREATED:20250717T193800Z
LAST-MODIFIED:20250717T193800Z
UID:10008657-1904545800-1904549400@www.fbcjeff.org
SUMMARY:Men’s Breakfast
DESCRIPTION:
URL:https://www.fbcjeff.org/calendar/mens-breakfast/2030-05-09/
LOCATION:Bojangles\, 103 Mossy Creek Dr\, Jefferson City\, TN\, 37760
ORGANIZER;CN="FBC Church Office":MAILTO:help@fbcjeff.org
END:VEVENT
BEGIN:VEVENT
DTSTART;TZID=America/New_York:20300516T083000
DTEND;TZID=America/New_York:20300516T093000
DTSTAMP:20260419T201706
CREATED:20250717T193800Z
LAST-MODIFIED:20250717T193800Z
UID:10008658-1905150600-1905154200@www.fbcjeff.org
SUMMARY:Men’s Breakfast
DESCRIPTION:
URL:https://www.fbcjeff.org/calendar/mens-breakfast/2030-05-16/
LOCATION:Bojangles\, 103 Mossy Creek Dr\, Jefferson City\, TN\, 37760
ORGANIZER;CN="FBC Church Office":MAILTO:help@fbcjeff.org
END:VEVENT
BEGIN:VEVENT
DTSTART;TZID=America/New_York:20300523T083000
DTEND;TZID=America/New_York:20300523T093000
DTSTAMP:20260419T201706
CREATED:20250717T193800Z
LAST-MODIFIED:20250717T193800Z
UID:10008659-1905755400-1905759000@www.fbcjeff.org
SUMMARY:Men’s Breakfast
DESCRIPTION:
URL:https://www.fbcjeff.org/calendar/mens-breakfast/2030-05-23/
LOCATION:Bojangles\, 103 Mossy Creek Dr\, Jefferson City\, TN\, 37760
ORGANIZER;CN="FBC Church Office":MAILTO:help@fbcjeff.org
END:VEVENT
BEGIN:VEVENT
DTSTART;TZID=America/New_York:20300530T083000
DTEND;TZID=America/New_York:20300530T093000
DTSTAMP:20260419T201706
CREATED:20250717T193800Z
LAST-MODIFIED:20250717T193800Z
UID:10008660-1906360200-1906363800@www.fbcjeff.org
SUMMARY:Men’s Breakfast
DESCRIPTION:
URL:https://www.fbcjeff.org/calendar/mens-breakfast/2030-05-30/
LOCATION:Bojangles\, 103 Mossy Creek Dr\, Jefferson City\, TN\, 37760
ORGANIZER;CN="FBC Church Office":MAILTO:help@fbcjeff.org
END:VEVENT
BEGIN:VEVENT
DTSTART;TZID=America/New_York:20300606T083000
DTEND;TZID=America/New_York:20300606T093000
DTSTAMP:20260419T201706
CREATED:20250717T193800Z
LAST-MODIFIED:20250717T193800Z
UID:10008661-1906965000-1906968600@www.fbcjeff.org
SUMMARY:Men’s Breakfast
DESCRIPTION:
URL:https://www.fbcjeff.org/calendar/mens-breakfast/2030-06-06/
LOCATION:Bojangles\, 103 Mossy Creek Dr\, Jefferson City\, TN\, 37760
ORGANIZER;CN="FBC Church Office":MAILTO:help@fbcjeff.org
END:VEVENT
BEGIN:VEVENT
DTSTART;TZID=America/New_York:20300613T083000
DTEND;TZID=America/New_York:20300613T093000
DTSTAMP:20260419T201706
CREATED:20250717T193800Z
LAST-MODIFIED:20250717T193800Z
UID:10008662-1907569800-1907573400@www.fbcjeff.org
SUMMARY:Men’s Breakfast
DESCRIPTION:
URL:https://www.fbcjeff.org/calendar/mens-breakfast/2030-06-13/
LOCATION:Bojangles\, 103 Mossy Creek Dr\, Jefferson City\, TN\, 37760
ORGANIZER;CN="FBC Church Office":MAILTO:help@fbcjeff.org
END:VEVENT
BEGIN:VEVENT
DTSTART;TZID=America/New_York:20300620T083000
DTEND;TZID=America/New_York:20300620T093000
DTSTAMP:20260419T201706
CREATED:20250717T193800Z
LAST-MODIFIED:20250717T193800Z
UID:10008663-1908174600-1908178200@www.fbcjeff.org
SUMMARY:Men’s Breakfast
DESCRIPTION:
URL:https://www.fbcjeff.org/calendar/mens-breakfast/2030-06-20/
LOCATION:Bojangles\, 103 Mossy Creek Dr\, Jefferson City\, TN\, 37760
ORGANIZER;CN="FBC Church Office":MAILTO:help@fbcjeff.org
END:VEVENT
BEGIN:VEVENT
DTSTART;TZID=America/New_York:20300627T083000
DTEND;TZID=America/New_York:20300627T093000
DTSTAMP:20260419T201706
CREATED:20250717T193800Z
LAST-MODIFIED:20250717T193800Z
UID:10008664-1908779400-1908783000@www.fbcjeff.org
SUMMARY:Men’s Breakfast
DESCRIPTION:
URL:https://www.fbcjeff.org/calendar/mens-breakfast/2030-06-27/
LOCATION:Bojangles\, 103 Mossy Creek Dr\, Jefferson City\, TN\, 37760
ORGANIZER;CN="FBC Church Office":MAILTO:help@fbcjeff.org
END:VEVENT
BEGIN:VEVENT
DTSTART;TZID=America/New_York:20300704T083000
DTEND;TZID=America/New_York:20300704T093000
DTSTAMP:20260419T201706
CREATED:20250717T193800Z
LAST-MODIFIED:20250717T193800Z
UID:10008665-1909384200-1909387800@www.fbcjeff.org
SUMMARY:Men’s Breakfast
DESCRIPTION:
URL:https://www.fbcjeff.org/calendar/mens-breakfast/2030-07-04/
LOCATION:Bojangles\, 103 Mossy Creek Dr\, Jefferson City\, TN\, 37760
ORGANIZER;CN="FBC Church Office":MAILTO:help@fbcjeff.org
END:VEVENT
BEGIN:VEVENT
DTSTART;TZID=America/New_York:20300711T083000
DTEND;TZID=America/New_York:20300711T093000
DTSTAMP:20260419T201706
CREATED:20250717T193800Z
LAST-MODIFIED:20250717T193800Z
UID:10008666-1909989000-1909992600@www.fbcjeff.org
SUMMARY:Men’s Breakfast
DESCRIPTION:
URL:https://www.fbcjeff.org/calendar/mens-breakfast/2030-07-11/
LOCATION:Bojangles\, 103 Mossy Creek Dr\, Jefferson City\, TN\, 37760
ORGANIZER;CN="FBC Church Office":MAILTO:help@fbcjeff.org
END:VEVENT
BEGIN:VEVENT
DTSTART;TZID=America/New_York:20300718T083000
DTEND;TZID=America/New_York:20300718T093000
DTSTAMP:20260419T201706
CREATED:20250717T193800Z
LAST-MODIFIED:20250717T193800Z
UID:10010050-1910593800-1910597400@www.fbcjeff.org
SUMMARY:Men’s Breakfast
DESCRIPTION:
URL:https://www.fbcjeff.org/calendar/mens-breakfast/2030-07-18/
LOCATION:Bojangles\, 103 Mossy Creek Dr\, Jefferson City\, TN\, 37760
ORGANIZER;CN="FBC Church Office":MAILTO:help@fbcjeff.org
END:VEVENT
END:VCALENDAR