BEGIN:VCALENDAR
VERSION:2.0
PRODID:-//First Baptist Church, Jefferson City, TN - ECPv6.15.20//NONSGML v1.0//EN
CALSCALE:GREGORIAN
METHOD:PUBLISH
X-WR-CALNAME:First Baptist Church, Jefferson City, TN
X-ORIGINAL-URL:https://www.fbcjeff.org
X-WR-CALDESC:Events for First Baptist Church, Jefferson City, TN
REFRESH-INTERVAL;VALUE=DURATION:PT1H
X-Robots-Tag:noindex
X-PUBLISHED-TTL:PT1H
BEGIN:VTIMEZONE
TZID:America/New_York
BEGIN:DAYLIGHT
TZOFFSETFROM:-0500
TZOFFSETTO:-0400
TZNAME:EDT
DTSTART:20290311T070000
END:DAYLIGHT
BEGIN:STANDARD
TZOFFSETFROM:-0400
TZOFFSETTO:-0500
TZNAME:EST
DTSTART:20291104T060000
END:STANDARD
BEGIN:DAYLIGHT
TZOFFSETFROM:-0500
TZOFFSETTO:-0400
TZNAME:EDT
DTSTART:20300310T070000
END:DAYLIGHT
BEGIN:STANDARD
TZOFFSETFROM:-0400
TZOFFSETTO:-0500
TZNAME:EST
DTSTART:20301103T060000
END:STANDARD
BEGIN:DAYLIGHT
TZOFFSETFROM:-0500
TZOFFSETTO:-0400
TZNAME:EDT
DTSTART:20310309T070000
END:DAYLIGHT
BEGIN:STANDARD
TZOFFSETFROM:-0400
TZOFFSETTO:-0500
TZNAME:EST
DTSTART:20311102T060000
END:STANDARD
BEGIN:DAYLIGHT
TZOFFSETFROM:-0500
TZOFFSETTO:-0400
TZNAME:EDT
DTSTART:20320314T070000
END:DAYLIGHT
BEGIN:STANDARD
TZOFFSETFROM:-0400
TZOFFSETTO:-0500
TZNAME:EST
DTSTART:20321107T060000
END:STANDARD
END:VTIMEZONE
BEGIN:VEVENT
DTSTART;TZID=America/New_York:20300613T083000
DTEND;TZID=America/New_York:20300613T093000
DTSTAMP:20260420T004224
CREATED:20250717T193800Z
LAST-MODIFIED:20250717T193800Z
UID:10008662-1907569800-1907573400@www.fbcjeff.org
SUMMARY:Men’s Breakfast
DESCRIPTION:
URL:https://www.fbcjeff.org/calendar/mens-breakfast/2030-06-13/
LOCATION:Bojangles\, 103 Mossy Creek Dr\, Jefferson City\, TN\, 37760
ORGANIZER;CN="FBC Church Office":MAILTO:help@fbcjeff.org
END:VEVENT
BEGIN:VEVENT
DTSTART;TZID=America/New_York:20300620T083000
DTEND;TZID=America/New_York:20300620T093000
DTSTAMP:20260420T004224
CREATED:20250717T193800Z
LAST-MODIFIED:20250717T193800Z
UID:10008663-1908174600-1908178200@www.fbcjeff.org
SUMMARY:Men’s Breakfast
DESCRIPTION:
URL:https://www.fbcjeff.org/calendar/mens-breakfast/2030-06-20/
LOCATION:Bojangles\, 103 Mossy Creek Dr\, Jefferson City\, TN\, 37760
ORGANIZER;CN="FBC Church Office":MAILTO:help@fbcjeff.org
END:VEVENT
BEGIN:VEVENT
DTSTART;TZID=America/New_York:20300627T083000
DTEND;TZID=America/New_York:20300627T093000
DTSTAMP:20260420T004224
CREATED:20250717T193800Z
LAST-MODIFIED:20250717T193800Z
UID:10008664-1908779400-1908783000@www.fbcjeff.org
SUMMARY:Men’s Breakfast
DESCRIPTION:
URL:https://www.fbcjeff.org/calendar/mens-breakfast/2030-06-27/
LOCATION:Bojangles\, 103 Mossy Creek Dr\, Jefferson City\, TN\, 37760
ORGANIZER;CN="FBC Church Office":MAILTO:help@fbcjeff.org
END:VEVENT
BEGIN:VEVENT
DTSTART;TZID=America/New_York:20300704T083000
DTEND;TZID=America/New_York:20300704T093000
DTSTAMP:20260420T004224
CREATED:20250717T193800Z
LAST-MODIFIED:20250717T193800Z
UID:10008665-1909384200-1909387800@www.fbcjeff.org
SUMMARY:Men’s Breakfast
DESCRIPTION:
URL:https://www.fbcjeff.org/calendar/mens-breakfast/2030-07-04/
LOCATION:Bojangles\, 103 Mossy Creek Dr\, Jefferson City\, TN\, 37760
ORGANIZER;CN="FBC Church Office":MAILTO:help@fbcjeff.org
END:VEVENT
BEGIN:VEVENT
DTSTART;TZID=America/New_York:20300711T083000
DTEND;TZID=America/New_York:20300711T093000
DTSTAMP:20260420T004224
CREATED:20250717T193800Z
LAST-MODIFIED:20250717T193800Z
UID:10008666-1909989000-1909992600@www.fbcjeff.org
SUMMARY:Men’s Breakfast
DESCRIPTION:
URL:https://www.fbcjeff.org/calendar/mens-breakfast/2030-07-11/
LOCATION:Bojangles\, 103 Mossy Creek Dr\, Jefferson City\, TN\, 37760
ORGANIZER;CN="FBC Church Office":MAILTO:help@fbcjeff.org
END:VEVENT
BEGIN:VEVENT
DTSTART;TZID=America/New_York:20300718T083000
DTEND;TZID=America/New_York:20300718T093000
DTSTAMP:20260420T004224
CREATED:20250717T193800Z
LAST-MODIFIED:20250717T193800Z
UID:10010050-1910593800-1910597400@www.fbcjeff.org
SUMMARY:Men’s Breakfast
DESCRIPTION:
URL:https://www.fbcjeff.org/calendar/mens-breakfast/2030-07-18/
LOCATION:Bojangles\, 103 Mossy Creek Dr\, Jefferson City\, TN\, 37760
ORGANIZER;CN="FBC Church Office":MAILTO:help@fbcjeff.org
END:VEVENT
BEGIN:VEVENT
DTSTART;TZID=America/New_York:20300725T083000
DTEND;TZID=America/New_York:20300725T093000
DTSTAMP:20260420T004224
CREATED:20250717T193800Z
LAST-MODIFIED:20250717T193800Z
UID:10010051-1911198600-1911202200@www.fbcjeff.org
SUMMARY:Men’s Breakfast
DESCRIPTION:
URL:https://www.fbcjeff.org/calendar/mens-breakfast/2030-07-25/
LOCATION:Bojangles\, 103 Mossy Creek Dr\, Jefferson City\, TN\, 37760
ORGANIZER;CN="FBC Church Office":MAILTO:help@fbcjeff.org
END:VEVENT
BEGIN:VEVENT
DTSTART;TZID=America/New_York:20300801T083000
DTEND;TZID=America/New_York:20300801T093000
DTSTAMP:20260420T004224
CREATED:20250717T193800Z
LAST-MODIFIED:20250717T193800Z
UID:10010052-1911803400-1911807000@www.fbcjeff.org
SUMMARY:Men’s Breakfast
DESCRIPTION:
URL:https://www.fbcjeff.org/calendar/mens-breakfast/2030-08-01/
LOCATION:Bojangles\, 103 Mossy Creek Dr\, Jefferson City\, TN\, 37760
ORGANIZER;CN="FBC Church Office":MAILTO:help@fbcjeff.org
END:VEVENT
BEGIN:VEVENT
DTSTART;TZID=America/New_York:20300808T083000
DTEND;TZID=America/New_York:20300808T093000
DTSTAMP:20260420T004224
CREATED:20250717T193800Z
LAST-MODIFIED:20250717T193800Z
UID:10010053-1912408200-1912411800@www.fbcjeff.org
SUMMARY:Men’s Breakfast
DESCRIPTION:
URL:https://www.fbcjeff.org/calendar/mens-breakfast/2030-08-08/
LOCATION:Bojangles\, 103 Mossy Creek Dr\, Jefferson City\, TN\, 37760
ORGANIZER;CN="FBC Church Office":MAILTO:help@fbcjeff.org
END:VEVENT
BEGIN:VEVENT
DTSTART;TZID=America/New_York:20300815T083000
DTEND;TZID=America/New_York:20300815T093000
DTSTAMP:20260420T004224
CREATED:20250717T193800Z
LAST-MODIFIED:20250717T193800Z
UID:10010054-1913013000-1913016600@www.fbcjeff.org
SUMMARY:Men’s Breakfast
DESCRIPTION:
URL:https://www.fbcjeff.org/calendar/mens-breakfast/2030-08-15/
LOCATION:Bojangles\, 103 Mossy Creek Dr\, Jefferson City\, TN\, 37760
ORGANIZER;CN="FBC Church Office":MAILTO:help@fbcjeff.org
END:VEVENT
BEGIN:VEVENT
DTSTART;TZID=America/New_York:20300822T083000
DTEND;TZID=America/New_York:20300822T093000
DTSTAMP:20260420T004224
CREATED:20250717T193800Z
LAST-MODIFIED:20250717T193800Z
UID:10010055-1913617800-1913621400@www.fbcjeff.org
SUMMARY:Men’s Breakfast
DESCRIPTION:
URL:https://www.fbcjeff.org/calendar/mens-breakfast/2030-08-22/
LOCATION:Bojangles\, 103 Mossy Creek Dr\, Jefferson City\, TN\, 37760
ORGANIZER;CN="FBC Church Office":MAILTO:help@fbcjeff.org
END:VEVENT
BEGIN:VEVENT
DTSTART;TZID=America/New_York:20300829T083000
DTEND;TZID=America/New_York:20300829T093000
DTSTAMP:20260420T004224
CREATED:20250717T193800Z
LAST-MODIFIED:20250717T193800Z
UID:10010056-1914222600-1914226200@www.fbcjeff.org
SUMMARY:Men’s Breakfast
DESCRIPTION:
URL:https://www.fbcjeff.org/calendar/mens-breakfast/2030-08-29/
LOCATION:Bojangles\, 103 Mossy Creek Dr\, Jefferson City\, TN\, 37760
ORGANIZER;CN="FBC Church Office":MAILTO:help@fbcjeff.org
END:VEVENT
BEGIN:VEVENT
DTSTART;TZID=America/New_York:20300905T083000
DTEND;TZID=America/New_York:20300905T093000
DTSTAMP:20260420T004224
CREATED:20250717T193800Z
LAST-MODIFIED:20250717T193800Z
UID:10010057-1914827400-1914831000@www.fbcjeff.org
SUMMARY:Men’s Breakfast
DESCRIPTION:
URL:https://www.fbcjeff.org/calendar/mens-breakfast/2030-09-05/
LOCATION:Bojangles\, 103 Mossy Creek Dr\, Jefferson City\, TN\, 37760
ORGANIZER;CN="FBC Church Office":MAILTO:help@fbcjeff.org
END:VEVENT
BEGIN:VEVENT
DTSTART;TZID=America/New_York:20300912T083000
DTEND;TZID=America/New_York:20300912T093000
DTSTAMP:20260420T004224
CREATED:20250717T193800Z
LAST-MODIFIED:20250717T193800Z
UID:10010058-1915432200-1915435800@www.fbcjeff.org
SUMMARY:Men’s Breakfast
DESCRIPTION:
URL:https://www.fbcjeff.org/calendar/mens-breakfast/2030-09-12/
LOCATION:Bojangles\, 103 Mossy Creek Dr\, Jefferson City\, TN\, 37760
ORGANIZER;CN="FBC Church Office":MAILTO:help@fbcjeff.org
END:VEVENT
BEGIN:VEVENT
DTSTART;TZID=America/New_York:20300919T083000
DTEND;TZID=America/New_York:20300919T093000
DTSTAMP:20260420T004224
CREATED:20250717T193800Z
LAST-MODIFIED:20250717T193800Z
UID:10010059-1916037000-1916040600@www.fbcjeff.org
SUMMARY:Men’s Breakfast
DESCRIPTION:
URL:https://www.fbcjeff.org/calendar/mens-breakfast/2030-09-19/
LOCATION:Bojangles\, 103 Mossy Creek Dr\, Jefferson City\, TN\, 37760
ORGANIZER;CN="FBC Church Office":MAILTO:help@fbcjeff.org
END:VEVENT
BEGIN:VEVENT
DTSTART;TZID=America/New_York:20300926T083000
DTEND;TZID=America/New_York:20300926T093000
DTSTAMP:20260420T004224
CREATED:20250717T193800Z
LAST-MODIFIED:20250717T193800Z
UID:10010060-1916641800-1916645400@www.fbcjeff.org
SUMMARY:Men’s Breakfast
DESCRIPTION:
URL:https://www.fbcjeff.org/calendar/mens-breakfast/2030-09-26/
LOCATION:Bojangles\, 103 Mossy Creek Dr\, Jefferson City\, TN\, 37760
ORGANIZER;CN="FBC Church Office":MAILTO:help@fbcjeff.org
END:VEVENT
BEGIN:VEVENT
DTSTART;TZID=America/New_York:20301003T083000
DTEND;TZID=America/New_York:20301003T093000
DTSTAMP:20260420T004224
CREATED:20250717T193800Z
LAST-MODIFIED:20250717T193800Z
UID:10010061-1917246600-1917250200@www.fbcjeff.org
SUMMARY:Men’s Breakfast
DESCRIPTION:
URL:https://www.fbcjeff.org/calendar/mens-breakfast/2030-10-03/
LOCATION:Bojangles\, 103 Mossy Creek Dr\, Jefferson City\, TN\, 37760
ORGANIZER;CN="FBC Church Office":MAILTO:help@fbcjeff.org
END:VEVENT
BEGIN:VEVENT
DTSTART;TZID=America/New_York:20301010T083000
DTEND;TZID=America/New_York:20301010T093000
DTSTAMP:20260420T004224
CREATED:20250717T193800Z
LAST-MODIFIED:20250717T193800Z
UID:10010062-1917851400-1917855000@www.fbcjeff.org
SUMMARY:Men’s Breakfast
DESCRIPTION:
URL:https://www.fbcjeff.org/calendar/mens-breakfast/2030-10-10/
LOCATION:Bojangles\, 103 Mossy Creek Dr\, Jefferson City\, TN\, 37760
ORGANIZER;CN="FBC Church Office":MAILTO:help@fbcjeff.org
END:VEVENT
BEGIN:VEVENT
DTSTART;TZID=America/New_York:20301017T083000
DTEND;TZID=America/New_York:20301017T093000
DTSTAMP:20260420T004224
CREATED:20250717T193800Z
LAST-MODIFIED:20250717T193800Z
UID:10010063-1918456200-1918459800@www.fbcjeff.org
SUMMARY:Men’s Breakfast
DESCRIPTION:
URL:https://www.fbcjeff.org/calendar/mens-breakfast/2030-10-17/
LOCATION:Bojangles\, 103 Mossy Creek Dr\, Jefferson City\, TN\, 37760
ORGANIZER;CN="FBC Church Office":MAILTO:help@fbcjeff.org
END:VEVENT
BEGIN:VEVENT
DTSTART;TZID=America/New_York:20301024T083000
DTEND;TZID=America/New_York:20301024T093000
DTSTAMP:20260420T004224
CREATED:20250717T193800Z
LAST-MODIFIED:20250717T193800Z
UID:10010064-1919061000-1919064600@www.fbcjeff.org
SUMMARY:Men’s Breakfast
DESCRIPTION:
URL:https://www.fbcjeff.org/calendar/mens-breakfast/2030-10-24/
LOCATION:Bojangles\, 103 Mossy Creek Dr\, Jefferson City\, TN\, 37760
ORGANIZER;CN="FBC Church Office":MAILTO:help@fbcjeff.org
END:VEVENT
BEGIN:VEVENT
DTSTART;TZID=America/New_York:20301031T083000
DTEND;TZID=America/New_York:20301031T093000
DTSTAMP:20260420T004224
CREATED:20250717T193800Z
LAST-MODIFIED:20250717T193800Z
UID:10010065-1919665800-1919669400@www.fbcjeff.org
SUMMARY:Men’s Breakfast
DESCRIPTION:
URL:https://www.fbcjeff.org/calendar/mens-breakfast/2030-10-31/
LOCATION:Bojangles\, 103 Mossy Creek Dr\, Jefferson City\, TN\, 37760
ORGANIZER;CN="FBC Church Office":MAILTO:help@fbcjeff.org
END:VEVENT
BEGIN:VEVENT
DTSTART;TZID=America/New_York:20301107T083000
DTEND;TZID=America/New_York:20301107T093000
DTSTAMP:20260420T004224
CREATED:20250717T193800Z
LAST-MODIFIED:20250717T193800Z
UID:10010066-1920270600-1920274200@www.fbcjeff.org
SUMMARY:Men’s Breakfast
DESCRIPTION:
URL:https://www.fbcjeff.org/calendar/mens-breakfast/2030-11-07/
LOCATION:Bojangles\, 103 Mossy Creek Dr\, Jefferson City\, TN\, 37760
ORGANIZER;CN="FBC Church Office":MAILTO:help@fbcjeff.org
END:VEVENT
BEGIN:VEVENT
DTSTART;TZID=America/New_York:20301114T083000
DTEND;TZID=America/New_York:20301114T093000
DTSTAMP:20260420T004224
CREATED:20250717T193800Z
LAST-MODIFIED:20250717T193800Z
UID:10010067-1920875400-1920879000@www.fbcjeff.org
SUMMARY:Men’s Breakfast
DESCRIPTION:
URL:https://www.fbcjeff.org/calendar/mens-breakfast/2030-11-14/
LOCATION:Bojangles\, 103 Mossy Creek Dr\, Jefferson City\, TN\, 37760
ORGANIZER;CN="FBC Church Office":MAILTO:help@fbcjeff.org
END:VEVENT
BEGIN:VEVENT
DTSTART;TZID=America/New_York:20301121T083000
DTEND;TZID=America/New_York:20301121T093000
DTSTAMP:20260420T004224
CREATED:20250717T193800Z
LAST-MODIFIED:20250717T193800Z
UID:10010068-1921480200-1921483800@www.fbcjeff.org
SUMMARY:Men’s Breakfast
DESCRIPTION:
URL:https://www.fbcjeff.org/calendar/mens-breakfast/2030-11-21/
LOCATION:Bojangles\, 103 Mossy Creek Dr\, Jefferson City\, TN\, 37760
ORGANIZER;CN="FBC Church Office":MAILTO:help@fbcjeff.org
END:VEVENT
BEGIN:VEVENT
DTSTART;TZID=America/New_York:20301128T083000
DTEND;TZID=America/New_York:20301128T093000
DTSTAMP:20260420T004224
CREATED:20250717T193800Z
LAST-MODIFIED:20250717T193800Z
UID:10010069-1922085000-1922088600@www.fbcjeff.org
SUMMARY:Men’s Breakfast
DESCRIPTION:
URL:https://www.fbcjeff.org/calendar/mens-breakfast/2030-11-28/
LOCATION:Bojangles\, 103 Mossy Creek Dr\, Jefferson City\, TN\, 37760
ORGANIZER;CN="FBC Church Office":MAILTO:help@fbcjeff.org
END:VEVENT
BEGIN:VEVENT
DTSTART;TZID=America/New_York:20301205T083000
DTEND;TZID=America/New_York:20301205T093000
DTSTAMP:20260420T004224
CREATED:20250717T193800Z
LAST-MODIFIED:20250717T193800Z
UID:10010070-1922689800-1922693400@www.fbcjeff.org
SUMMARY:Men’s Breakfast
DESCRIPTION:
URL:https://www.fbcjeff.org/calendar/mens-breakfast/2030-12-05/
LOCATION:Bojangles\, 103 Mossy Creek Dr\, Jefferson City\, TN\, 37760
ORGANIZER;CN="FBC Church Office":MAILTO:help@fbcjeff.org
END:VEVENT
BEGIN:VEVENT
DTSTART;TZID=America/New_York:20301212T083000
DTEND;TZID=America/New_York:20301212T093000
DTSTAMP:20260420T004224
CREATED:20250717T193800Z
LAST-MODIFIED:20250717T193800Z
UID:10010071-1923294600-1923298200@www.fbcjeff.org
SUMMARY:Men’s Breakfast
DESCRIPTION:
URL:https://www.fbcjeff.org/calendar/mens-breakfast/2030-12-12/
LOCATION:Bojangles\, 103 Mossy Creek Dr\, Jefferson City\, TN\, 37760
ORGANIZER;CN="FBC Church Office":MAILTO:help@fbcjeff.org
END:VEVENT
BEGIN:VEVENT
DTSTART;TZID=America/New_York:20301219T083000
DTEND;TZID=America/New_York:20301219T093000
DTSTAMP:20260420T004224
CREATED:20250717T193800Z
LAST-MODIFIED:20250717T193800Z
UID:10010072-1923899400-1923903000@www.fbcjeff.org
SUMMARY:Men’s Breakfast
DESCRIPTION:
URL:https://www.fbcjeff.org/calendar/mens-breakfast/2030-12-19/
LOCATION:Bojangles\, 103 Mossy Creek Dr\, Jefferson City\, TN\, 37760
ORGANIZER;CN="FBC Church Office":MAILTO:help@fbcjeff.org
END:VEVENT
BEGIN:VEVENT
DTSTART;TZID=America/New_York:20301226T083000
DTEND;TZID=America/New_York:20301226T093000
DTSTAMP:20260420T004224
CREATED:20250717T193800Z
LAST-MODIFIED:20250717T193800Z
UID:10010073-1924504200-1924507800@www.fbcjeff.org
SUMMARY:Men’s Breakfast
DESCRIPTION:
URL:https://www.fbcjeff.org/calendar/mens-breakfast/2030-12-26/
LOCATION:Bojangles\, 103 Mossy Creek Dr\, Jefferson City\, TN\, 37760
ORGANIZER;CN="FBC Church Office":MAILTO:help@fbcjeff.org
END:VEVENT
BEGIN:VEVENT
DTSTART;TZID=America/New_York:20310102T083000
DTEND;TZID=America/New_York:20310102T093000
DTSTAMP:20260420T004224
CREATED:20250717T193800Z
LAST-MODIFIED:20250717T193800Z
UID:10010074-1925109000-1925112600@www.fbcjeff.org
SUMMARY:Men’s Breakfast
DESCRIPTION:
URL:https://www.fbcjeff.org/calendar/mens-breakfast/2031-01-02/
LOCATION:Bojangles\, 103 Mossy Creek Dr\, Jefferson City\, TN\, 37760
ORGANIZER;CN="FBC Church Office":MAILTO:help@fbcjeff.org
END:VEVENT
END:VCALENDAR