BEGIN:VCALENDAR
VERSION:2.0
PRODID:-//First Baptist Church, Jefferson City, TN - ECPv6.15.20//NONSGML v1.0//EN
CALSCALE:GREGORIAN
METHOD:PUBLISH
X-WR-CALNAME:First Baptist Church, Jefferson City, TN
X-ORIGINAL-URL:https://www.fbcjeff.org
X-WR-CALDESC:Events for First Baptist Church, Jefferson City, TN
REFRESH-INTERVAL;VALUE=DURATION:PT1H
X-Robots-Tag:noindex
X-PUBLISHED-TTL:PT1H
BEGIN:VTIMEZONE
TZID:America/New_York
BEGIN:DAYLIGHT
TZOFFSETFROM:-0500
TZOFFSETTO:-0400
TZNAME:EDT
DTSTART:20270314T070000
END:DAYLIGHT
BEGIN:STANDARD
TZOFFSETFROM:-0400
TZOFFSETTO:-0500
TZNAME:EST
DTSTART:20271107T060000
END:STANDARD
BEGIN:DAYLIGHT
TZOFFSETFROM:-0500
TZOFFSETTO:-0400
TZNAME:EDT
DTSTART:20280312T070000
END:DAYLIGHT
BEGIN:STANDARD
TZOFFSETFROM:-0400
TZOFFSETTO:-0500
TZNAME:EST
DTSTART:20281105T060000
END:STANDARD
BEGIN:DAYLIGHT
TZOFFSETFROM:-0500
TZOFFSETTO:-0400
TZNAME:EDT
DTSTART:20290311T070000
END:DAYLIGHT
BEGIN:STANDARD
TZOFFSETFROM:-0400
TZOFFSETTO:-0500
TZNAME:EST
DTSTART:20291104T060000
END:STANDARD
BEGIN:DAYLIGHT
TZOFFSETFROM:-0500
TZOFFSETTO:-0400
TZNAME:EDT
DTSTART:20300310T070000
END:DAYLIGHT
BEGIN:STANDARD
TZOFFSETFROM:-0400
TZOFFSETTO:-0500
TZNAME:EST
DTSTART:20301103T060000
END:STANDARD
END:VTIMEZONE
BEGIN:VEVENT
DTSTART;TZID=America/New_York:20280719T093000
DTEND;TZID=America/New_York:20280719T103000
DTSTAMP:20260419T170718
CREATED:20250717T193407Z
LAST-MODIFIED:20250717T193407Z
UID:10007780-1847611800-1847615400@www.fbcjeff.org
SUMMARY:Community Bible Study
DESCRIPTION:
URL:https://www.fbcjeff.org/calendar/community-bible-study/2028-07-19/
LOCATION:FBC College Room 301\, 1610 Russell Ave\, Jefferson City\, TN\, 37760\, United States
ORGANIZER;CN="FBC Church Office":MAILTO:help@fbcjeff.org
END:VEVENT
BEGIN:VEVENT
DTSTART;TZID=America/New_York:20280726T093000
DTEND;TZID=America/New_York:20280726T103000
DTSTAMP:20260419T170718
CREATED:20250717T193407Z
LAST-MODIFIED:20250717T193407Z
UID:10007781-1848216600-1848220200@www.fbcjeff.org
SUMMARY:Community Bible Study
DESCRIPTION:
URL:https://www.fbcjeff.org/calendar/community-bible-study/2028-07-26/
LOCATION:FBC College Room 301\, 1610 Russell Ave\, Jefferson City\, TN\, 37760\, United States
ORGANIZER;CN="FBC Church Office":MAILTO:help@fbcjeff.org
END:VEVENT
BEGIN:VEVENT
DTSTART;TZID=America/New_York:20280802T093000
DTEND;TZID=America/New_York:20280802T103000
DTSTAMP:20260419T170718
CREATED:20250717T193407Z
LAST-MODIFIED:20250717T193407Z
UID:10007782-1848821400-1848825000@www.fbcjeff.org
SUMMARY:Community Bible Study
DESCRIPTION:
URL:https://www.fbcjeff.org/calendar/community-bible-study/2028-08-02/
LOCATION:FBC College Room 301\, 1610 Russell Ave\, Jefferson City\, TN\, 37760\, United States
ORGANIZER;CN="FBC Church Office":MAILTO:help@fbcjeff.org
END:VEVENT
BEGIN:VEVENT
DTSTART;TZID=America/New_York:20280809T093000
DTEND;TZID=America/New_York:20280809T103000
DTSTAMP:20260419T170718
CREATED:20250717T193407Z
LAST-MODIFIED:20250717T193407Z
UID:10007783-1849426200-1849429800@www.fbcjeff.org
SUMMARY:Community Bible Study
DESCRIPTION:
URL:https://www.fbcjeff.org/calendar/community-bible-study/2028-08-09/
LOCATION:FBC College Room 301\, 1610 Russell Ave\, Jefferson City\, TN\, 37760\, United States
ORGANIZER;CN="FBC Church Office":MAILTO:help@fbcjeff.org
END:VEVENT
BEGIN:VEVENT
DTSTART;TZID=America/New_York:20280810T140000
DTEND;TZID=America/New_York:20280810T153000
DTSTAMP:20260419T170718
CREATED:20240229T050354Z
LAST-MODIFIED:20240229T050733Z
UID:10003281-1849528800-1849534200@www.fbcjeff.org
SUMMARY:Senior Fellowship Team Meeting
DESCRIPTION:
URL:https://www.fbcjeff.org/calendar/senior-fellowship-team-meeting/2028-08-10/
LOCATION:FBC College Room 301\, 1610 Russell Ave\, Jefferson City\, TN\, 37760\, United States
END:VEVENT
BEGIN:VEVENT
DTSTART;TZID=America/New_York:20280816T093000
DTEND;TZID=America/New_York:20280816T103000
DTSTAMP:20260419T170718
CREATED:20250717T193407Z
LAST-MODIFIED:20250717T193407Z
UID:10007784-1850031000-1850034600@www.fbcjeff.org
SUMMARY:Community Bible Study
DESCRIPTION:
URL:https://www.fbcjeff.org/calendar/community-bible-study/2028-08-16/
LOCATION:FBC College Room 301\, 1610 Russell Ave\, Jefferson City\, TN\, 37760\, United States
ORGANIZER;CN="FBC Church Office":MAILTO:help@fbcjeff.org
END:VEVENT
BEGIN:VEVENT
DTSTART;TZID=America/New_York:20280823T093000
DTEND;TZID=America/New_York:20280823T103000
DTSTAMP:20260419T170718
CREATED:20250717T193407Z
LAST-MODIFIED:20250717T193407Z
UID:10007785-1850635800-1850639400@www.fbcjeff.org
SUMMARY:Community Bible Study
DESCRIPTION:
URL:https://www.fbcjeff.org/calendar/community-bible-study/2028-08-23/
LOCATION:FBC College Room 301\, 1610 Russell Ave\, Jefferson City\, TN\, 37760\, United States
ORGANIZER;CN="FBC Church Office":MAILTO:help@fbcjeff.org
END:VEVENT
BEGIN:VEVENT
DTSTART;TZID=America/New_York:20280830T093000
DTEND;TZID=America/New_York:20280830T103000
DTSTAMP:20260419T170718
CREATED:20250717T193407Z
LAST-MODIFIED:20250717T193407Z
UID:10007786-1851240600-1851244200@www.fbcjeff.org
SUMMARY:Community Bible Study
DESCRIPTION:
URL:https://www.fbcjeff.org/calendar/community-bible-study/2028-08-30/
LOCATION:FBC College Room 301\, 1610 Russell Ave\, Jefferson City\, TN\, 37760\, United States
ORGANIZER;CN="FBC Church Office":MAILTO:help@fbcjeff.org
END:VEVENT
BEGIN:VEVENT
DTSTART;TZID=America/New_York:20280906T093000
DTEND;TZID=America/New_York:20280906T103000
DTSTAMP:20260419T170718
CREATED:20250717T193407Z
LAST-MODIFIED:20250717T193407Z
UID:10007787-1851845400-1851849000@www.fbcjeff.org
SUMMARY:Community Bible Study
DESCRIPTION:
URL:https://www.fbcjeff.org/calendar/community-bible-study/2028-09-06/
LOCATION:FBC College Room 301\, 1610 Russell Ave\, Jefferson City\, TN\, 37760\, United States
ORGANIZER;CN="FBC Church Office":MAILTO:help@fbcjeff.org
END:VEVENT
BEGIN:VEVENT
DTSTART;TZID=America/New_York:20280913T093000
DTEND;TZID=America/New_York:20280913T103000
DTSTAMP:20260419T170718
CREATED:20250717T193407Z
LAST-MODIFIED:20250717T193407Z
UID:10007788-1852450200-1852453800@www.fbcjeff.org
SUMMARY:Community Bible Study
DESCRIPTION:
URL:https://www.fbcjeff.org/calendar/community-bible-study/2028-09-13/
LOCATION:FBC College Room 301\, 1610 Russell Ave\, Jefferson City\, TN\, 37760\, United States
ORGANIZER;CN="FBC Church Office":MAILTO:help@fbcjeff.org
END:VEVENT
BEGIN:VEVENT
DTSTART;TZID=America/New_York:20280914T140000
DTEND;TZID=America/New_York:20280914T153000
DTSTAMP:20260419T170718
CREATED:20240229T050354Z
LAST-MODIFIED:20240229T050733Z
UID:10003282-1852552800-1852558200@www.fbcjeff.org
SUMMARY:Senior Fellowship Team Meeting
DESCRIPTION:
URL:https://www.fbcjeff.org/calendar/senior-fellowship-team-meeting/2028-09-14/
LOCATION:FBC College Room 301\, 1610 Russell Ave\, Jefferson City\, TN\, 37760\, United States
END:VEVENT
BEGIN:VEVENT
DTSTART;TZID=America/New_York:20280920T093000
DTEND;TZID=America/New_York:20280920T103000
DTSTAMP:20260419T170718
CREATED:20250717T193407Z
LAST-MODIFIED:20250717T193407Z
UID:10007789-1853055000-1853058600@www.fbcjeff.org
SUMMARY:Community Bible Study
DESCRIPTION:
URL:https://www.fbcjeff.org/calendar/community-bible-study/2028-09-20/
LOCATION:FBC College Room 301\, 1610 Russell Ave\, Jefferson City\, TN\, 37760\, United States
ORGANIZER;CN="FBC Church Office":MAILTO:help@fbcjeff.org
END:VEVENT
BEGIN:VEVENT
DTSTART;TZID=America/New_York:20280927T093000
DTEND;TZID=America/New_York:20280927T103000
DTSTAMP:20260419T170718
CREATED:20250717T193407Z
LAST-MODIFIED:20250717T193407Z
UID:10007790-1853659800-1853663400@www.fbcjeff.org
SUMMARY:Community Bible Study
DESCRIPTION:
URL:https://www.fbcjeff.org/calendar/community-bible-study/2028-09-27/
LOCATION:FBC College Room 301\, 1610 Russell Ave\, Jefferson City\, TN\, 37760\, United States
ORGANIZER;CN="FBC Church Office":MAILTO:help@fbcjeff.org
END:VEVENT
BEGIN:VEVENT
DTSTART;TZID=America/New_York:20281004T093000
DTEND;TZID=America/New_York:20281004T103000
DTSTAMP:20260419T170718
CREATED:20250717T193407Z
LAST-MODIFIED:20250717T193407Z
UID:10007791-1854264600-1854268200@www.fbcjeff.org
SUMMARY:Community Bible Study
DESCRIPTION:
URL:https://www.fbcjeff.org/calendar/community-bible-study/2028-10-04/
LOCATION:FBC College Room 301\, 1610 Russell Ave\, Jefferson City\, TN\, 37760\, United States
ORGANIZER;CN="FBC Church Office":MAILTO:help@fbcjeff.org
END:VEVENT
BEGIN:VEVENT
DTSTART;TZID=America/New_York:20281011T093000
DTEND;TZID=America/New_York:20281011T103000
DTSTAMP:20260419T170718
CREATED:20250717T193407Z
LAST-MODIFIED:20250717T193407Z
UID:10007792-1854869400-1854873000@www.fbcjeff.org
SUMMARY:Community Bible Study
DESCRIPTION:
URL:https://www.fbcjeff.org/calendar/community-bible-study/2028-10-11/
LOCATION:FBC College Room 301\, 1610 Russell Ave\, Jefferson City\, TN\, 37760\, United States
ORGANIZER;CN="FBC Church Office":MAILTO:help@fbcjeff.org
END:VEVENT
BEGIN:VEVENT
DTSTART;TZID=America/New_York:20281012T140000
DTEND;TZID=America/New_York:20281012T153000
DTSTAMP:20260419T170718
CREATED:20240229T050354Z
LAST-MODIFIED:20240229T050733Z
UID:10003283-1854972000-1854977400@www.fbcjeff.org
SUMMARY:Senior Fellowship Team Meeting
DESCRIPTION:
URL:https://www.fbcjeff.org/calendar/senior-fellowship-team-meeting/2028-10-12/
LOCATION:FBC College Room 301\, 1610 Russell Ave\, Jefferson City\, TN\, 37760\, United States
END:VEVENT
BEGIN:VEVENT
DTSTART;TZID=America/New_York:20281018T093000
DTEND;TZID=America/New_York:20281018T103000
DTSTAMP:20260419T170718
CREATED:20250717T193407Z
LAST-MODIFIED:20250717T193407Z
UID:10007793-1855474200-1855477800@www.fbcjeff.org
SUMMARY:Community Bible Study
DESCRIPTION:
URL:https://www.fbcjeff.org/calendar/community-bible-study/2028-10-18/
LOCATION:FBC College Room 301\, 1610 Russell Ave\, Jefferson City\, TN\, 37760\, United States
ORGANIZER;CN="FBC Church Office":MAILTO:help@fbcjeff.org
END:VEVENT
BEGIN:VEVENT
DTSTART;TZID=America/New_York:20281025T093000
DTEND;TZID=America/New_York:20281025T103000
DTSTAMP:20260419T170718
CREATED:20250717T193407Z
LAST-MODIFIED:20250717T193407Z
UID:10007794-1856079000-1856082600@www.fbcjeff.org
SUMMARY:Community Bible Study
DESCRIPTION:
URL:https://www.fbcjeff.org/calendar/community-bible-study/2028-10-25/
LOCATION:FBC College Room 301\, 1610 Russell Ave\, Jefferson City\, TN\, 37760\, United States
ORGANIZER;CN="FBC Church Office":MAILTO:help@fbcjeff.org
END:VEVENT
BEGIN:VEVENT
DTSTART;TZID=America/New_York:20281101T093000
DTEND;TZID=America/New_York:20281101T103000
DTSTAMP:20260419T170718
CREATED:20250717T193407Z
LAST-MODIFIED:20250717T193407Z
UID:10007795-1856683800-1856687400@www.fbcjeff.org
SUMMARY:Community Bible Study
DESCRIPTION:
URL:https://www.fbcjeff.org/calendar/community-bible-study/2028-11-01/
LOCATION:FBC College Room 301\, 1610 Russell Ave\, Jefferson City\, TN\, 37760\, United States
ORGANIZER;CN="FBC Church Office":MAILTO:help@fbcjeff.org
END:VEVENT
BEGIN:VEVENT
DTSTART;TZID=America/New_York:20281108T093000
DTEND;TZID=America/New_York:20281108T103000
DTSTAMP:20260419T170718
CREATED:20250717T193407Z
LAST-MODIFIED:20250717T193407Z
UID:10007796-1857288600-1857292200@www.fbcjeff.org
SUMMARY:Community Bible Study
DESCRIPTION:
URL:https://www.fbcjeff.org/calendar/community-bible-study/2028-11-08/
LOCATION:FBC College Room 301\, 1610 Russell Ave\, Jefferson City\, TN\, 37760\, United States
ORGANIZER;CN="FBC Church Office":MAILTO:help@fbcjeff.org
END:VEVENT
BEGIN:VEVENT
DTSTART;TZID=America/New_York:20281109T140000
DTEND;TZID=America/New_York:20281109T153000
DTSTAMP:20260419T170718
CREATED:20240229T050354Z
LAST-MODIFIED:20240229T050733Z
UID:10003284-1857391200-1857396600@www.fbcjeff.org
SUMMARY:Senior Fellowship Team Meeting
DESCRIPTION:
URL:https://www.fbcjeff.org/calendar/senior-fellowship-team-meeting/2028-11-09/
LOCATION:FBC College Room 301\, 1610 Russell Ave\, Jefferson City\, TN\, 37760\, United States
END:VEVENT
BEGIN:VEVENT
DTSTART;TZID=America/New_York:20281115T093000
DTEND;TZID=America/New_York:20281115T103000
DTSTAMP:20260419T170718
CREATED:20250717T193407Z
LAST-MODIFIED:20250717T193407Z
UID:10007797-1857893400-1857897000@www.fbcjeff.org
SUMMARY:Community Bible Study
DESCRIPTION:
URL:https://www.fbcjeff.org/calendar/community-bible-study/2028-11-15/
LOCATION:FBC College Room 301\, 1610 Russell Ave\, Jefferson City\, TN\, 37760\, United States
ORGANIZER;CN="FBC Church Office":MAILTO:help@fbcjeff.org
END:VEVENT
BEGIN:VEVENT
DTSTART;TZID=America/New_York:20281122T093000
DTEND;TZID=America/New_York:20281122T103000
DTSTAMP:20260419T170718
CREATED:20250717T193407Z
LAST-MODIFIED:20250717T193407Z
UID:10007798-1858498200-1858501800@www.fbcjeff.org
SUMMARY:Community Bible Study
DESCRIPTION:
URL:https://www.fbcjeff.org/calendar/community-bible-study/2028-11-22/
LOCATION:FBC College Room 301\, 1610 Russell Ave\, Jefferson City\, TN\, 37760\, United States
ORGANIZER;CN="FBC Church Office":MAILTO:help@fbcjeff.org
END:VEVENT
BEGIN:VEVENT
DTSTART;TZID=America/New_York:20281129T093000
DTEND;TZID=America/New_York:20281129T103000
DTSTAMP:20260419T170718
CREATED:20250717T193407Z
LAST-MODIFIED:20250717T193407Z
UID:10007799-1859103000-1859106600@www.fbcjeff.org
SUMMARY:Community Bible Study
DESCRIPTION:
URL:https://www.fbcjeff.org/calendar/community-bible-study/2028-11-29/
LOCATION:FBC College Room 301\, 1610 Russell Ave\, Jefferson City\, TN\, 37760\, United States
ORGANIZER;CN="FBC Church Office":MAILTO:help@fbcjeff.org
END:VEVENT
BEGIN:VEVENT
DTSTART;TZID=America/New_York:20281206T093000
DTEND;TZID=America/New_York:20281206T103000
DTSTAMP:20260419T170718
CREATED:20250717T193407Z
LAST-MODIFIED:20250717T193407Z
UID:10007800-1859707800-1859711400@www.fbcjeff.org
SUMMARY:Community Bible Study
DESCRIPTION:
URL:https://www.fbcjeff.org/calendar/community-bible-study/2028-12-06/
LOCATION:FBC College Room 301\, 1610 Russell Ave\, Jefferson City\, TN\, 37760\, United States
ORGANIZER;CN="FBC Church Office":MAILTO:help@fbcjeff.org
END:VEVENT
BEGIN:VEVENT
DTSTART;TZID=America/New_York:20281213T093000
DTEND;TZID=America/New_York:20281213T103000
DTSTAMP:20260419T170718
CREATED:20250717T193407Z
LAST-MODIFIED:20250717T193407Z
UID:10007801-1860312600-1860316200@www.fbcjeff.org
SUMMARY:Community Bible Study
DESCRIPTION:
URL:https://www.fbcjeff.org/calendar/community-bible-study/2028-12-13/
LOCATION:FBC College Room 301\, 1610 Russell Ave\, Jefferson City\, TN\, 37760\, United States
ORGANIZER;CN="FBC Church Office":MAILTO:help@fbcjeff.org
END:VEVENT
BEGIN:VEVENT
DTSTART;TZID=America/New_York:20281214T140000
DTEND;TZID=America/New_York:20281214T153000
DTSTAMP:20260419T170718
CREATED:20240229T050354Z
LAST-MODIFIED:20240229T050733Z
UID:10003285-1860415200-1860420600@www.fbcjeff.org
SUMMARY:Senior Fellowship Team Meeting
DESCRIPTION:
URL:https://www.fbcjeff.org/calendar/senior-fellowship-team-meeting/2028-12-14/
LOCATION:FBC College Room 301\, 1610 Russell Ave\, Jefferson City\, TN\, 37760\, United States
END:VEVENT
BEGIN:VEVENT
DTSTART;TZID=America/New_York:20281220T093000
DTEND;TZID=America/New_York:20281220T103000
DTSTAMP:20260419T170718
CREATED:20250717T193407Z
LAST-MODIFIED:20250717T193407Z
UID:10007802-1860917400-1860921000@www.fbcjeff.org
SUMMARY:Community Bible Study
DESCRIPTION:
URL:https://www.fbcjeff.org/calendar/community-bible-study/2028-12-20/
LOCATION:FBC College Room 301\, 1610 Russell Ave\, Jefferson City\, TN\, 37760\, United States
ORGANIZER;CN="FBC Church Office":MAILTO:help@fbcjeff.org
END:VEVENT
BEGIN:VEVENT
DTSTART;TZID=America/New_York:20281227T093000
DTEND;TZID=America/New_York:20281227T103000
DTSTAMP:20260419T170718
CREATED:20250717T193407Z
LAST-MODIFIED:20250717T193407Z
UID:10007803-1861522200-1861525800@www.fbcjeff.org
SUMMARY:Community Bible Study
DESCRIPTION:
URL:https://www.fbcjeff.org/calendar/community-bible-study/2028-12-27/
LOCATION:FBC College Room 301\, 1610 Russell Ave\, Jefferson City\, TN\, 37760\, United States
ORGANIZER;CN="FBC Church Office":MAILTO:help@fbcjeff.org
END:VEVENT
BEGIN:VEVENT
DTSTART;TZID=America/New_York:20290103T093000
DTEND;TZID=America/New_York:20290103T103000
DTSTAMP:20260419T170718
CREATED:20250717T193407Z
LAST-MODIFIED:20250717T193407Z
UID:10007804-1862127000-1862130600@www.fbcjeff.org
SUMMARY:Community Bible Study
DESCRIPTION:
URL:https://www.fbcjeff.org/calendar/community-bible-study/2029-01-03/
LOCATION:FBC College Room 301\, 1610 Russell Ave\, Jefferson City\, TN\, 37760\, United States
ORGANIZER;CN="FBC Church Office":MAILTO:help@fbcjeff.org
END:VEVENT
END:VCALENDAR