BEGIN:VCALENDAR
VERSION:2.0
PRODID:-//First Baptist Church, Jefferson City, TN - ECPv6.15.20//NONSGML v1.0//EN
CALSCALE:GREGORIAN
METHOD:PUBLISH
X-WR-CALNAME:First Baptist Church, Jefferson City, TN
X-ORIGINAL-URL:https://www.fbcjeff.org
X-WR-CALDESC:Events for First Baptist Church, Jefferson City, TN
REFRESH-INTERVAL;VALUE=DURATION:PT1H
X-Robots-Tag:noindex
X-PUBLISHED-TTL:PT1H
BEGIN:VTIMEZONE
TZID:America/New_York
BEGIN:DAYLIGHT
TZOFFSETFROM:-0500
TZOFFSETTO:-0400
TZNAME:EDT
DTSTART:20280312T070000
END:DAYLIGHT
BEGIN:STANDARD
TZOFFSETFROM:-0400
TZOFFSETTO:-0500
TZNAME:EST
DTSTART:20281105T060000
END:STANDARD
BEGIN:DAYLIGHT
TZOFFSETFROM:-0500
TZOFFSETTO:-0400
TZNAME:EDT
DTSTART:20290311T070000
END:DAYLIGHT
BEGIN:STANDARD
TZOFFSETFROM:-0400
TZOFFSETTO:-0500
TZNAME:EST
DTSTART:20291104T060000
END:STANDARD
BEGIN:DAYLIGHT
TZOFFSETFROM:-0500
TZOFFSETTO:-0400
TZNAME:EDT
DTSTART:20300310T070000
END:DAYLIGHT
BEGIN:STANDARD
TZOFFSETFROM:-0400
TZOFFSETTO:-0500
TZNAME:EST
DTSTART:20301103T060000
END:STANDARD
END:VTIMEZONE
BEGIN:VEVENT
DTSTART;TZID=America/New_York:20290627T093000
DTEND;TZID=America/New_York:20290627T103000
DTSTAMP:20260420T004301
CREATED:20250717T193407Z
LAST-MODIFIED:20250717T193407Z
UID:10007829-1877247000-1877250600@www.fbcjeff.org
SUMMARY:Community Bible Study
DESCRIPTION:
URL:https://www.fbcjeff.org/calendar/community-bible-study/2029-06-27/
LOCATION:FBC College Room 301\, 1610 Russell Ave\, Jefferson City\, TN\, 37760\, United States
ORGANIZER;CN="FBC Church Office":MAILTO:help@fbcjeff.org
END:VEVENT
BEGIN:VEVENT
DTSTART;TZID=America/New_York:20290704T093000
DTEND;TZID=America/New_York:20290704T103000
DTSTAMP:20260420T004301
CREATED:20250717T193407Z
LAST-MODIFIED:20250717T193407Z
UID:10007830-1877851800-1877855400@www.fbcjeff.org
SUMMARY:Community Bible Study
DESCRIPTION:
URL:https://www.fbcjeff.org/calendar/community-bible-study/2029-07-04/
LOCATION:FBC College Room 301\, 1610 Russell Ave\, Jefferson City\, TN\, 37760\, United States
ORGANIZER;CN="FBC Church Office":MAILTO:help@fbcjeff.org
END:VEVENT
BEGIN:VEVENT
DTSTART;TZID=America/New_York:20290711T093000
DTEND;TZID=America/New_York:20290711T103000
DTSTAMP:20260420T004301
CREATED:20250717T193407Z
LAST-MODIFIED:20250717T193407Z
UID:10007831-1878456600-1878460200@www.fbcjeff.org
SUMMARY:Community Bible Study
DESCRIPTION:
URL:https://www.fbcjeff.org/calendar/community-bible-study/2029-07-11/
LOCATION:FBC College Room 301\, 1610 Russell Ave\, Jefferson City\, TN\, 37760\, United States
ORGANIZER;CN="FBC Church Office":MAILTO:help@fbcjeff.org
END:VEVENT
BEGIN:VEVENT
DTSTART;TZID=America/New_York:20290712T140000
DTEND;TZID=America/New_York:20290712T153000
DTSTAMP:20260420T004301
CREATED:20240229T050354Z
LAST-MODIFIED:20240229T050733Z
UID:10004759-1878559200-1878564600@www.fbcjeff.org
SUMMARY:Senior Fellowship Team Meeting
DESCRIPTION:
URL:https://www.fbcjeff.org/calendar/senior-fellowship-team-meeting/2029-07-12/
LOCATION:FBC College Room 301\, 1610 Russell Ave\, Jefferson City\, TN\, 37760\, United States
END:VEVENT
BEGIN:VEVENT
DTSTART;TZID=America/New_York:20290718T093000
DTEND;TZID=America/New_York:20290718T103000
DTSTAMP:20260420T004301
CREATED:20250717T193407Z
LAST-MODIFIED:20250717T193407Z
UID:10007832-1879061400-1879065000@www.fbcjeff.org
SUMMARY:Community Bible Study
DESCRIPTION:
URL:https://www.fbcjeff.org/calendar/community-bible-study/2029-07-18/
LOCATION:FBC College Room 301\, 1610 Russell Ave\, Jefferson City\, TN\, 37760\, United States
ORGANIZER;CN="FBC Church Office":MAILTO:help@fbcjeff.org
END:VEVENT
BEGIN:VEVENT
DTSTART;TZID=America/New_York:20290725T093000
DTEND;TZID=America/New_York:20290725T103000
DTSTAMP:20260420T004301
CREATED:20250717T193407Z
LAST-MODIFIED:20250717T193407Z
UID:10007833-1879666200-1879669800@www.fbcjeff.org
SUMMARY:Community Bible Study
DESCRIPTION:
URL:https://www.fbcjeff.org/calendar/community-bible-study/2029-07-25/
LOCATION:FBC College Room 301\, 1610 Russell Ave\, Jefferson City\, TN\, 37760\, United States
ORGANIZER;CN="FBC Church Office":MAILTO:help@fbcjeff.org
END:VEVENT
BEGIN:VEVENT
DTSTART;TZID=America/New_York:20290801T093000
DTEND;TZID=America/New_York:20290801T103000
DTSTAMP:20260420T004301
CREATED:20250717T193407Z
LAST-MODIFIED:20250717T193407Z
UID:10007834-1880271000-1880274600@www.fbcjeff.org
SUMMARY:Community Bible Study
DESCRIPTION:
URL:https://www.fbcjeff.org/calendar/community-bible-study/2029-08-01/
LOCATION:FBC College Room 301\, 1610 Russell Ave\, Jefferson City\, TN\, 37760\, United States
ORGANIZER;CN="FBC Church Office":MAILTO:help@fbcjeff.org
END:VEVENT
BEGIN:VEVENT
DTSTART;TZID=America/New_York:20290808T093000
DTEND;TZID=America/New_York:20290808T103000
DTSTAMP:20260420T004301
CREATED:20250717T193407Z
LAST-MODIFIED:20250717T193407Z
UID:10007835-1880875800-1880879400@www.fbcjeff.org
SUMMARY:Community Bible Study
DESCRIPTION:
URL:https://www.fbcjeff.org/calendar/community-bible-study/2029-08-08/
LOCATION:FBC College Room 301\, 1610 Russell Ave\, Jefferson City\, TN\, 37760\, United States
ORGANIZER;CN="FBC Church Office":MAILTO:help@fbcjeff.org
END:VEVENT
BEGIN:VEVENT
DTSTART;TZID=America/New_York:20290809T140000
DTEND;TZID=America/New_York:20290809T153000
DTSTAMP:20260420T004301
CREATED:20240229T050354Z
LAST-MODIFIED:20240229T050733Z
UID:10004760-1880978400-1880983800@www.fbcjeff.org
SUMMARY:Senior Fellowship Team Meeting
DESCRIPTION:
URL:https://www.fbcjeff.org/calendar/senior-fellowship-team-meeting/2029-08-09/
LOCATION:FBC College Room 301\, 1610 Russell Ave\, Jefferson City\, TN\, 37760\, United States
END:VEVENT
BEGIN:VEVENT
DTSTART;TZID=America/New_York:20290815T093000
DTEND;TZID=America/New_York:20290815T103000
DTSTAMP:20260420T004301
CREATED:20250717T193407Z
LAST-MODIFIED:20250717T193407Z
UID:10007836-1881480600-1881484200@www.fbcjeff.org
SUMMARY:Community Bible Study
DESCRIPTION:
URL:https://www.fbcjeff.org/calendar/community-bible-study/2029-08-15/
LOCATION:FBC College Room 301\, 1610 Russell Ave\, Jefferson City\, TN\, 37760\, United States
ORGANIZER;CN="FBC Church Office":MAILTO:help@fbcjeff.org
END:VEVENT
BEGIN:VEVENT
DTSTART;TZID=America/New_York:20290822T093000
DTEND;TZID=America/New_York:20290822T103000
DTSTAMP:20260420T004301
CREATED:20250717T193407Z
LAST-MODIFIED:20250717T193407Z
UID:10007837-1882085400-1882089000@www.fbcjeff.org
SUMMARY:Community Bible Study
DESCRIPTION:
URL:https://www.fbcjeff.org/calendar/community-bible-study/2029-08-22/
LOCATION:FBC College Room 301\, 1610 Russell Ave\, Jefferson City\, TN\, 37760\, United States
ORGANIZER;CN="FBC Church Office":MAILTO:help@fbcjeff.org
END:VEVENT
BEGIN:VEVENT
DTSTART;TZID=America/New_York:20290829T093000
DTEND;TZID=America/New_York:20290829T103000
DTSTAMP:20260420T004301
CREATED:20250717T193407Z
LAST-MODIFIED:20250717T193407Z
UID:10007838-1882690200-1882693800@www.fbcjeff.org
SUMMARY:Community Bible Study
DESCRIPTION:
URL:https://www.fbcjeff.org/calendar/community-bible-study/2029-08-29/
LOCATION:FBC College Room 301\, 1610 Russell Ave\, Jefferson City\, TN\, 37760\, United States
ORGANIZER;CN="FBC Church Office":MAILTO:help@fbcjeff.org
END:VEVENT
BEGIN:VEVENT
DTSTART;TZID=America/New_York:20290905T093000
DTEND;TZID=America/New_York:20290905T103000
DTSTAMP:20260420T004301
CREATED:20250717T193407Z
LAST-MODIFIED:20250717T193407Z
UID:10007839-1883295000-1883298600@www.fbcjeff.org
SUMMARY:Community Bible Study
DESCRIPTION:
URL:https://www.fbcjeff.org/calendar/community-bible-study/2029-09-05/
LOCATION:FBC College Room 301\, 1610 Russell Ave\, Jefferson City\, TN\, 37760\, United States
ORGANIZER;CN="FBC Church Office":MAILTO:help@fbcjeff.org
END:VEVENT
BEGIN:VEVENT
DTSTART;TZID=America/New_York:20290912T093000
DTEND;TZID=America/New_York:20290912T103000
DTSTAMP:20260420T004301
CREATED:20250717T193407Z
LAST-MODIFIED:20250717T193407Z
UID:10007840-1883899800-1883903400@www.fbcjeff.org
SUMMARY:Community Bible Study
DESCRIPTION:
URL:https://www.fbcjeff.org/calendar/community-bible-study/2029-09-12/
LOCATION:FBC College Room 301\, 1610 Russell Ave\, Jefferson City\, TN\, 37760\, United States
ORGANIZER;CN="FBC Church Office":MAILTO:help@fbcjeff.org
END:VEVENT
BEGIN:VEVENT
DTSTART;TZID=America/New_York:20290913T140000
DTEND;TZID=America/New_York:20290913T153000
DTSTAMP:20260420T004301
CREATED:20240229T050354Z
LAST-MODIFIED:20240229T050733Z
UID:10004761-1884002400-1884007800@www.fbcjeff.org
SUMMARY:Senior Fellowship Team Meeting
DESCRIPTION:
URL:https://www.fbcjeff.org/calendar/senior-fellowship-team-meeting/2029-09-13/
LOCATION:FBC College Room 301\, 1610 Russell Ave\, Jefferson City\, TN\, 37760\, United States
END:VEVENT
BEGIN:VEVENT
DTSTART;TZID=America/New_York:20290919T093000
DTEND;TZID=America/New_York:20290919T103000
DTSTAMP:20260420T004301
CREATED:20250717T193407Z
LAST-MODIFIED:20250717T193407Z
UID:10007841-1884504600-1884508200@www.fbcjeff.org
SUMMARY:Community Bible Study
DESCRIPTION:
URL:https://www.fbcjeff.org/calendar/community-bible-study/2029-09-19/
LOCATION:FBC College Room 301\, 1610 Russell Ave\, Jefferson City\, TN\, 37760\, United States
ORGANIZER;CN="FBC Church Office":MAILTO:help@fbcjeff.org
END:VEVENT
BEGIN:VEVENT
DTSTART;TZID=America/New_York:20290926T093000
DTEND;TZID=America/New_York:20290926T103000
DTSTAMP:20260420T004301
CREATED:20250717T193407Z
LAST-MODIFIED:20250717T193407Z
UID:10007842-1885109400-1885113000@www.fbcjeff.org
SUMMARY:Community Bible Study
DESCRIPTION:
URL:https://www.fbcjeff.org/calendar/community-bible-study/2029-09-26/
LOCATION:FBC College Room 301\, 1610 Russell Ave\, Jefferson City\, TN\, 37760\, United States
ORGANIZER;CN="FBC Church Office":MAILTO:help@fbcjeff.org
END:VEVENT
BEGIN:VEVENT
DTSTART;TZID=America/New_York:20291003T093000
DTEND;TZID=America/New_York:20291003T103000
DTSTAMP:20260420T004301
CREATED:20250717T193407Z
LAST-MODIFIED:20250717T193407Z
UID:10007843-1885714200-1885717800@www.fbcjeff.org
SUMMARY:Community Bible Study
DESCRIPTION:
URL:https://www.fbcjeff.org/calendar/community-bible-study/2029-10-03/
LOCATION:FBC College Room 301\, 1610 Russell Ave\, Jefferson City\, TN\, 37760\, United States
ORGANIZER;CN="FBC Church Office":MAILTO:help@fbcjeff.org
END:VEVENT
BEGIN:VEVENT
DTSTART;TZID=America/New_York:20291010T093000
DTEND;TZID=America/New_York:20291010T103000
DTSTAMP:20260420T004301
CREATED:20250717T193407Z
LAST-MODIFIED:20250717T193407Z
UID:10007844-1886319000-1886322600@www.fbcjeff.org
SUMMARY:Community Bible Study
DESCRIPTION:
URL:https://www.fbcjeff.org/calendar/community-bible-study/2029-10-10/
LOCATION:FBC College Room 301\, 1610 Russell Ave\, Jefferson City\, TN\, 37760\, United States
ORGANIZER;CN="FBC Church Office":MAILTO:help@fbcjeff.org
END:VEVENT
BEGIN:VEVENT
DTSTART;TZID=America/New_York:20291011T140000
DTEND;TZID=America/New_York:20291011T153000
DTSTAMP:20260420T004301
CREATED:20240229T050354Z
LAST-MODIFIED:20240229T050733Z
UID:10004762-1886421600-1886427000@www.fbcjeff.org
SUMMARY:Senior Fellowship Team Meeting
DESCRIPTION:
URL:https://www.fbcjeff.org/calendar/senior-fellowship-team-meeting/2029-10-11/
LOCATION:FBC College Room 301\, 1610 Russell Ave\, Jefferson City\, TN\, 37760\, United States
END:VEVENT
BEGIN:VEVENT
DTSTART;TZID=America/New_York:20291017T093000
DTEND;TZID=America/New_York:20291017T103000
DTSTAMP:20260420T004301
CREATED:20250717T193407Z
LAST-MODIFIED:20250717T193407Z
UID:10007845-1886923800-1886927400@www.fbcjeff.org
SUMMARY:Community Bible Study
DESCRIPTION:
URL:https://www.fbcjeff.org/calendar/community-bible-study/2029-10-17/
LOCATION:FBC College Room 301\, 1610 Russell Ave\, Jefferson City\, TN\, 37760\, United States
ORGANIZER;CN="FBC Church Office":MAILTO:help@fbcjeff.org
END:VEVENT
BEGIN:VEVENT
DTSTART;TZID=America/New_York:20291024T093000
DTEND;TZID=America/New_York:20291024T103000
DTSTAMP:20260420T004301
CREATED:20250717T193407Z
LAST-MODIFIED:20250717T193407Z
UID:10007846-1887528600-1887532200@www.fbcjeff.org
SUMMARY:Community Bible Study
DESCRIPTION:
URL:https://www.fbcjeff.org/calendar/community-bible-study/2029-10-24/
LOCATION:FBC College Room 301\, 1610 Russell Ave\, Jefferson City\, TN\, 37760\, United States
ORGANIZER;CN="FBC Church Office":MAILTO:help@fbcjeff.org
END:VEVENT
BEGIN:VEVENT
DTSTART;TZID=America/New_York:20291031T093000
DTEND;TZID=America/New_York:20291031T103000
DTSTAMP:20260420T004301
CREATED:20250717T193407Z
LAST-MODIFIED:20250717T193407Z
UID:10007847-1888133400-1888137000@www.fbcjeff.org
SUMMARY:Community Bible Study
DESCRIPTION:
URL:https://www.fbcjeff.org/calendar/community-bible-study/2029-10-31/
LOCATION:FBC College Room 301\, 1610 Russell Ave\, Jefferson City\, TN\, 37760\, United States
ORGANIZER;CN="FBC Church Office":MAILTO:help@fbcjeff.org
END:VEVENT
BEGIN:VEVENT
DTSTART;TZID=America/New_York:20291107T093000
DTEND;TZID=America/New_York:20291107T103000
DTSTAMP:20260420T004301
CREATED:20250717T193407Z
LAST-MODIFIED:20250717T193407Z
UID:10007848-1888738200-1888741800@www.fbcjeff.org
SUMMARY:Community Bible Study
DESCRIPTION:
URL:https://www.fbcjeff.org/calendar/community-bible-study/2029-11-07/
LOCATION:FBC College Room 301\, 1610 Russell Ave\, Jefferson City\, TN\, 37760\, United States
ORGANIZER;CN="FBC Church Office":MAILTO:help@fbcjeff.org
END:VEVENT
BEGIN:VEVENT
DTSTART;TZID=America/New_York:20291108T140000
DTEND;TZID=America/New_York:20291108T153000
DTSTAMP:20260420T004301
CREATED:20240229T050354Z
LAST-MODIFIED:20240229T050733Z
UID:10004763-1888840800-1888846200@www.fbcjeff.org
SUMMARY:Senior Fellowship Team Meeting
DESCRIPTION:
URL:https://www.fbcjeff.org/calendar/senior-fellowship-team-meeting/2029-11-08/
LOCATION:FBC College Room 301\, 1610 Russell Ave\, Jefferson City\, TN\, 37760\, United States
END:VEVENT
BEGIN:VEVENT
DTSTART;TZID=America/New_York:20291114T093000
DTEND;TZID=America/New_York:20291114T103000
DTSTAMP:20260420T004301
CREATED:20250717T193407Z
LAST-MODIFIED:20250717T193407Z
UID:10007849-1889343000-1889346600@www.fbcjeff.org
SUMMARY:Community Bible Study
DESCRIPTION:
URL:https://www.fbcjeff.org/calendar/community-bible-study/2029-11-14/
LOCATION:FBC College Room 301\, 1610 Russell Ave\, Jefferson City\, TN\, 37760\, United States
ORGANIZER;CN="FBC Church Office":MAILTO:help@fbcjeff.org
END:VEVENT
BEGIN:VEVENT
DTSTART;TZID=America/New_York:20291121T093000
DTEND;TZID=America/New_York:20291121T103000
DTSTAMP:20260420T004301
CREATED:20250717T193407Z
LAST-MODIFIED:20250717T193407Z
UID:10007850-1889947800-1889951400@www.fbcjeff.org
SUMMARY:Community Bible Study
DESCRIPTION:
URL:https://www.fbcjeff.org/calendar/community-bible-study/2029-11-21/
LOCATION:FBC College Room 301\, 1610 Russell Ave\, Jefferson City\, TN\, 37760\, United States
ORGANIZER;CN="FBC Church Office":MAILTO:help@fbcjeff.org
END:VEVENT
BEGIN:VEVENT
DTSTART;TZID=America/New_York:20291128T093000
DTEND;TZID=America/New_York:20291128T103000
DTSTAMP:20260420T004301
CREATED:20250717T193407Z
LAST-MODIFIED:20250717T193407Z
UID:10007851-1890552600-1890556200@www.fbcjeff.org
SUMMARY:Community Bible Study
DESCRIPTION:
URL:https://www.fbcjeff.org/calendar/community-bible-study/2029-11-28/
LOCATION:FBC College Room 301\, 1610 Russell Ave\, Jefferson City\, TN\, 37760\, United States
ORGANIZER;CN="FBC Church Office":MAILTO:help@fbcjeff.org
END:VEVENT
BEGIN:VEVENT
DTSTART;TZID=America/New_York:20291205T093000
DTEND;TZID=America/New_York:20291205T103000
DTSTAMP:20260420T004301
CREATED:20250717T193407Z
LAST-MODIFIED:20250717T193407Z
UID:10007852-1891157400-1891161000@www.fbcjeff.org
SUMMARY:Community Bible Study
DESCRIPTION:
URL:https://www.fbcjeff.org/calendar/community-bible-study/2029-12-05/
LOCATION:FBC College Room 301\, 1610 Russell Ave\, Jefferson City\, TN\, 37760\, United States
ORGANIZER;CN="FBC Church Office":MAILTO:help@fbcjeff.org
END:VEVENT
BEGIN:VEVENT
DTSTART;TZID=America/New_York:20291212T093000
DTEND;TZID=America/New_York:20291212T103000
DTSTAMP:20260420T004301
CREATED:20250717T193407Z
LAST-MODIFIED:20250717T193407Z
UID:10007853-1891762200-1891765800@www.fbcjeff.org
SUMMARY:Community Bible Study
DESCRIPTION:
URL:https://www.fbcjeff.org/calendar/community-bible-study/2029-12-12/
LOCATION:FBC College Room 301\, 1610 Russell Ave\, Jefferson City\, TN\, 37760\, United States
ORGANIZER;CN="FBC Church Office":MAILTO:help@fbcjeff.org
END:VEVENT
END:VCALENDAR