BEGIN:VCALENDAR
VERSION:2.0
PRODID:-//First Baptist Church, Jefferson City, TN - ECPv6.15.20//NONSGML v1.0//EN
CALSCALE:GREGORIAN
METHOD:PUBLISH
X-ORIGINAL-URL:https://www.fbcjeff.org
X-WR-CALDESC:Events for First Baptist Church, Jefferson City, TN
REFRESH-INTERVAL;VALUE=DURATION:PT1H
X-Robots-Tag:noindex
X-PUBLISHED-TTL:PT1H
BEGIN:VTIMEZONE
TZID:America/New_York
BEGIN:DAYLIGHT
TZOFFSETFROM:-0500
TZOFFSETTO:-0400
TZNAME:EDT
DTSTART:20280312T070000
END:DAYLIGHT
BEGIN:STANDARD
TZOFFSETFROM:-0400
TZOFFSETTO:-0500
TZNAME:EST
DTSTART:20281105T060000
END:STANDARD
BEGIN:DAYLIGHT
TZOFFSETFROM:-0500
TZOFFSETTO:-0400
TZNAME:EDT
DTSTART:20290311T070000
END:DAYLIGHT
BEGIN:STANDARD
TZOFFSETFROM:-0400
TZOFFSETTO:-0500
TZNAME:EST
DTSTART:20291104T060000
END:STANDARD
BEGIN:DAYLIGHT
TZOFFSETFROM:-0500
TZOFFSETTO:-0400
TZNAME:EDT
DTSTART:20300310T070000
END:DAYLIGHT
BEGIN:STANDARD
TZOFFSETFROM:-0400
TZOFFSETTO:-0500
TZNAME:EST
DTSTART:20301103T060000
END:STANDARD
BEGIN:DAYLIGHT
TZOFFSETFROM:-0500
TZOFFSETTO:-0400
TZNAME:EDT
DTSTART:20310309T070000
END:DAYLIGHT
BEGIN:STANDARD
TZOFFSETFROM:-0400
TZOFFSETTO:-0500
TZNAME:EST
DTSTART:20311102T060000
END:STANDARD
END:VTIMEZONE
BEGIN:VEVENT
DTSTART;TZID=America/New_York:20291108T140000
DTEND;TZID=America/New_York:20291108T153000
DTSTAMP:20260420T032241
CREATED:20240229T050354Z
LAST-MODIFIED:20240229T050733Z
UID:10004763-1888840800-1888846200@www.fbcjeff.org
SUMMARY:Senior Fellowship Team Meeting
DESCRIPTION:
URL:https://www.fbcjeff.org/calendar/senior-fellowship-team-meeting/2029-11-08/
LOCATION:FBC College Room 301\, 1610 Russell Ave\, Jefferson City\, TN\, 37760\, United States
END:VEVENT
BEGIN:VEVENT
DTSTART;TZID=America/New_York:20291114T093000
DTEND;TZID=America/New_York:20291114T103000
DTSTAMP:20260420T032241
CREATED:20250717T193407Z
LAST-MODIFIED:20250717T193407Z
UID:10007849-1889343000-1889346600@www.fbcjeff.org
SUMMARY:Community Bible Study
DESCRIPTION:
URL:https://www.fbcjeff.org/calendar/community-bible-study/2029-11-14/
LOCATION:FBC College Room 301\, 1610 Russell Ave\, Jefferson City\, TN\, 37760\, United States
ORGANIZER;CN="FBC Church Office":MAILTO:help@fbcjeff.org
END:VEVENT
BEGIN:VEVENT
DTSTART;TZID=America/New_York:20291121T093000
DTEND;TZID=America/New_York:20291121T103000
DTSTAMP:20260420T032241
CREATED:20250717T193407Z
LAST-MODIFIED:20250717T193407Z
UID:10007850-1889947800-1889951400@www.fbcjeff.org
SUMMARY:Community Bible Study
DESCRIPTION:
URL:https://www.fbcjeff.org/calendar/community-bible-study/2029-11-21/
LOCATION:FBC College Room 301\, 1610 Russell Ave\, Jefferson City\, TN\, 37760\, United States
ORGANIZER;CN="FBC Church Office":MAILTO:help@fbcjeff.org
END:VEVENT
BEGIN:VEVENT
DTSTART;TZID=America/New_York:20291128T093000
DTEND;TZID=America/New_York:20291128T103000
DTSTAMP:20260420T032241
CREATED:20250717T193407Z
LAST-MODIFIED:20250717T193407Z
UID:10007851-1890552600-1890556200@www.fbcjeff.org
SUMMARY:Community Bible Study
DESCRIPTION:
URL:https://www.fbcjeff.org/calendar/community-bible-study/2029-11-28/
LOCATION:FBC College Room 301\, 1610 Russell Ave\, Jefferson City\, TN\, 37760\, United States
ORGANIZER;CN="FBC Church Office":MAILTO:help@fbcjeff.org
END:VEVENT
BEGIN:VEVENT
DTSTART;TZID=America/New_York:20291205T093000
DTEND;TZID=America/New_York:20291205T103000
DTSTAMP:20260420T032241
CREATED:20250717T193407Z
LAST-MODIFIED:20250717T193407Z
UID:10007852-1891157400-1891161000@www.fbcjeff.org
SUMMARY:Community Bible Study
DESCRIPTION:
URL:https://www.fbcjeff.org/calendar/community-bible-study/2029-12-05/
LOCATION:FBC College Room 301\, 1610 Russell Ave\, Jefferson City\, TN\, 37760\, United States
ORGANIZER;CN="FBC Church Office":MAILTO:help@fbcjeff.org
END:VEVENT
BEGIN:VEVENT
DTSTART;TZID=America/New_York:20291212T093000
DTEND;TZID=America/New_York:20291212T103000
DTSTAMP:20260420T032241
CREATED:20250717T193407Z
LAST-MODIFIED:20250717T193407Z
UID:10007853-1891762200-1891765800@www.fbcjeff.org
SUMMARY:Community Bible Study
DESCRIPTION:
URL:https://www.fbcjeff.org/calendar/community-bible-study/2029-12-12/
LOCATION:FBC College Room 301\, 1610 Russell Ave\, Jefferson City\, TN\, 37760\, United States
ORGANIZER;CN="FBC Church Office":MAILTO:help@fbcjeff.org
END:VEVENT
BEGIN:VEVENT
DTSTART;TZID=America/New_York:20291213T140000
DTEND;TZID=America/New_York:20291213T153000
DTSTAMP:20260420T032241
CREATED:20240229T050354Z
LAST-MODIFIED:20240229T050733Z
UID:10004897-1891864800-1891870200@www.fbcjeff.org
SUMMARY:Senior Fellowship Team Meeting
DESCRIPTION:
URL:https://www.fbcjeff.org/calendar/senior-fellowship-team-meeting/2029-12-13/
LOCATION:FBC College Room 301\, 1610 Russell Ave\, Jefferson City\, TN\, 37760\, United States
END:VEVENT
BEGIN:VEVENT
DTSTART;TZID=America/New_York:20291219T093000
DTEND;TZID=America/New_York:20291219T103000
DTSTAMP:20260420T032241
CREATED:20250717T193407Z
LAST-MODIFIED:20250717T193407Z
UID:10007854-1892367000-1892370600@www.fbcjeff.org
SUMMARY:Community Bible Study
DESCRIPTION:
URL:https://www.fbcjeff.org/calendar/community-bible-study/2029-12-19/
LOCATION:FBC College Room 301\, 1610 Russell Ave\, Jefferson City\, TN\, 37760\, United States
ORGANIZER;CN="FBC Church Office":MAILTO:help@fbcjeff.org
END:VEVENT
BEGIN:VEVENT
DTSTART;TZID=America/New_York:20291226T093000
DTEND;TZID=America/New_York:20291226T103000
DTSTAMP:20260420T032241
CREATED:20250717T193407Z
LAST-MODIFIED:20250717T193407Z
UID:10007855-1892971800-1892975400@www.fbcjeff.org
SUMMARY:Community Bible Study
DESCRIPTION:
URL:https://www.fbcjeff.org/calendar/community-bible-study/2029-12-26/
LOCATION:FBC College Room 301\, 1610 Russell Ave\, Jefferson City\, TN\, 37760\, United States
ORGANIZER;CN="FBC Church Office":MAILTO:help@fbcjeff.org
END:VEVENT
BEGIN:VEVENT
DTSTART;TZID=America/New_York:20300102T093000
DTEND;TZID=America/New_York:20300102T103000
DTSTAMP:20260420T032241
CREATED:20250717T193407Z
LAST-MODIFIED:20250717T193407Z
UID:10007856-1893576600-1893580200@www.fbcjeff.org
SUMMARY:Community Bible Study
DESCRIPTION:
URL:https://www.fbcjeff.org/calendar/community-bible-study/2030-01-02/
LOCATION:FBC College Room 301\, 1610 Russell Ave\, Jefferson City\, TN\, 37760\, United States
ORGANIZER;CN="FBC Church Office":MAILTO:help@fbcjeff.org
END:VEVENT
BEGIN:VEVENT
DTSTART;TZID=America/New_York:20300109T093000
DTEND;TZID=America/New_York:20300109T103000
DTSTAMP:20260420T032241
CREATED:20250717T193407Z
LAST-MODIFIED:20250717T193407Z
UID:10007857-1894181400-1894185000@www.fbcjeff.org
SUMMARY:Community Bible Study
DESCRIPTION:
URL:https://www.fbcjeff.org/calendar/community-bible-study/2030-01-09/
LOCATION:FBC College Room 301\, 1610 Russell Ave\, Jefferson City\, TN\, 37760\, United States
ORGANIZER;CN="FBC Church Office":MAILTO:help@fbcjeff.org
END:VEVENT
BEGIN:VEVENT
DTSTART;TZID=America/New_York:20300110T140000
DTEND;TZID=America/New_York:20300110T153000
DTSTAMP:20260420T032241
CREATED:20240229T050354Z
LAST-MODIFIED:20240229T050733Z
UID:10004957-1894284000-1894289400@www.fbcjeff.org
SUMMARY:Senior Fellowship Team Meeting
DESCRIPTION:
URL:https://www.fbcjeff.org/calendar/senior-fellowship-team-meeting/2030-01-10/
LOCATION:FBC College Room 301\, 1610 Russell Ave\, Jefferson City\, TN\, 37760\, United States
END:VEVENT
BEGIN:VEVENT
DTSTART;TZID=America/New_York:20300116T093000
DTEND;TZID=America/New_York:20300116T103000
DTSTAMP:20260420T032242
CREATED:20250717T193407Z
LAST-MODIFIED:20250717T193407Z
UID:10007858-1894786200-1894789800@www.fbcjeff.org
SUMMARY:Community Bible Study
DESCRIPTION:
URL:https://www.fbcjeff.org/calendar/community-bible-study/2030-01-16/
LOCATION:FBC College Room 301\, 1610 Russell Ave\, Jefferson City\, TN\, 37760\, United States
ORGANIZER;CN="FBC Church Office":MAILTO:help@fbcjeff.org
END:VEVENT
BEGIN:VEVENT
DTSTART;TZID=America/New_York:20300123T093000
DTEND;TZID=America/New_York:20300123T103000
DTSTAMP:20260420T032242
CREATED:20250717T193407Z
LAST-MODIFIED:20250717T193407Z
UID:10007859-1895391000-1895394600@www.fbcjeff.org
SUMMARY:Community Bible Study
DESCRIPTION:
URL:https://www.fbcjeff.org/calendar/community-bible-study/2030-01-23/
LOCATION:FBC College Room 301\, 1610 Russell Ave\, Jefferson City\, TN\, 37760\, United States
ORGANIZER;CN="FBC Church Office":MAILTO:help@fbcjeff.org
END:VEVENT
BEGIN:VEVENT
DTSTART;TZID=America/New_York:20300130T093000
DTEND;TZID=America/New_York:20300130T103000
DTSTAMP:20260420T032242
CREATED:20250717T193407Z
LAST-MODIFIED:20250717T193407Z
UID:10007860-1895995800-1895999400@www.fbcjeff.org
SUMMARY:Community Bible Study
DESCRIPTION:
URL:https://www.fbcjeff.org/calendar/community-bible-study/2030-01-30/
LOCATION:FBC College Room 301\, 1610 Russell Ave\, Jefferson City\, TN\, 37760\, United States
ORGANIZER;CN="FBC Church Office":MAILTO:help@fbcjeff.org
END:VEVENT
BEGIN:VEVENT
DTSTART;TZID=America/New_York:20300206T093000
DTEND;TZID=America/New_York:20300206T103000
DTSTAMP:20260420T032242
CREATED:20250717T193407Z
LAST-MODIFIED:20250717T193407Z
UID:10007861-1896600600-1896604200@www.fbcjeff.org
SUMMARY:Community Bible Study
DESCRIPTION:
URL:https://www.fbcjeff.org/calendar/community-bible-study/2030-02-06/
LOCATION:FBC College Room 301\, 1610 Russell Ave\, Jefferson City\, TN\, 37760\, United States
ORGANIZER;CN="FBC Church Office":MAILTO:help@fbcjeff.org
END:VEVENT
BEGIN:VEVENT
DTSTART;TZID=America/New_York:20300213T093000
DTEND;TZID=America/New_York:20300213T103000
DTSTAMP:20260420T032242
CREATED:20250717T193407Z
LAST-MODIFIED:20250717T193407Z
UID:10007862-1897205400-1897209000@www.fbcjeff.org
SUMMARY:Community Bible Study
DESCRIPTION:
URL:https://www.fbcjeff.org/calendar/community-bible-study/2030-02-13/
LOCATION:FBC College Room 301\, 1610 Russell Ave\, Jefferson City\, TN\, 37760\, United States
ORGANIZER;CN="FBC Church Office":MAILTO:help@fbcjeff.org
END:VEVENT
BEGIN:VEVENT
DTSTART;TZID=America/New_York:20300214T140000
DTEND;TZID=America/New_York:20300214T153000
DTSTAMP:20260420T032242
CREATED:20240229T050354Z
LAST-MODIFIED:20240229T050733Z
UID:10005183-1897308000-1897313400@www.fbcjeff.org
SUMMARY:Senior Fellowship Team Meeting
DESCRIPTION:
URL:https://www.fbcjeff.org/calendar/senior-fellowship-team-meeting/2030-02-14/
LOCATION:FBC College Room 301\, 1610 Russell Ave\, Jefferson City\, TN\, 37760\, United States
END:VEVENT
BEGIN:VEVENT
DTSTART;TZID=America/New_York:20300220T093000
DTEND;TZID=America/New_York:20300220T103000
DTSTAMP:20260420T032242
CREATED:20250717T193407Z
LAST-MODIFIED:20250717T193407Z
UID:10007863-1897810200-1897813800@www.fbcjeff.org
SUMMARY:Community Bible Study
DESCRIPTION:
URL:https://www.fbcjeff.org/calendar/community-bible-study/2030-02-20/
LOCATION:FBC College Room 301\, 1610 Russell Ave\, Jefferson City\, TN\, 37760\, United States
ORGANIZER;CN="FBC Church Office":MAILTO:help@fbcjeff.org
END:VEVENT
BEGIN:VEVENT
DTSTART;TZID=America/New_York:20300227T093000
DTEND;TZID=America/New_York:20300227T103000
DTSTAMP:20260420T032242
CREATED:20250717T193407Z
LAST-MODIFIED:20250717T193407Z
UID:10007864-1898415000-1898418600@www.fbcjeff.org
SUMMARY:Community Bible Study
DESCRIPTION:
URL:https://www.fbcjeff.org/calendar/community-bible-study/2030-02-27/
LOCATION:FBC College Room 301\, 1610 Russell Ave\, Jefferson City\, TN\, 37760\, United States
ORGANIZER;CN="FBC Church Office":MAILTO:help@fbcjeff.org
END:VEVENT
BEGIN:VEVENT
DTSTART;TZID=America/New_York:20300306T093000
DTEND;TZID=America/New_York:20300306T103000
DTSTAMP:20260420T032242
CREATED:20250717T193407Z
LAST-MODIFIED:20250717T193407Z
UID:10007865-1899019800-1899023400@www.fbcjeff.org
SUMMARY:Community Bible Study
DESCRIPTION:
URL:https://www.fbcjeff.org/calendar/community-bible-study/2030-03-06/
LOCATION:FBC College Room 301\, 1610 Russell Ave\, Jefferson City\, TN\, 37760\, United States
ORGANIZER;CN="FBC Church Office":MAILTO:help@fbcjeff.org
END:VEVENT
BEGIN:VEVENT
DTSTART;TZID=America/New_York:20300313T093000
DTEND;TZID=America/New_York:20300313T103000
DTSTAMP:20260420T032242
CREATED:20250717T193407Z
LAST-MODIFIED:20250717T193407Z
UID:10007866-1899624600-1899628200@www.fbcjeff.org
SUMMARY:Community Bible Study
DESCRIPTION:
URL:https://www.fbcjeff.org/calendar/community-bible-study/2030-03-13/
LOCATION:FBC College Room 301\, 1610 Russell Ave\, Jefferson City\, TN\, 37760\, United States
ORGANIZER;CN="FBC Church Office":MAILTO:help@fbcjeff.org
END:VEVENT
BEGIN:VEVENT
DTSTART;TZID=America/New_York:20300314T140000
DTEND;TZID=America/New_York:20300314T153000
DTSTAMP:20260420T032242
CREATED:20240229T050354Z
LAST-MODIFIED:20240229T050733Z
UID:10005261-1899727200-1899732600@www.fbcjeff.org
SUMMARY:Senior Fellowship Team Meeting
DESCRIPTION:
URL:https://www.fbcjeff.org/calendar/senior-fellowship-team-meeting/2030-03-14/
LOCATION:FBC College Room 301\, 1610 Russell Ave\, Jefferson City\, TN\, 37760\, United States
END:VEVENT
BEGIN:VEVENT
DTSTART;TZID=America/New_York:20300320T093000
DTEND;TZID=America/New_York:20300320T103000
DTSTAMP:20260420T032242
CREATED:20250717T193407Z
LAST-MODIFIED:20250717T193407Z
UID:10007867-1900229400-1900233000@www.fbcjeff.org
SUMMARY:Community Bible Study
DESCRIPTION:
URL:https://www.fbcjeff.org/calendar/community-bible-study/2030-03-20/
LOCATION:FBC College Room 301\, 1610 Russell Ave\, Jefferson City\, TN\, 37760\, United States
ORGANIZER;CN="FBC Church Office":MAILTO:help@fbcjeff.org
END:VEVENT
BEGIN:VEVENT
DTSTART;TZID=America/New_York:20300327T093000
DTEND;TZID=America/New_York:20300327T103000
DTSTAMP:20260420T032242
CREATED:20250717T193407Z
LAST-MODIFIED:20250717T193407Z
UID:10007868-1900834200-1900837800@www.fbcjeff.org
SUMMARY:Community Bible Study
DESCRIPTION:
URL:https://www.fbcjeff.org/calendar/community-bible-study/2030-03-27/
LOCATION:FBC College Room 301\, 1610 Russell Ave\, Jefferson City\, TN\, 37760\, United States
ORGANIZER;CN="FBC Church Office":MAILTO:help@fbcjeff.org
END:VEVENT
BEGIN:VEVENT
DTSTART;TZID=America/New_York:20300403T093000
DTEND;TZID=America/New_York:20300403T103000
DTSTAMP:20260420T032242
CREATED:20250717T193407Z
LAST-MODIFIED:20250717T193407Z
UID:10007869-1901439000-1901442600@www.fbcjeff.org
SUMMARY:Community Bible Study
DESCRIPTION:
URL:https://www.fbcjeff.org/calendar/community-bible-study/2030-04-03/
LOCATION:FBC College Room 301\, 1610 Russell Ave\, Jefferson City\, TN\, 37760\, United States
ORGANIZER;CN="FBC Church Office":MAILTO:help@fbcjeff.org
END:VEVENT
BEGIN:VEVENT
DTSTART;TZID=America/New_York:20300410T093000
DTEND;TZID=America/New_York:20300410T103000
DTSTAMP:20260420T032242
CREATED:20250717T193407Z
LAST-MODIFIED:20250717T193407Z
UID:10007870-1902043800-1902047400@www.fbcjeff.org
SUMMARY:Community Bible Study
DESCRIPTION:
URL:https://www.fbcjeff.org/calendar/community-bible-study/2030-04-10/
LOCATION:FBC College Room 301\, 1610 Russell Ave\, Jefferson City\, TN\, 37760\, United States
ORGANIZER;CN="FBC Church Office":MAILTO:help@fbcjeff.org
END:VEVENT
BEGIN:VEVENT
DTSTART;TZID=America/New_York:20300411T140000
DTEND;TZID=America/New_York:20300411T153000
DTSTAMP:20260420T032242
CREATED:20240229T050354Z
LAST-MODIFIED:20240229T050733Z
UID:10005262-1902146400-1902151800@www.fbcjeff.org
SUMMARY:Senior Fellowship Team Meeting
DESCRIPTION:
URL:https://www.fbcjeff.org/calendar/senior-fellowship-team-meeting/2030-04-11/
LOCATION:FBC College Room 301\, 1610 Russell Ave\, Jefferson City\, TN\, 37760\, United States
END:VEVENT
BEGIN:VEVENT
DTSTART;TZID=America/New_York:20300417T093000
DTEND;TZID=America/New_York:20300417T103000
DTSTAMP:20260420T032242
CREATED:20250717T193407Z
LAST-MODIFIED:20250717T193407Z
UID:10007871-1902648600-1902652200@www.fbcjeff.org
SUMMARY:Community Bible Study
DESCRIPTION:
URL:https://www.fbcjeff.org/calendar/community-bible-study/2030-04-17/
LOCATION:FBC College Room 301\, 1610 Russell Ave\, Jefferson City\, TN\, 37760\, United States
ORGANIZER;CN="FBC Church Office":MAILTO:help@fbcjeff.org
END:VEVENT
BEGIN:VEVENT
DTSTART;TZID=America/New_York:20300424T093000
DTEND;TZID=America/New_York:20300424T103000
DTSTAMP:20260420T032242
CREATED:20250717T193407Z
LAST-MODIFIED:20250717T193407Z
UID:10007872-1903253400-1903257000@www.fbcjeff.org
SUMMARY:Community Bible Study
DESCRIPTION:
URL:https://www.fbcjeff.org/calendar/community-bible-study/2030-04-24/
LOCATION:FBC College Room 301\, 1610 Russell Ave\, Jefferson City\, TN\, 37760\, United States
ORGANIZER;CN="FBC Church Office":MAILTO:help@fbcjeff.org
END:VEVENT
END:VCALENDAR