BEGIN:VCALENDAR
VERSION:2.0
PRODID:-//First Baptist Church, Jefferson City, TN - ECPv6.15.20//NONSGML v1.0//EN
CALSCALE:GREGORIAN
METHOD:PUBLISH
X-ORIGINAL-URL:https://www.fbcjeff.org
X-WR-CALDESC:Events for First Baptist Church, Jefferson City, TN
REFRESH-INTERVAL;VALUE=DURATION:PT1H
X-Robots-Tag:noindex
X-PUBLISHED-TTL:PT1H
BEGIN:VTIMEZONE
TZID:America/New_York
BEGIN:DAYLIGHT
TZOFFSETFROM:-0500
TZOFFSETTO:-0400
TZNAME:EDT
DTSTART:20290311T070000
END:DAYLIGHT
BEGIN:STANDARD
TZOFFSETFROM:-0400
TZOFFSETTO:-0500
TZNAME:EST
DTSTART:20291104T060000
END:STANDARD
BEGIN:DAYLIGHT
TZOFFSETFROM:-0500
TZOFFSETTO:-0400
TZNAME:EDT
DTSTART:20300310T070000
END:DAYLIGHT
BEGIN:STANDARD
TZOFFSETFROM:-0400
TZOFFSETTO:-0500
TZNAME:EST
DTSTART:20301103T060000
END:STANDARD
BEGIN:DAYLIGHT
TZOFFSETFROM:-0500
TZOFFSETTO:-0400
TZNAME:EDT
DTSTART:20310309T070000
END:DAYLIGHT
BEGIN:STANDARD
TZOFFSETFROM:-0400
TZOFFSETTO:-0500
TZNAME:EST
DTSTART:20311102T060000
END:STANDARD
END:VTIMEZONE
BEGIN:VEVENT
DTSTART;TZID=America/New_York:20300327T093000
DTEND;TZID=America/New_York:20300327T103000
DTSTAMP:20260420T073828
CREATED:20250717T193407Z
LAST-MODIFIED:20250717T193407Z
UID:10007868-1900834200-1900837800@www.fbcjeff.org
SUMMARY:Community Bible Study
DESCRIPTION:
URL:https://www.fbcjeff.org/calendar/community-bible-study/2030-03-27/
LOCATION:FBC College Room 301\, 1610 Russell Ave\, Jefferson City\, TN\, 37760\, United States
ORGANIZER;CN="FBC Church Office":MAILTO:help@fbcjeff.org
END:VEVENT
BEGIN:VEVENT
DTSTART;TZID=America/New_York:20300403T093000
DTEND;TZID=America/New_York:20300403T103000
DTSTAMP:20260420T073828
CREATED:20250717T193407Z
LAST-MODIFIED:20250717T193407Z
UID:10007869-1901439000-1901442600@www.fbcjeff.org
SUMMARY:Community Bible Study
DESCRIPTION:
URL:https://www.fbcjeff.org/calendar/community-bible-study/2030-04-03/
LOCATION:FBC College Room 301\, 1610 Russell Ave\, Jefferson City\, TN\, 37760\, United States
ORGANIZER;CN="FBC Church Office":MAILTO:help@fbcjeff.org
END:VEVENT
BEGIN:VEVENT
DTSTART;TZID=America/New_York:20300410T093000
DTEND;TZID=America/New_York:20300410T103000
DTSTAMP:20260420T073828
CREATED:20250717T193407Z
LAST-MODIFIED:20250717T193407Z
UID:10007870-1902043800-1902047400@www.fbcjeff.org
SUMMARY:Community Bible Study
DESCRIPTION:
URL:https://www.fbcjeff.org/calendar/community-bible-study/2030-04-10/
LOCATION:FBC College Room 301\, 1610 Russell Ave\, Jefferson City\, TN\, 37760\, United States
ORGANIZER;CN="FBC Church Office":MAILTO:help@fbcjeff.org
END:VEVENT
BEGIN:VEVENT
DTSTART;TZID=America/New_York:20300411T140000
DTEND;TZID=America/New_York:20300411T153000
DTSTAMP:20260420T073828
CREATED:20240229T050354Z
LAST-MODIFIED:20240229T050733Z
UID:10005262-1902146400-1902151800@www.fbcjeff.org
SUMMARY:Senior Fellowship Team Meeting
DESCRIPTION:
URL:https://www.fbcjeff.org/calendar/senior-fellowship-team-meeting/2030-04-11/
LOCATION:FBC College Room 301\, 1610 Russell Ave\, Jefferson City\, TN\, 37760\, United States
END:VEVENT
BEGIN:VEVENT
DTSTART;TZID=America/New_York:20300417T093000
DTEND;TZID=America/New_York:20300417T103000
DTSTAMP:20260420T073828
CREATED:20250717T193407Z
LAST-MODIFIED:20250717T193407Z
UID:10007871-1902648600-1902652200@www.fbcjeff.org
SUMMARY:Community Bible Study
DESCRIPTION:
URL:https://www.fbcjeff.org/calendar/community-bible-study/2030-04-17/
LOCATION:FBC College Room 301\, 1610 Russell Ave\, Jefferson City\, TN\, 37760\, United States
ORGANIZER;CN="FBC Church Office":MAILTO:help@fbcjeff.org
END:VEVENT
BEGIN:VEVENT
DTSTART;TZID=America/New_York:20300424T093000
DTEND;TZID=America/New_York:20300424T103000
DTSTAMP:20260420T073828
CREATED:20250717T193407Z
LAST-MODIFIED:20250717T193407Z
UID:10007872-1903253400-1903257000@www.fbcjeff.org
SUMMARY:Community Bible Study
DESCRIPTION:
URL:https://www.fbcjeff.org/calendar/community-bible-study/2030-04-24/
LOCATION:FBC College Room 301\, 1610 Russell Ave\, Jefferson City\, TN\, 37760\, United States
ORGANIZER;CN="FBC Church Office":MAILTO:help@fbcjeff.org
END:VEVENT
BEGIN:VEVENT
DTSTART;TZID=America/New_York:20300501T093000
DTEND;TZID=America/New_York:20300501T103000
DTSTAMP:20260420T073828
CREATED:20250717T193407Z
LAST-MODIFIED:20250717T193407Z
UID:10007873-1903858200-1903861800@www.fbcjeff.org
SUMMARY:Community Bible Study
DESCRIPTION:
URL:https://www.fbcjeff.org/calendar/community-bible-study/2030-05-01/
LOCATION:FBC College Room 301\, 1610 Russell Ave\, Jefferson City\, TN\, 37760\, United States
ORGANIZER;CN="FBC Church Office":MAILTO:help@fbcjeff.org
END:VEVENT
BEGIN:VEVENT
DTSTART;TZID=America/New_York:20300508T093000
DTEND;TZID=America/New_York:20300508T103000
DTSTAMP:20260420T073828
CREATED:20250717T193407Z
LAST-MODIFIED:20250717T193407Z
UID:10007874-1904463000-1904466600@www.fbcjeff.org
SUMMARY:Community Bible Study
DESCRIPTION:
URL:https://www.fbcjeff.org/calendar/community-bible-study/2030-05-08/
LOCATION:FBC College Room 301\, 1610 Russell Ave\, Jefferson City\, TN\, 37760\, United States
ORGANIZER;CN="FBC Church Office":MAILTO:help@fbcjeff.org
END:VEVENT
BEGIN:VEVENT
DTSTART;TZID=America/New_York:20300509T140000
DTEND;TZID=America/New_York:20300509T153000
DTSTAMP:20260420T073828
CREATED:20240229T050354Z
LAST-MODIFIED:20240229T050733Z
UID:10006282-1904565600-1904571000@www.fbcjeff.org
SUMMARY:Senior Fellowship Team Meeting
DESCRIPTION:
URL:https://www.fbcjeff.org/calendar/senior-fellowship-team-meeting/2030-05-09/
LOCATION:FBC College Room 301\, 1610 Russell Ave\, Jefferson City\, TN\, 37760\, United States
END:VEVENT
BEGIN:VEVENT
DTSTART;TZID=America/New_York:20300515T093000
DTEND;TZID=America/New_York:20300515T103000
DTSTAMP:20260420T073828
CREATED:20250717T193407Z
LAST-MODIFIED:20250717T193407Z
UID:10007875-1905067800-1905071400@www.fbcjeff.org
SUMMARY:Community Bible Study
DESCRIPTION:
URL:https://www.fbcjeff.org/calendar/community-bible-study/2030-05-15/
LOCATION:FBC College Room 301\, 1610 Russell Ave\, Jefferson City\, TN\, 37760\, United States
ORGANIZER;CN="FBC Church Office":MAILTO:help@fbcjeff.org
END:VEVENT
BEGIN:VEVENT
DTSTART;TZID=America/New_York:20300522T093000
DTEND;TZID=America/New_York:20300522T103000
DTSTAMP:20260420T073828
CREATED:20250717T193407Z
LAST-MODIFIED:20250717T193407Z
UID:10007876-1905672600-1905676200@www.fbcjeff.org
SUMMARY:Community Bible Study
DESCRIPTION:
URL:https://www.fbcjeff.org/calendar/community-bible-study/2030-05-22/
LOCATION:FBC College Room 301\, 1610 Russell Ave\, Jefferson City\, TN\, 37760\, United States
ORGANIZER;CN="FBC Church Office":MAILTO:help@fbcjeff.org
END:VEVENT
BEGIN:VEVENT
DTSTART;TZID=America/New_York:20300529T093000
DTEND;TZID=America/New_York:20300529T103000
DTSTAMP:20260420T073828
CREATED:20250717T193407Z
LAST-MODIFIED:20250717T193407Z
UID:10007877-1906277400-1906281000@www.fbcjeff.org
SUMMARY:Community Bible Study
DESCRIPTION:
URL:https://www.fbcjeff.org/calendar/community-bible-study/2030-05-29/
LOCATION:FBC College Room 301\, 1610 Russell Ave\, Jefferson City\, TN\, 37760\, United States
ORGANIZER;CN="FBC Church Office":MAILTO:help@fbcjeff.org
END:VEVENT
BEGIN:VEVENT
DTSTART;TZID=America/New_York:20300605T093000
DTEND;TZID=America/New_York:20300605T103000
DTSTAMP:20260420T073828
CREATED:20250717T193407Z
LAST-MODIFIED:20250717T193407Z
UID:10007878-1906882200-1906885800@www.fbcjeff.org
SUMMARY:Community Bible Study
DESCRIPTION:
URL:https://www.fbcjeff.org/calendar/community-bible-study/2030-06-05/
LOCATION:FBC College Room 301\, 1610 Russell Ave\, Jefferson City\, TN\, 37760\, United States
ORGANIZER;CN="FBC Church Office":MAILTO:help@fbcjeff.org
END:VEVENT
BEGIN:VEVENT
DTSTART;TZID=America/New_York:20300612T093000
DTEND;TZID=America/New_York:20300612T103000
DTSTAMP:20260420T073828
CREATED:20250717T193407Z
LAST-MODIFIED:20250717T193407Z
UID:10007879-1907487000-1907490600@www.fbcjeff.org
SUMMARY:Community Bible Study
DESCRIPTION:
URL:https://www.fbcjeff.org/calendar/community-bible-study/2030-06-12/
LOCATION:FBC College Room 301\, 1610 Russell Ave\, Jefferson City\, TN\, 37760\, United States
ORGANIZER;CN="FBC Church Office":MAILTO:help@fbcjeff.org
END:VEVENT
BEGIN:VEVENT
DTSTART;TZID=America/New_York:20300613T140000
DTEND;TZID=America/New_York:20300613T153000
DTSTAMP:20260420T073828
CREATED:20240229T050354Z
LAST-MODIFIED:20240229T050733Z
UID:10006292-1907589600-1907595000@www.fbcjeff.org
SUMMARY:Senior Fellowship Team Meeting
DESCRIPTION:
URL:https://www.fbcjeff.org/calendar/senior-fellowship-team-meeting/2030-06-13/
LOCATION:FBC College Room 301\, 1610 Russell Ave\, Jefferson City\, TN\, 37760\, United States
END:VEVENT
BEGIN:VEVENT
DTSTART;TZID=America/New_York:20300619T093000
DTEND;TZID=America/New_York:20300619T103000
DTSTAMP:20260420T073828
CREATED:20250717T193407Z
LAST-MODIFIED:20250717T193407Z
UID:10007880-1908091800-1908095400@www.fbcjeff.org
SUMMARY:Community Bible Study
DESCRIPTION:
URL:https://www.fbcjeff.org/calendar/community-bible-study/2030-06-19/
LOCATION:FBC College Room 301\, 1610 Russell Ave\, Jefferson City\, TN\, 37760\, United States
ORGANIZER;CN="FBC Church Office":MAILTO:help@fbcjeff.org
END:VEVENT
BEGIN:VEVENT
DTSTART;TZID=America/New_York:20300626T093000
DTEND;TZID=America/New_York:20300626T103000
DTSTAMP:20260420T073828
CREATED:20250717T193407Z
LAST-MODIFIED:20250717T193407Z
UID:10007881-1908696600-1908700200@www.fbcjeff.org
SUMMARY:Community Bible Study
DESCRIPTION:
URL:https://www.fbcjeff.org/calendar/community-bible-study/2030-06-26/
LOCATION:FBC College Room 301\, 1610 Russell Ave\, Jefferson City\, TN\, 37760\, United States
ORGANIZER;CN="FBC Church Office":MAILTO:help@fbcjeff.org
END:VEVENT
BEGIN:VEVENT
DTSTART;TZID=America/New_York:20300703T093000
DTEND;TZID=America/New_York:20300703T103000
DTSTAMP:20260420T073828
CREATED:20250717T193407Z
LAST-MODIFIED:20250717T193407Z
UID:10007882-1909301400-1909305000@www.fbcjeff.org
SUMMARY:Community Bible Study
DESCRIPTION:
URL:https://www.fbcjeff.org/calendar/community-bible-study/2030-07-03/
LOCATION:FBC College Room 301\, 1610 Russell Ave\, Jefferson City\, TN\, 37760\, United States
ORGANIZER;CN="FBC Church Office":MAILTO:help@fbcjeff.org
END:VEVENT
BEGIN:VEVENT
DTSTART;TZID=America/New_York:20300710T093000
DTEND;TZID=America/New_York:20300710T103000
DTSTAMP:20260420T073828
CREATED:20250717T193407Z
LAST-MODIFIED:20250717T193407Z
UID:10007883-1909906200-1909909800@www.fbcjeff.org
SUMMARY:Community Bible Study
DESCRIPTION:
URL:https://www.fbcjeff.org/calendar/community-bible-study/2030-07-10/
LOCATION:FBC College Room 301\, 1610 Russell Ave\, Jefferson City\, TN\, 37760\, United States
ORGANIZER;CN="FBC Church Office":MAILTO:help@fbcjeff.org
END:VEVENT
BEGIN:VEVENT
DTSTART;TZID=America/New_York:20300711T140000
DTEND;TZID=America/New_York:20300711T153000
DTSTAMP:20260420T073828
CREATED:20240229T050354Z
LAST-MODIFIED:20240229T050733Z
UID:10009191-1910008800-1910014200@www.fbcjeff.org
SUMMARY:Senior Fellowship Team Meeting
DESCRIPTION:
URL:https://www.fbcjeff.org/calendar/senior-fellowship-team-meeting/2030-07-11/
LOCATION:FBC College Room 301\, 1610 Russell Ave\, Jefferson City\, TN\, 37760\, United States
END:VEVENT
BEGIN:VEVENT
DTSTART;TZID=America/New_York:20300717T093000
DTEND;TZID=America/New_York:20300717T103000
DTSTAMP:20260420T073828
CREATED:20250717T193407Z
LAST-MODIFIED:20250717T193407Z
UID:10007884-1910511000-1910514600@www.fbcjeff.org
SUMMARY:Community Bible Study
DESCRIPTION:
URL:https://www.fbcjeff.org/calendar/community-bible-study/2030-07-17/
LOCATION:FBC College Room 301\, 1610 Russell Ave\, Jefferson City\, TN\, 37760\, United States
ORGANIZER;CN="FBC Church Office":MAILTO:help@fbcjeff.org
END:VEVENT
BEGIN:VEVENT
DTSTART;TZID=America/New_York:20300724T093000
DTEND;TZID=America/New_York:20300724T103000
DTSTAMP:20260420T073828
CREATED:20250717T193407Z
LAST-MODIFIED:20250717T193407Z
UID:10010010-1911115800-1911119400@www.fbcjeff.org
SUMMARY:Community Bible Study
DESCRIPTION:
URL:https://www.fbcjeff.org/calendar/community-bible-study/2030-07-24/
LOCATION:FBC College Room 301\, 1610 Russell Ave\, Jefferson City\, TN\, 37760\, United States
ORGANIZER;CN="FBC Church Office":MAILTO:help@fbcjeff.org
END:VEVENT
BEGIN:VEVENT
DTSTART;TZID=America/New_York:20300731T093000
DTEND;TZID=America/New_York:20300731T103000
DTSTAMP:20260420T073828
CREATED:20250717T193407Z
LAST-MODIFIED:20250717T193407Z
UID:10010011-1911720600-1911724200@www.fbcjeff.org
SUMMARY:Community Bible Study
DESCRIPTION:
URL:https://www.fbcjeff.org/calendar/community-bible-study/2030-07-31/
LOCATION:FBC College Room 301\, 1610 Russell Ave\, Jefferson City\, TN\, 37760\, United States
ORGANIZER;CN="FBC Church Office":MAILTO:help@fbcjeff.org
END:VEVENT
BEGIN:VEVENT
DTSTART;TZID=America/New_York:20300807T093000
DTEND;TZID=America/New_York:20300807T103000
DTSTAMP:20260420T073828
CREATED:20250717T193407Z
LAST-MODIFIED:20250717T193407Z
UID:10010012-1912325400-1912329000@www.fbcjeff.org
SUMMARY:Community Bible Study
DESCRIPTION:
URL:https://www.fbcjeff.org/calendar/community-bible-study/2030-08-07/
LOCATION:FBC College Room 301\, 1610 Russell Ave\, Jefferson City\, TN\, 37760\, United States
ORGANIZER;CN="FBC Church Office":MAILTO:help@fbcjeff.org
END:VEVENT
BEGIN:VEVENT
DTSTART;TZID=America/New_York:20300808T140000
DTEND;TZID=America/New_York:20300808T153000
DTSTAMP:20260420T073828
CREATED:20240229T050354Z
LAST-MODIFIED:20240229T050733Z
UID:10009192-1912428000-1912433400@www.fbcjeff.org
SUMMARY:Senior Fellowship Team Meeting
DESCRIPTION:
URL:https://www.fbcjeff.org/calendar/senior-fellowship-team-meeting/2030-08-08/
LOCATION:FBC College Room 301\, 1610 Russell Ave\, Jefferson City\, TN\, 37760\, United States
END:VEVENT
BEGIN:VEVENT
DTSTART;TZID=America/New_York:20300814T093000
DTEND;TZID=America/New_York:20300814T103000
DTSTAMP:20260420T073828
CREATED:20250717T193407Z
LAST-MODIFIED:20250717T193407Z
UID:10010013-1912930200-1912933800@www.fbcjeff.org
SUMMARY:Community Bible Study
DESCRIPTION:
URL:https://www.fbcjeff.org/calendar/community-bible-study/2030-08-14/
LOCATION:FBC College Room 301\, 1610 Russell Ave\, Jefferson City\, TN\, 37760\, United States
ORGANIZER;CN="FBC Church Office":MAILTO:help@fbcjeff.org
END:VEVENT
BEGIN:VEVENT
DTSTART;TZID=America/New_York:20300821T093000
DTEND;TZID=America/New_York:20300821T103000
DTSTAMP:20260420T073828
CREATED:20250717T193407Z
LAST-MODIFIED:20250717T193407Z
UID:10010014-1913535000-1913538600@www.fbcjeff.org
SUMMARY:Community Bible Study
DESCRIPTION:
URL:https://www.fbcjeff.org/calendar/community-bible-study/2030-08-21/
LOCATION:FBC College Room 301\, 1610 Russell Ave\, Jefferson City\, TN\, 37760\, United States
ORGANIZER;CN="FBC Church Office":MAILTO:help@fbcjeff.org
END:VEVENT
BEGIN:VEVENT
DTSTART;TZID=America/New_York:20300828T093000
DTEND;TZID=America/New_York:20300828T103000
DTSTAMP:20260420T073828
CREATED:20250717T193407Z
LAST-MODIFIED:20250717T193407Z
UID:10010015-1914139800-1914143400@www.fbcjeff.org
SUMMARY:Community Bible Study
DESCRIPTION:
URL:https://www.fbcjeff.org/calendar/community-bible-study/2030-08-28/
LOCATION:FBC College Room 301\, 1610 Russell Ave\, Jefferson City\, TN\, 37760\, United States
ORGANIZER;CN="FBC Church Office":MAILTO:help@fbcjeff.org
END:VEVENT
BEGIN:VEVENT
DTSTART;TZID=America/New_York:20300904T093000
DTEND;TZID=America/New_York:20300904T103000
DTSTAMP:20260420T073828
CREATED:20250717T193407Z
LAST-MODIFIED:20250717T193407Z
UID:10010016-1914744600-1914748200@www.fbcjeff.org
SUMMARY:Community Bible Study
DESCRIPTION:
URL:https://www.fbcjeff.org/calendar/community-bible-study/2030-09-04/
LOCATION:FBC College Room 301\, 1610 Russell Ave\, Jefferson City\, TN\, 37760\, United States
ORGANIZER;CN="FBC Church Office":MAILTO:help@fbcjeff.org
END:VEVENT
BEGIN:VEVENT
DTSTART;TZID=America/New_York:20300911T093000
DTEND;TZID=America/New_York:20300911T103000
DTSTAMP:20260420T073828
CREATED:20250717T193407Z
LAST-MODIFIED:20250717T193407Z
UID:10010017-1915349400-1915353000@www.fbcjeff.org
SUMMARY:Community Bible Study
DESCRIPTION:
URL:https://www.fbcjeff.org/calendar/community-bible-study/2030-09-11/
LOCATION:FBC College Room 301\, 1610 Russell Ave\, Jefferson City\, TN\, 37760\, United States
ORGANIZER;CN="FBC Church Office":MAILTO:help@fbcjeff.org
END:VEVENT
END:VCALENDAR