BEGIN:VCALENDAR
VERSION:2.0
PRODID:-//First Baptist Church, Jefferson City, TN - ECPv6.15.20//NONSGML v1.0//EN
CALSCALE:GREGORIAN
METHOD:PUBLISH
X-WR-CALNAME:First Baptist Church, Jefferson City, TN
X-ORIGINAL-URL:https://www.fbcjeff.org
X-WR-CALDESC:Events for First Baptist Church, Jefferson City, TN
REFRESH-INTERVAL;VALUE=DURATION:PT1H
X-Robots-Tag:noindex
X-PUBLISHED-TTL:PT1H
BEGIN:VTIMEZONE
TZID:America/New_York
BEGIN:DAYLIGHT
TZOFFSETFROM:-0500
TZOFFSETTO:-0400
TZNAME:EDT
DTSTART:20290311T070000
END:DAYLIGHT
BEGIN:STANDARD
TZOFFSETFROM:-0400
TZOFFSETTO:-0500
TZNAME:EST
DTSTART:20291104T060000
END:STANDARD
BEGIN:DAYLIGHT
TZOFFSETFROM:-0500
TZOFFSETTO:-0400
TZNAME:EDT
DTSTART:20300310T070000
END:DAYLIGHT
BEGIN:STANDARD
TZOFFSETFROM:-0400
TZOFFSETTO:-0500
TZNAME:EST
DTSTART:20301103T060000
END:STANDARD
BEGIN:DAYLIGHT
TZOFFSETFROM:-0500
TZOFFSETTO:-0400
TZNAME:EDT
DTSTART:20310309T070000
END:DAYLIGHT
BEGIN:STANDARD
TZOFFSETFROM:-0400
TZOFFSETTO:-0500
TZNAME:EST
DTSTART:20311102T060000
END:STANDARD
BEGIN:DAYLIGHT
TZOFFSETFROM:-0500
TZOFFSETTO:-0400
TZNAME:EDT
DTSTART:20320314T070000
END:DAYLIGHT
BEGIN:STANDARD
TZOFFSETFROM:-0400
TZOFFSETTO:-0500
TZNAME:EST
DTSTART:20321107T060000
END:STANDARD
END:VTIMEZONE
BEGIN:VEVENT
DTSTART;TZID=America/New_York:20300808T140000
DTEND;TZID=America/New_York:20300808T153000
DTSTAMP:20260420T102730
CREATED:20240229T050354Z
LAST-MODIFIED:20240229T050733Z
UID:10009192-1912428000-1912433400@www.fbcjeff.org
SUMMARY:Senior Fellowship Team Meeting
DESCRIPTION:
URL:https://www.fbcjeff.org/calendar/senior-fellowship-team-meeting/2030-08-08/
LOCATION:FBC College Room 301\, 1610 Russell Ave\, Jefferson City\, TN\, 37760\, United States
END:VEVENT
BEGIN:VEVENT
DTSTART;TZID=America/New_York:20300814T093000
DTEND;TZID=America/New_York:20300814T103000
DTSTAMP:20260420T102730
CREATED:20250717T193407Z
LAST-MODIFIED:20250717T193407Z
UID:10010013-1912930200-1912933800@www.fbcjeff.org
SUMMARY:Community Bible Study
DESCRIPTION:
URL:https://www.fbcjeff.org/calendar/community-bible-study/2030-08-14/
LOCATION:FBC College Room 301\, 1610 Russell Ave\, Jefferson City\, TN\, 37760\, United States
ORGANIZER;CN="FBC Church Office":MAILTO:help@fbcjeff.org
END:VEVENT
BEGIN:VEVENT
DTSTART;TZID=America/New_York:20300821T093000
DTEND;TZID=America/New_York:20300821T103000
DTSTAMP:20260420T102730
CREATED:20250717T193407Z
LAST-MODIFIED:20250717T193407Z
UID:10010014-1913535000-1913538600@www.fbcjeff.org
SUMMARY:Community Bible Study
DESCRIPTION:
URL:https://www.fbcjeff.org/calendar/community-bible-study/2030-08-21/
LOCATION:FBC College Room 301\, 1610 Russell Ave\, Jefferson City\, TN\, 37760\, United States
ORGANIZER;CN="FBC Church Office":MAILTO:help@fbcjeff.org
END:VEVENT
BEGIN:VEVENT
DTSTART;TZID=America/New_York:20300828T093000
DTEND;TZID=America/New_York:20300828T103000
DTSTAMP:20260420T102730
CREATED:20250717T193407Z
LAST-MODIFIED:20250717T193407Z
UID:10010015-1914139800-1914143400@www.fbcjeff.org
SUMMARY:Community Bible Study
DESCRIPTION:
URL:https://www.fbcjeff.org/calendar/community-bible-study/2030-08-28/
LOCATION:FBC College Room 301\, 1610 Russell Ave\, Jefferson City\, TN\, 37760\, United States
ORGANIZER;CN="FBC Church Office":MAILTO:help@fbcjeff.org
END:VEVENT
BEGIN:VEVENT
DTSTART;TZID=America/New_York:20300904T093000
DTEND;TZID=America/New_York:20300904T103000
DTSTAMP:20260420T102730
CREATED:20250717T193407Z
LAST-MODIFIED:20250717T193407Z
UID:10010016-1914744600-1914748200@www.fbcjeff.org
SUMMARY:Community Bible Study
DESCRIPTION:
URL:https://www.fbcjeff.org/calendar/community-bible-study/2030-09-04/
LOCATION:FBC College Room 301\, 1610 Russell Ave\, Jefferson City\, TN\, 37760\, United States
ORGANIZER;CN="FBC Church Office":MAILTO:help@fbcjeff.org
END:VEVENT
BEGIN:VEVENT
DTSTART;TZID=America/New_York:20300911T093000
DTEND;TZID=America/New_York:20300911T103000
DTSTAMP:20260420T102730
CREATED:20250717T193407Z
LAST-MODIFIED:20250717T193407Z
UID:10010017-1915349400-1915353000@www.fbcjeff.org
SUMMARY:Community Bible Study
DESCRIPTION:
URL:https://www.fbcjeff.org/calendar/community-bible-study/2030-09-11/
LOCATION:FBC College Room 301\, 1610 Russell Ave\, Jefferson City\, TN\, 37760\, United States
ORGANIZER;CN="FBC Church Office":MAILTO:help@fbcjeff.org
END:VEVENT
BEGIN:VEVENT
DTSTART;TZID=America/New_York:20300912T140000
DTEND;TZID=America/New_York:20300912T153000
DTSTAMP:20260420T102730
CREATED:20240229T050354Z
LAST-MODIFIED:20240229T050733Z
UID:10009732-1915452000-1915457400@www.fbcjeff.org
SUMMARY:Senior Fellowship Team Meeting
DESCRIPTION:
URL:https://www.fbcjeff.org/calendar/senior-fellowship-team-meeting/2030-09-12/
LOCATION:FBC College Room 301\, 1610 Russell Ave\, Jefferson City\, TN\, 37760\, United States
END:VEVENT
BEGIN:VEVENT
DTSTART;TZID=America/New_York:20300918T093000
DTEND;TZID=America/New_York:20300918T103000
DTSTAMP:20260420T102730
CREATED:20250717T193407Z
LAST-MODIFIED:20250717T193407Z
UID:10010018-1915954200-1915957800@www.fbcjeff.org
SUMMARY:Community Bible Study
DESCRIPTION:
URL:https://www.fbcjeff.org/calendar/community-bible-study/2030-09-18/
LOCATION:FBC College Room 301\, 1610 Russell Ave\, Jefferson City\, TN\, 37760\, United States
ORGANIZER;CN="FBC Church Office":MAILTO:help@fbcjeff.org
END:VEVENT
BEGIN:VEVENT
DTSTART;TZID=America/New_York:20300925T093000
DTEND;TZID=America/New_York:20300925T103000
DTSTAMP:20260420T102730
CREATED:20250717T193407Z
LAST-MODIFIED:20250717T193407Z
UID:10010019-1916559000-1916562600@www.fbcjeff.org
SUMMARY:Community Bible Study
DESCRIPTION:
URL:https://www.fbcjeff.org/calendar/community-bible-study/2030-09-25/
LOCATION:FBC College Room 301\, 1610 Russell Ave\, Jefferson City\, TN\, 37760\, United States
ORGANIZER;CN="FBC Church Office":MAILTO:help@fbcjeff.org
END:VEVENT
BEGIN:VEVENT
DTSTART;TZID=America/New_York:20301002T093000
DTEND;TZID=America/New_York:20301002T103000
DTSTAMP:20260420T102730
CREATED:20250717T193407Z
LAST-MODIFIED:20250717T193407Z
UID:10010020-1917163800-1917167400@www.fbcjeff.org
SUMMARY:Community Bible Study
DESCRIPTION:
URL:https://www.fbcjeff.org/calendar/community-bible-study/2030-10-02/
LOCATION:FBC College Room 301\, 1610 Russell Ave\, Jefferson City\, TN\, 37760\, United States
ORGANIZER;CN="FBC Church Office":MAILTO:help@fbcjeff.org
END:VEVENT
BEGIN:VEVENT
DTSTART;TZID=America/New_York:20301009T093000
DTEND;TZID=America/New_York:20301009T103000
DTSTAMP:20260420T102730
CREATED:20250717T193407Z
LAST-MODIFIED:20250717T193407Z
UID:10010021-1917768600-1917772200@www.fbcjeff.org
SUMMARY:Community Bible Study
DESCRIPTION:
URL:https://www.fbcjeff.org/calendar/community-bible-study/2030-10-09/
LOCATION:FBC College Room 301\, 1610 Russell Ave\, Jefferson City\, TN\, 37760\, United States
ORGANIZER;CN="FBC Church Office":MAILTO:help@fbcjeff.org
END:VEVENT
BEGIN:VEVENT
DTSTART;TZID=America/New_York:20301010T140000
DTEND;TZID=America/New_York:20301010T153000
DTSTAMP:20260420T102730
CREATED:20240229T050354Z
LAST-MODIFIED:20240229T050733Z
UID:10009735-1917871200-1917876600@www.fbcjeff.org
SUMMARY:Senior Fellowship Team Meeting
DESCRIPTION:
URL:https://www.fbcjeff.org/calendar/senior-fellowship-team-meeting/2030-10-10/
LOCATION:FBC College Room 301\, 1610 Russell Ave\, Jefferson City\, TN\, 37760\, United States
END:VEVENT
BEGIN:VEVENT
DTSTART;TZID=America/New_York:20301016T093000
DTEND;TZID=America/New_York:20301016T103000
DTSTAMP:20260420T102730
CREATED:20250717T193407Z
LAST-MODIFIED:20250717T193407Z
UID:10010022-1918373400-1918377000@www.fbcjeff.org
SUMMARY:Community Bible Study
DESCRIPTION:
URL:https://www.fbcjeff.org/calendar/community-bible-study/2030-10-16/
LOCATION:FBC College Room 301\, 1610 Russell Ave\, Jefferson City\, TN\, 37760\, United States
ORGANIZER;CN="FBC Church Office":MAILTO:help@fbcjeff.org
END:VEVENT
BEGIN:VEVENT
DTSTART;TZID=America/New_York:20301023T093000
DTEND;TZID=America/New_York:20301023T103000
DTSTAMP:20260420T102730
CREATED:20250717T193407Z
LAST-MODIFIED:20250717T193407Z
UID:10010023-1918978200-1918981800@www.fbcjeff.org
SUMMARY:Community Bible Study
DESCRIPTION:
URL:https://www.fbcjeff.org/calendar/community-bible-study/2030-10-23/
LOCATION:FBC College Room 301\, 1610 Russell Ave\, Jefferson City\, TN\, 37760\, United States
ORGANIZER;CN="FBC Church Office":MAILTO:help@fbcjeff.org
END:VEVENT
BEGIN:VEVENT
DTSTART;TZID=America/New_York:20301030T093000
DTEND;TZID=America/New_York:20301030T103000
DTSTAMP:20260420T102730
CREATED:20250717T193407Z
LAST-MODIFIED:20250717T193407Z
UID:10010024-1919583000-1919586600@www.fbcjeff.org
SUMMARY:Community Bible Study
DESCRIPTION:
URL:https://www.fbcjeff.org/calendar/community-bible-study/2030-10-30/
LOCATION:FBC College Room 301\, 1610 Russell Ave\, Jefferson City\, TN\, 37760\, United States
ORGANIZER;CN="FBC Church Office":MAILTO:help@fbcjeff.org
END:VEVENT
BEGIN:VEVENT
DTSTART;TZID=America/New_York:20301106T093000
DTEND;TZID=America/New_York:20301106T103000
DTSTAMP:20260420T102730
CREATED:20250717T193407Z
LAST-MODIFIED:20250717T193407Z
UID:10010025-1920187800-1920191400@www.fbcjeff.org
SUMMARY:Community Bible Study
DESCRIPTION:
URL:https://www.fbcjeff.org/calendar/community-bible-study/2030-11-06/
LOCATION:FBC College Room 301\, 1610 Russell Ave\, Jefferson City\, TN\, 37760\, United States
ORGANIZER;CN="FBC Church Office":MAILTO:help@fbcjeff.org
END:VEVENT
BEGIN:VEVENT
DTSTART;TZID=America/New_York:20301113T093000
DTEND;TZID=America/New_York:20301113T103000
DTSTAMP:20260420T102730
CREATED:20250717T193407Z
LAST-MODIFIED:20250717T193407Z
UID:10010026-1920792600-1920796200@www.fbcjeff.org
SUMMARY:Community Bible Study
DESCRIPTION:
URL:https://www.fbcjeff.org/calendar/community-bible-study/2030-11-13/
LOCATION:FBC College Room 301\, 1610 Russell Ave\, Jefferson City\, TN\, 37760\, United States
ORGANIZER;CN="FBC Church Office":MAILTO:help@fbcjeff.org
END:VEVENT
BEGIN:VEVENT
DTSTART;TZID=America/New_York:20301114T140000
DTEND;TZID=America/New_York:20301114T153000
DTSTAMP:20260420T102730
CREATED:20240229T050354Z
LAST-MODIFIED:20240229T050733Z
UID:10009775-1920895200-1920900600@www.fbcjeff.org
SUMMARY:Senior Fellowship Team Meeting
DESCRIPTION:
URL:https://www.fbcjeff.org/calendar/senior-fellowship-team-meeting/2030-11-14/
LOCATION:FBC College Room 301\, 1610 Russell Ave\, Jefferson City\, TN\, 37760\, United States
END:VEVENT
BEGIN:VEVENT
DTSTART;TZID=America/New_York:20301120T093000
DTEND;TZID=America/New_York:20301120T103000
DTSTAMP:20260420T102730
CREATED:20250717T193407Z
LAST-MODIFIED:20250717T193407Z
UID:10010027-1921397400-1921401000@www.fbcjeff.org
SUMMARY:Community Bible Study
DESCRIPTION:
URL:https://www.fbcjeff.org/calendar/community-bible-study/2030-11-20/
LOCATION:FBC College Room 301\, 1610 Russell Ave\, Jefferson City\, TN\, 37760\, United States
ORGANIZER;CN="FBC Church Office":MAILTO:help@fbcjeff.org
END:VEVENT
BEGIN:VEVENT
DTSTART;TZID=America/New_York:20301127T093000
DTEND;TZID=America/New_York:20301127T103000
DTSTAMP:20260420T102730
CREATED:20250717T193407Z
LAST-MODIFIED:20250717T193407Z
UID:10010028-1922002200-1922005800@www.fbcjeff.org
SUMMARY:Community Bible Study
DESCRIPTION:
URL:https://www.fbcjeff.org/calendar/community-bible-study/2030-11-27/
LOCATION:FBC College Room 301\, 1610 Russell Ave\, Jefferson City\, TN\, 37760\, United States
ORGANIZER;CN="FBC Church Office":MAILTO:help@fbcjeff.org
END:VEVENT
BEGIN:VEVENT
DTSTART;TZID=America/New_York:20301204T093000
DTEND;TZID=America/New_York:20301204T103000
DTSTAMP:20260420T102730
CREATED:20250717T193407Z
LAST-MODIFIED:20250717T193407Z
UID:10010029-1922607000-1922610600@www.fbcjeff.org
SUMMARY:Community Bible Study
DESCRIPTION:
URL:https://www.fbcjeff.org/calendar/community-bible-study/2030-12-04/
LOCATION:FBC College Room 301\, 1610 Russell Ave\, Jefferson City\, TN\, 37760\, United States
ORGANIZER;CN="FBC Church Office":MAILTO:help@fbcjeff.org
END:VEVENT
BEGIN:VEVENT
DTSTART;TZID=America/New_York:20301211T093000
DTEND;TZID=America/New_York:20301211T103000
DTSTAMP:20260420T102730
CREATED:20250717T193407Z
LAST-MODIFIED:20250717T193407Z
UID:10010030-1923211800-1923215400@www.fbcjeff.org
SUMMARY:Community Bible Study
DESCRIPTION:
URL:https://www.fbcjeff.org/calendar/community-bible-study/2030-12-11/
LOCATION:FBC College Room 301\, 1610 Russell Ave\, Jefferson City\, TN\, 37760\, United States
ORGANIZER;CN="FBC Church Office":MAILTO:help@fbcjeff.org
END:VEVENT
BEGIN:VEVENT
DTSTART;TZID=America/New_York:20301212T140000
DTEND;TZID=America/New_York:20301212T153000
DTSTAMP:20260420T102730
CREATED:20240229T050354Z
LAST-MODIFIED:20240229T050733Z
UID:10009776-1923314400-1923319800@www.fbcjeff.org
SUMMARY:Senior Fellowship Team Meeting
DESCRIPTION:
URL:https://www.fbcjeff.org/calendar/senior-fellowship-team-meeting/2030-12-12/
LOCATION:FBC College Room 301\, 1610 Russell Ave\, Jefferson City\, TN\, 37760\, United States
END:VEVENT
BEGIN:VEVENT
DTSTART;TZID=America/New_York:20301218T093000
DTEND;TZID=America/New_York:20301218T103000
DTSTAMP:20260420T102730
CREATED:20250717T193407Z
LAST-MODIFIED:20250717T193407Z
UID:10010031-1923816600-1923820200@www.fbcjeff.org
SUMMARY:Community Bible Study
DESCRIPTION:
URL:https://www.fbcjeff.org/calendar/community-bible-study/2030-12-18/
LOCATION:FBC College Room 301\, 1610 Russell Ave\, Jefferson City\, TN\, 37760\, United States
ORGANIZER;CN="FBC Church Office":MAILTO:help@fbcjeff.org
END:VEVENT
BEGIN:VEVENT
DTSTART;TZID=America/New_York:20301225T093000
DTEND;TZID=America/New_York:20301225T103000
DTSTAMP:20260420T102730
CREATED:20250717T193407Z
LAST-MODIFIED:20250717T193407Z
UID:10010032-1924421400-1924425000@www.fbcjeff.org
SUMMARY:Community Bible Study
DESCRIPTION:
URL:https://www.fbcjeff.org/calendar/community-bible-study/2030-12-25/
LOCATION:FBC College Room 301\, 1610 Russell Ave\, Jefferson City\, TN\, 37760\, United States
ORGANIZER;CN="FBC Church Office":MAILTO:help@fbcjeff.org
END:VEVENT
BEGIN:VEVENT
DTSTART;TZID=America/New_York:20310101T093000
DTEND;TZID=America/New_York:20310101T103000
DTSTAMP:20260420T102730
CREATED:20250717T193407Z
LAST-MODIFIED:20250717T193407Z
UID:10010033-1925026200-1925029800@www.fbcjeff.org
SUMMARY:Community Bible Study
DESCRIPTION:
URL:https://www.fbcjeff.org/calendar/community-bible-study/2031-01-01/
LOCATION:FBC College Room 301\, 1610 Russell Ave\, Jefferson City\, TN\, 37760\, United States
ORGANIZER;CN="FBC Church Office":MAILTO:help@fbcjeff.org
END:VEVENT
BEGIN:VEVENT
DTSTART;TZID=America/New_York:20310108T093000
DTEND;TZID=America/New_York:20310108T103000
DTSTAMP:20260420T102730
CREATED:20250717T193407Z
LAST-MODIFIED:20250717T193407Z
UID:10010034-1925631000-1925634600@www.fbcjeff.org
SUMMARY:Community Bible Study
DESCRIPTION:
URL:https://www.fbcjeff.org/calendar/community-bible-study/2031-01-08/
LOCATION:FBC College Room 301\, 1610 Russell Ave\, Jefferson City\, TN\, 37760\, United States
ORGANIZER;CN="FBC Church Office":MAILTO:help@fbcjeff.org
END:VEVENT
BEGIN:VEVENT
DTSTART;TZID=America/New_York:20310109T140000
DTEND;TZID=America/New_York:20310109T153000
DTSTAMP:20260420T102730
CREATED:20240229T050354Z
LAST-MODIFIED:20240229T050733Z
UID:10009844-1925733600-1925739000@www.fbcjeff.org
SUMMARY:Senior Fellowship Team Meeting
DESCRIPTION:
URL:https://www.fbcjeff.org/calendar/senior-fellowship-team-meeting/2031-01-09/
LOCATION:FBC College Room 301\, 1610 Russell Ave\, Jefferson City\, TN\, 37760\, United States
END:VEVENT
BEGIN:VEVENT
DTSTART;TZID=America/New_York:20310115T093000
DTEND;TZID=America/New_York:20310115T103000
DTSTAMP:20260420T102730
CREATED:20250717T193407Z
LAST-MODIFIED:20250717T193407Z
UID:10010035-1926235800-1926239400@www.fbcjeff.org
SUMMARY:Community Bible Study
DESCRIPTION:
URL:https://www.fbcjeff.org/calendar/community-bible-study/2031-01-15/
LOCATION:FBC College Room 301\, 1610 Russell Ave\, Jefferson City\, TN\, 37760\, United States
ORGANIZER;CN="FBC Church Office":MAILTO:help@fbcjeff.org
END:VEVENT
BEGIN:VEVENT
DTSTART;TZID=America/New_York:20310122T093000
DTEND;TZID=America/New_York:20310122T103000
DTSTAMP:20260420T102730
CREATED:20250717T193407Z
LAST-MODIFIED:20250717T193407Z
UID:10010036-1926840600-1926844200@www.fbcjeff.org
SUMMARY:Community Bible Study
DESCRIPTION:
URL:https://www.fbcjeff.org/calendar/community-bible-study/2031-01-22/
LOCATION:FBC College Room 301\, 1610 Russell Ave\, Jefferson City\, TN\, 37760\, United States
ORGANIZER;CN="FBC Church Office":MAILTO:help@fbcjeff.org
END:VEVENT
END:VCALENDAR