BEGIN:VCALENDAR
VERSION:2.0
PRODID:-//First Baptist Church, Jefferson City, TN - ECPv6.15.20//NONSGML v1.0//EN
CALSCALE:GREGORIAN
METHOD:PUBLISH
X-WR-CALNAME:First Baptist Church, Jefferson City, TN
X-ORIGINAL-URL:https://www.fbcjeff.org
X-WR-CALDESC:Events for First Baptist Church, Jefferson City, TN
REFRESH-INTERVAL;VALUE=DURATION:PT1H
X-Robots-Tag:noindex
X-PUBLISHED-TTL:PT1H
BEGIN:VTIMEZONE
TZID:America/New_York
BEGIN:DAYLIGHT
TZOFFSETFROM:-0500
TZOFFSETTO:-0400
TZNAME:EDT
DTSTART:20260308T070000
END:DAYLIGHT
BEGIN:STANDARD
TZOFFSETFROM:-0400
TZOFFSETTO:-0500
TZNAME:EST
DTSTART:20261101T060000
END:STANDARD
BEGIN:DAYLIGHT
TZOFFSETFROM:-0500
TZOFFSETTO:-0400
TZNAME:EDT
DTSTART:20270314T070000
END:DAYLIGHT
BEGIN:STANDARD
TZOFFSETFROM:-0400
TZOFFSETTO:-0500
TZNAME:EST
DTSTART:20271107T060000
END:STANDARD
BEGIN:DAYLIGHT
TZOFFSETFROM:-0500
TZOFFSETTO:-0400
TZNAME:EDT
DTSTART:20280312T070000
END:DAYLIGHT
BEGIN:STANDARD
TZOFFSETFROM:-0400
TZOFFSETTO:-0500
TZNAME:EST
DTSTART:20281105T060000
END:STANDARD
BEGIN:DAYLIGHT
TZOFFSETFROM:-0500
TZOFFSETTO:-0400
TZNAME:EDT
DTSTART:20290311T070000
END:DAYLIGHT
BEGIN:STANDARD
TZOFFSETFROM:-0400
TZOFFSETTO:-0500
TZNAME:EST
DTSTART:20291104T060000
END:STANDARD
END:VTIMEZONE
BEGIN:VEVENT
DTSTART;TZID=America/New_York:20271020T093000
DTEND;TZID=America/New_York:20271020T103000
DTSTAMP:20260419T113745
CREATED:20250717T193407Z
LAST-MODIFIED:20250717T193407Z
UID:10007741-1824024600-1824028200@www.fbcjeff.org
SUMMARY:Community Bible Study
DESCRIPTION:
URL:https://www.fbcjeff.org/calendar/community-bible-study/2027-10-20/
LOCATION:FBC College Room 301\, 1610 Russell Ave\, Jefferson City\, TN\, 37760\, United States
ORGANIZER;CN="FBC Church Office":MAILTO:help@fbcjeff.org
END:VEVENT
BEGIN:VEVENT
DTSTART;TZID=America/New_York:20271027T093000
DTEND;TZID=America/New_York:20271027T103000
DTSTAMP:20260419T113745
CREATED:20250717T193407Z
LAST-MODIFIED:20250717T193407Z
UID:10007742-1824629400-1824633000@www.fbcjeff.org
SUMMARY:Community Bible Study
DESCRIPTION:
URL:https://www.fbcjeff.org/calendar/community-bible-study/2027-10-27/
LOCATION:FBC College Room 301\, 1610 Russell Ave\, Jefferson City\, TN\, 37760\, United States
ORGANIZER;CN="FBC Church Office":MAILTO:help@fbcjeff.org
END:VEVENT
BEGIN:VEVENT
DTSTART;TZID=America/New_York:20271103T093000
DTEND;TZID=America/New_York:20271103T103000
DTSTAMP:20260419T113745
CREATED:20250717T193407Z
LAST-MODIFIED:20250717T193407Z
UID:10007743-1825234200-1825237800@www.fbcjeff.org
SUMMARY:Community Bible Study
DESCRIPTION:
URL:https://www.fbcjeff.org/calendar/community-bible-study/2027-11-03/
LOCATION:FBC College Room 301\, 1610 Russell Ave\, Jefferson City\, TN\, 37760\, United States
ORGANIZER;CN="FBC Church Office":MAILTO:help@fbcjeff.org
END:VEVENT
BEGIN:VEVENT
DTSTART;TZID=America/New_York:20271110T093000
DTEND;TZID=America/New_York:20271110T103000
DTSTAMP:20260419T113745
CREATED:20250717T193407Z
LAST-MODIFIED:20250717T193407Z
UID:10007744-1825839000-1825842600@www.fbcjeff.org
SUMMARY:Community Bible Study
DESCRIPTION:
URL:https://www.fbcjeff.org/calendar/community-bible-study/2027-11-10/
LOCATION:FBC College Room 301\, 1610 Russell Ave\, Jefferson City\, TN\, 37760\, United States
ORGANIZER;CN="FBC Church Office":MAILTO:help@fbcjeff.org
END:VEVENT
BEGIN:VEVENT
DTSTART;TZID=America/New_York:20271111T140000
DTEND;TZID=America/New_York:20271111T153000
DTSTAMP:20260419T113745
CREATED:20240229T050354Z
LAST-MODIFIED:20240229T050733Z
UID:10003272-1825941600-1825947000@www.fbcjeff.org
SUMMARY:Senior Fellowship Team Meeting
DESCRIPTION:
URL:https://www.fbcjeff.org/calendar/senior-fellowship-team-meeting/2027-11-11/
LOCATION:FBC College Room 301\, 1610 Russell Ave\, Jefferson City\, TN\, 37760\, United States
END:VEVENT
BEGIN:VEVENT
DTSTART;TZID=America/New_York:20271117T093000
DTEND;TZID=America/New_York:20271117T103000
DTSTAMP:20260419T113745
CREATED:20250717T193407Z
LAST-MODIFIED:20250717T193407Z
UID:10007745-1826443800-1826447400@www.fbcjeff.org
SUMMARY:Community Bible Study
DESCRIPTION:
URL:https://www.fbcjeff.org/calendar/community-bible-study/2027-11-17/
LOCATION:FBC College Room 301\, 1610 Russell Ave\, Jefferson City\, TN\, 37760\, United States
ORGANIZER;CN="FBC Church Office":MAILTO:help@fbcjeff.org
END:VEVENT
BEGIN:VEVENT
DTSTART;TZID=America/New_York:20271124T093000
DTEND;TZID=America/New_York:20271124T103000
DTSTAMP:20260419T113745
CREATED:20250717T193407Z
LAST-MODIFIED:20250717T193407Z
UID:10007746-1827048600-1827052200@www.fbcjeff.org
SUMMARY:Community Bible Study
DESCRIPTION:
URL:https://www.fbcjeff.org/calendar/community-bible-study/2027-11-24/
LOCATION:FBC College Room 301\, 1610 Russell Ave\, Jefferson City\, TN\, 37760\, United States
ORGANIZER;CN="FBC Church Office":MAILTO:help@fbcjeff.org
END:VEVENT
BEGIN:VEVENT
DTSTART;TZID=America/New_York:20271201T093000
DTEND;TZID=America/New_York:20271201T103000
DTSTAMP:20260419T113745
CREATED:20250717T193407Z
LAST-MODIFIED:20250717T193407Z
UID:10007747-1827653400-1827657000@www.fbcjeff.org
SUMMARY:Community Bible Study
DESCRIPTION:
URL:https://www.fbcjeff.org/calendar/community-bible-study/2027-12-01/
LOCATION:FBC College Room 301\, 1610 Russell Ave\, Jefferson City\, TN\, 37760\, United States
ORGANIZER;CN="FBC Church Office":MAILTO:help@fbcjeff.org
END:VEVENT
BEGIN:VEVENT
DTSTART;TZID=America/New_York:20271208T093000
DTEND;TZID=America/New_York:20271208T103000
DTSTAMP:20260419T113745
CREATED:20250717T193407Z
LAST-MODIFIED:20250717T193407Z
UID:10007748-1828258200-1828261800@www.fbcjeff.org
SUMMARY:Community Bible Study
DESCRIPTION:
URL:https://www.fbcjeff.org/calendar/community-bible-study/2027-12-08/
LOCATION:FBC College Room 301\, 1610 Russell Ave\, Jefferson City\, TN\, 37760\, United States
ORGANIZER;CN="FBC Church Office":MAILTO:help@fbcjeff.org
END:VEVENT
BEGIN:VEVENT
DTSTART;TZID=America/New_York:20271209T140000
DTEND;TZID=America/New_York:20271209T153000
DTSTAMP:20260419T113745
CREATED:20240229T050354Z
LAST-MODIFIED:20240229T050733Z
UID:10003273-1828360800-1828366200@www.fbcjeff.org
SUMMARY:Senior Fellowship Team Meeting
DESCRIPTION:
URL:https://www.fbcjeff.org/calendar/senior-fellowship-team-meeting/2027-12-09/
LOCATION:FBC College Room 301\, 1610 Russell Ave\, Jefferson City\, TN\, 37760\, United States
END:VEVENT
BEGIN:VEVENT
DTSTART;TZID=America/New_York:20271215T093000
DTEND;TZID=America/New_York:20271215T103000
DTSTAMP:20260419T113745
CREATED:20250717T193407Z
LAST-MODIFIED:20250717T193407Z
UID:10007749-1828863000-1828866600@www.fbcjeff.org
SUMMARY:Community Bible Study
DESCRIPTION:
URL:https://www.fbcjeff.org/calendar/community-bible-study/2027-12-15/
LOCATION:FBC College Room 301\, 1610 Russell Ave\, Jefferson City\, TN\, 37760\, United States
ORGANIZER;CN="FBC Church Office":MAILTO:help@fbcjeff.org
END:VEVENT
BEGIN:VEVENT
DTSTART;TZID=America/New_York:20271222T093000
DTEND;TZID=America/New_York:20271222T103000
DTSTAMP:20260419T113745
CREATED:20250717T193407Z
LAST-MODIFIED:20250717T193407Z
UID:10007750-1829467800-1829471400@www.fbcjeff.org
SUMMARY:Community Bible Study
DESCRIPTION:
URL:https://www.fbcjeff.org/calendar/community-bible-study/2027-12-22/
LOCATION:FBC College Room 301\, 1610 Russell Ave\, Jefferson City\, TN\, 37760\, United States
ORGANIZER;CN="FBC Church Office":MAILTO:help@fbcjeff.org
END:VEVENT
BEGIN:VEVENT
DTSTART;TZID=America/New_York:20271229T093000
DTEND;TZID=America/New_York:20271229T103000
DTSTAMP:20260419T113745
CREATED:20250717T193407Z
LAST-MODIFIED:20250717T193407Z
UID:10007751-1830072600-1830076200@www.fbcjeff.org
SUMMARY:Community Bible Study
DESCRIPTION:
URL:https://www.fbcjeff.org/calendar/community-bible-study/2027-12-29/
LOCATION:FBC College Room 301\, 1610 Russell Ave\, Jefferson City\, TN\, 37760\, United States
ORGANIZER;CN="FBC Church Office":MAILTO:help@fbcjeff.org
END:VEVENT
BEGIN:VEVENT
DTSTART;TZID=America/New_York:20280105T093000
DTEND;TZID=America/New_York:20280105T103000
DTSTAMP:20260419T113745
CREATED:20250717T193407Z
LAST-MODIFIED:20250717T193407Z
UID:10007752-1830677400-1830681000@www.fbcjeff.org
SUMMARY:Community Bible Study
DESCRIPTION:
URL:https://www.fbcjeff.org/calendar/community-bible-study/2028-01-05/
LOCATION:FBC College Room 301\, 1610 Russell Ave\, Jefferson City\, TN\, 37760\, United States
ORGANIZER;CN="FBC Church Office":MAILTO:help@fbcjeff.org
END:VEVENT
BEGIN:VEVENT
DTSTART;TZID=America/New_York:20280112T093000
DTEND;TZID=America/New_York:20280112T103000
DTSTAMP:20260419T113745
CREATED:20250717T193407Z
LAST-MODIFIED:20250717T193407Z
UID:10007753-1831282200-1831285800@www.fbcjeff.org
SUMMARY:Community Bible Study
DESCRIPTION:
URL:https://www.fbcjeff.org/calendar/community-bible-study/2028-01-12/
LOCATION:FBC College Room 301\, 1610 Russell Ave\, Jefferson City\, TN\, 37760\, United States
ORGANIZER;CN="FBC Church Office":MAILTO:help@fbcjeff.org
END:VEVENT
BEGIN:VEVENT
DTSTART;TZID=America/New_York:20280113T140000
DTEND;TZID=America/New_York:20280113T153000
DTSTAMP:20260419T113745
CREATED:20240229T050354Z
LAST-MODIFIED:20240229T050733Z
UID:10003274-1831384800-1831390200@www.fbcjeff.org
SUMMARY:Senior Fellowship Team Meeting
DESCRIPTION:
URL:https://www.fbcjeff.org/calendar/senior-fellowship-team-meeting/2028-01-13/
LOCATION:FBC College Room 301\, 1610 Russell Ave\, Jefferson City\, TN\, 37760\, United States
END:VEVENT
BEGIN:VEVENT
DTSTART;TZID=America/New_York:20280119T093000
DTEND;TZID=America/New_York:20280119T103000
DTSTAMP:20260419T113745
CREATED:20250717T193407Z
LAST-MODIFIED:20250717T193407Z
UID:10007754-1831887000-1831890600@www.fbcjeff.org
SUMMARY:Community Bible Study
DESCRIPTION:
URL:https://www.fbcjeff.org/calendar/community-bible-study/2028-01-19/
LOCATION:FBC College Room 301\, 1610 Russell Ave\, Jefferson City\, TN\, 37760\, United States
ORGANIZER;CN="FBC Church Office":MAILTO:help@fbcjeff.org
END:VEVENT
BEGIN:VEVENT
DTSTART;TZID=America/New_York:20280126T093000
DTEND;TZID=America/New_York:20280126T103000
DTSTAMP:20260419T113745
CREATED:20250717T193407Z
LAST-MODIFIED:20250717T193407Z
UID:10007755-1832491800-1832495400@www.fbcjeff.org
SUMMARY:Community Bible Study
DESCRIPTION:
URL:https://www.fbcjeff.org/calendar/community-bible-study/2028-01-26/
LOCATION:FBC College Room 301\, 1610 Russell Ave\, Jefferson City\, TN\, 37760\, United States
ORGANIZER;CN="FBC Church Office":MAILTO:help@fbcjeff.org
END:VEVENT
BEGIN:VEVENT
DTSTART;TZID=America/New_York:20280202T093000
DTEND;TZID=America/New_York:20280202T103000
DTSTAMP:20260419T113745
CREATED:20250717T193407Z
LAST-MODIFIED:20250717T193407Z
UID:10007756-1833096600-1833100200@www.fbcjeff.org
SUMMARY:Community Bible Study
DESCRIPTION:
URL:https://www.fbcjeff.org/calendar/community-bible-study/2028-02-02/
LOCATION:FBC College Room 301\, 1610 Russell Ave\, Jefferson City\, TN\, 37760\, United States
ORGANIZER;CN="FBC Church Office":MAILTO:help@fbcjeff.org
END:VEVENT
BEGIN:VEVENT
DTSTART;TZID=America/New_York:20280209T093000
DTEND;TZID=America/New_York:20280209T103000
DTSTAMP:20260419T113745
CREATED:20250717T193407Z
LAST-MODIFIED:20250717T193407Z
UID:10007757-1833701400-1833705000@www.fbcjeff.org
SUMMARY:Community Bible Study
DESCRIPTION:
URL:https://www.fbcjeff.org/calendar/community-bible-study/2028-02-09/
LOCATION:FBC College Room 301\, 1610 Russell Ave\, Jefferson City\, TN\, 37760\, United States
ORGANIZER;CN="FBC Church Office":MAILTO:help@fbcjeff.org
END:VEVENT
BEGIN:VEVENT
DTSTART;TZID=America/New_York:20280210T140000
DTEND;TZID=America/New_York:20280210T153000
DTSTAMP:20260419T113745
CREATED:20240229T050354Z
LAST-MODIFIED:20240229T050733Z
UID:10003275-1833804000-1833809400@www.fbcjeff.org
SUMMARY:Senior Fellowship Team Meeting
DESCRIPTION:
URL:https://www.fbcjeff.org/calendar/senior-fellowship-team-meeting/2028-02-10/
LOCATION:FBC College Room 301\, 1610 Russell Ave\, Jefferson City\, TN\, 37760\, United States
END:VEVENT
BEGIN:VEVENT
DTSTART;TZID=America/New_York:20280216T093000
DTEND;TZID=America/New_York:20280216T103000
DTSTAMP:20260419T113745
CREATED:20250717T193407Z
LAST-MODIFIED:20250717T193407Z
UID:10007758-1834306200-1834309800@www.fbcjeff.org
SUMMARY:Community Bible Study
DESCRIPTION:
URL:https://www.fbcjeff.org/calendar/community-bible-study/2028-02-16/
LOCATION:FBC College Room 301\, 1610 Russell Ave\, Jefferson City\, TN\, 37760\, United States
ORGANIZER;CN="FBC Church Office":MAILTO:help@fbcjeff.org
END:VEVENT
BEGIN:VEVENT
DTSTART;TZID=America/New_York:20280223T093000
DTEND;TZID=America/New_York:20280223T103000
DTSTAMP:20260419T113745
CREATED:20250717T193407Z
LAST-MODIFIED:20250717T193407Z
UID:10007759-1834911000-1834914600@www.fbcjeff.org
SUMMARY:Community Bible Study
DESCRIPTION:
URL:https://www.fbcjeff.org/calendar/community-bible-study/2028-02-23/
LOCATION:FBC College Room 301\, 1610 Russell Ave\, Jefferson City\, TN\, 37760\, United States
ORGANIZER;CN="FBC Church Office":MAILTO:help@fbcjeff.org
END:VEVENT
BEGIN:VEVENT
DTSTART;TZID=America/New_York:20280301T093000
DTEND;TZID=America/New_York:20280301T103000
DTSTAMP:20260419T113745
CREATED:20250717T193407Z
LAST-MODIFIED:20250717T193407Z
UID:10007760-1835515800-1835519400@www.fbcjeff.org
SUMMARY:Community Bible Study
DESCRIPTION:
URL:https://www.fbcjeff.org/calendar/community-bible-study/2028-03-01/
LOCATION:FBC College Room 301\, 1610 Russell Ave\, Jefferson City\, TN\, 37760\, United States
ORGANIZER;CN="FBC Church Office":MAILTO:help@fbcjeff.org
END:VEVENT
BEGIN:VEVENT
DTSTART;TZID=America/New_York:20280308T093000
DTEND;TZID=America/New_York:20280308T103000
DTSTAMP:20260419T113745
CREATED:20250717T193407Z
LAST-MODIFIED:20250717T193407Z
UID:10007761-1836120600-1836124200@www.fbcjeff.org
SUMMARY:Community Bible Study
DESCRIPTION:
URL:https://www.fbcjeff.org/calendar/community-bible-study/2028-03-08/
LOCATION:FBC College Room 301\, 1610 Russell Ave\, Jefferson City\, TN\, 37760\, United States
ORGANIZER;CN="FBC Church Office":MAILTO:help@fbcjeff.org
END:VEVENT
BEGIN:VEVENT
DTSTART;TZID=America/New_York:20280309T140000
DTEND;TZID=America/New_York:20280309T153000
DTSTAMP:20260419T113745
CREATED:20240229T050354Z
LAST-MODIFIED:20240229T050733Z
UID:10003276-1836223200-1836228600@www.fbcjeff.org
SUMMARY:Senior Fellowship Team Meeting
DESCRIPTION:
URL:https://www.fbcjeff.org/calendar/senior-fellowship-team-meeting/2028-03-09/
LOCATION:FBC College Room 301\, 1610 Russell Ave\, Jefferson City\, TN\, 37760\, United States
END:VEVENT
BEGIN:VEVENT
DTSTART;TZID=America/New_York:20280315T093000
DTEND;TZID=America/New_York:20280315T103000
DTSTAMP:20260419T113745
CREATED:20250717T193407Z
LAST-MODIFIED:20250717T193407Z
UID:10007762-1836725400-1836729000@www.fbcjeff.org
SUMMARY:Community Bible Study
DESCRIPTION:
URL:https://www.fbcjeff.org/calendar/community-bible-study/2028-03-15/
LOCATION:FBC College Room 301\, 1610 Russell Ave\, Jefferson City\, TN\, 37760\, United States
ORGANIZER;CN="FBC Church Office":MAILTO:help@fbcjeff.org
END:VEVENT
BEGIN:VEVENT
DTSTART;TZID=America/New_York:20280322T093000
DTEND;TZID=America/New_York:20280322T103000
DTSTAMP:20260419T113745
CREATED:20250717T193407Z
LAST-MODIFIED:20250717T193407Z
UID:10007763-1837330200-1837333800@www.fbcjeff.org
SUMMARY:Community Bible Study
DESCRIPTION:
URL:https://www.fbcjeff.org/calendar/community-bible-study/2028-03-22/
LOCATION:FBC College Room 301\, 1610 Russell Ave\, Jefferson City\, TN\, 37760\, United States
ORGANIZER;CN="FBC Church Office":MAILTO:help@fbcjeff.org
END:VEVENT
BEGIN:VEVENT
DTSTART;TZID=America/New_York:20280329T093000
DTEND;TZID=America/New_York:20280329T103000
DTSTAMP:20260419T113745
CREATED:20250717T193407Z
LAST-MODIFIED:20250717T193407Z
UID:10007764-1837935000-1837938600@www.fbcjeff.org
SUMMARY:Community Bible Study
DESCRIPTION:
URL:https://www.fbcjeff.org/calendar/community-bible-study/2028-03-29/
LOCATION:FBC College Room 301\, 1610 Russell Ave\, Jefferson City\, TN\, 37760\, United States
ORGANIZER;CN="FBC Church Office":MAILTO:help@fbcjeff.org
END:VEVENT
BEGIN:VEVENT
DTSTART;TZID=America/New_York:20280405T093000
DTEND;TZID=America/New_York:20280405T103000
DTSTAMP:20260419T113745
CREATED:20250717T193407Z
LAST-MODIFIED:20250717T193407Z
UID:10007765-1838539800-1838543400@www.fbcjeff.org
SUMMARY:Community Bible Study
DESCRIPTION:
URL:https://www.fbcjeff.org/calendar/community-bible-study/2028-04-05/
LOCATION:FBC College Room 301\, 1610 Russell Ave\, Jefferson City\, TN\, 37760\, United States
ORGANIZER;CN="FBC Church Office":MAILTO:help@fbcjeff.org
END:VEVENT
END:VCALENDAR