BEGIN:VCALENDAR
VERSION:2.0
PRODID:-//First Baptist Church, Jefferson City, TN - ECPv6.15.20//NONSGML v1.0//EN
CALSCALE:GREGORIAN
METHOD:PUBLISH
X-ORIGINAL-URL:https://www.fbcjeff.org
X-WR-CALDESC:Events for First Baptist Church, Jefferson City, TN
REFRESH-INTERVAL;VALUE=DURATION:PT1H
X-Robots-Tag:noindex
X-PUBLISHED-TTL:PT1H
BEGIN:VTIMEZONE
TZID:America/New_York
BEGIN:DAYLIGHT
TZOFFSETFROM:-0500
TZOFFSETTO:-0400
TZNAME:EDT
DTSTART:20270314T070000
END:DAYLIGHT
BEGIN:STANDARD
TZOFFSETFROM:-0400
TZOFFSETTO:-0500
TZNAME:EST
DTSTART:20271107T060000
END:STANDARD
BEGIN:DAYLIGHT
TZOFFSETFROM:-0500
TZOFFSETTO:-0400
TZNAME:EDT
DTSTART:20280312T070000
END:DAYLIGHT
BEGIN:STANDARD
TZOFFSETFROM:-0400
TZOFFSETTO:-0500
TZNAME:EST
DTSTART:20281105T060000
END:STANDARD
BEGIN:DAYLIGHT
TZOFFSETFROM:-0500
TZOFFSETTO:-0400
TZNAME:EDT
DTSTART:20290311T070000
END:DAYLIGHT
BEGIN:STANDARD
TZOFFSETFROM:-0400
TZOFFSETTO:-0500
TZNAME:EST
DTSTART:20291104T060000
END:STANDARD
END:VTIMEZONE
BEGIN:VEVENT
DTSTART;TZID=America/New_York:20280726T184500
DTEND;TZID=America/New_York:20280726T194500
DTSTAMP:20260420T020341
CREATED:20250717T193648Z
LAST-MODIFIED:20251214T141150Z
UID:10008303-1848249900-1848253500@www.fbcjeff.org
SUMMARY:Worship Ensemble Rehearsal
DESCRIPTION:
URL:https://www.fbcjeff.org/calendar/worship-ensemble-rehearsal/2028-07-26/
LOCATION:FBC Music Suite\, 1610 Russell Ave\, Jefferson City\, TN\, 37760\, United States
END:VEVENT
BEGIN:VEVENT
DTSTART;TZID=America/New_York:20280802T180000
DTEND;TZID=America/New_York:20280802T190000
DTSTAMP:20260420T020341
CREATED:20250717T193539Z
LAST-MODIFIED:20251214T140811Z
UID:10008043-1848852000-1848855600@www.fbcjeff.org
SUMMARY:Common Prayer and Bible Study
DESCRIPTION:
URL:https://www.fbcjeff.org/calendar/common-prayer-and-bible-study/2028-08-02/
LOCATION:FBC Music Suite\, 1610 Russell Ave\, Jefferson City\, TN\, 37760\, United States
ORGANIZER;CN="FBC Church Office":MAILTO:help@fbcjeff.org
END:VEVENT
BEGIN:VEVENT
DTSTART;TZID=America/New_York:20280802T184500
DTEND;TZID=America/New_York:20280802T194500
DTSTAMP:20260420T020341
CREATED:20250717T193648Z
LAST-MODIFIED:20251214T141150Z
UID:10008304-1848854700-1848858300@www.fbcjeff.org
SUMMARY:Worship Ensemble Rehearsal
DESCRIPTION:
URL:https://www.fbcjeff.org/calendar/worship-ensemble-rehearsal/2028-08-02/
LOCATION:FBC Music Suite\, 1610 Russell Ave\, Jefferson City\, TN\, 37760\, United States
END:VEVENT
BEGIN:VEVENT
DTSTART;TZID=America/New_York:20280809T180000
DTEND;TZID=America/New_York:20280809T190000
DTSTAMP:20260420T020341
CREATED:20250717T193539Z
LAST-MODIFIED:20251214T140811Z
UID:10008044-1849456800-1849460400@www.fbcjeff.org
SUMMARY:Common Prayer and Bible Study
DESCRIPTION:
URL:https://www.fbcjeff.org/calendar/common-prayer-and-bible-study/2028-08-09/
LOCATION:FBC Music Suite\, 1610 Russell Ave\, Jefferson City\, TN\, 37760\, United States
ORGANIZER;CN="FBC Church Office":MAILTO:help@fbcjeff.org
END:VEVENT
BEGIN:VEVENT
DTSTART;TZID=America/New_York:20280809T184500
DTEND;TZID=America/New_York:20280809T194500
DTSTAMP:20260420T020341
CREATED:20250717T193648Z
LAST-MODIFIED:20251214T141150Z
UID:10008305-1849459500-1849463100@www.fbcjeff.org
SUMMARY:Worship Ensemble Rehearsal
DESCRIPTION:
URL:https://www.fbcjeff.org/calendar/worship-ensemble-rehearsal/2028-08-09/
LOCATION:FBC Music Suite\, 1610 Russell Ave\, Jefferson City\, TN\, 37760\, United States
END:VEVENT
BEGIN:VEVENT
DTSTART;TZID=America/New_York:20280813T140000
DTEND;TZID=America/New_York:20280813T160000
DTSTAMP:20260420T020341
CREATED:20240229T045509Z
LAST-MODIFIED:20260413T145815Z
UID:10005401-1849788000-1849795200@www.fbcjeff.org
SUMMARY:Church Advisory Council Meeting
DESCRIPTION:
URL:https://www.fbcjeff.org/calendar/church-advisory-council-meeting/2028-08-13/
LOCATION:FBC Music Suite\, 1610 Russell Ave\, Jefferson City\, TN\, 37760\, United States
ORGANIZER;CN="FBC Church Office":MAILTO:help@fbcjeff.org
END:VEVENT
BEGIN:VEVENT
DTSTART;TZID=America/New_York:20280816T180000
DTEND;TZID=America/New_York:20280816T190000
DTSTAMP:20260420T020342
CREATED:20250717T193539Z
LAST-MODIFIED:20251214T140811Z
UID:10008045-1850061600-1850065200@www.fbcjeff.org
SUMMARY:Common Prayer and Bible Study
DESCRIPTION:
URL:https://www.fbcjeff.org/calendar/common-prayer-and-bible-study/2028-08-16/
LOCATION:FBC Music Suite\, 1610 Russell Ave\, Jefferson City\, TN\, 37760\, United States
ORGANIZER;CN="FBC Church Office":MAILTO:help@fbcjeff.org
END:VEVENT
BEGIN:VEVENT
DTSTART;TZID=America/New_York:20280816T184500
DTEND;TZID=America/New_York:20280816T194500
DTSTAMP:20260420T020342
CREATED:20250717T193648Z
LAST-MODIFIED:20251214T141150Z
UID:10008306-1850064300-1850067900@www.fbcjeff.org
SUMMARY:Worship Ensemble Rehearsal
DESCRIPTION:
URL:https://www.fbcjeff.org/calendar/worship-ensemble-rehearsal/2028-08-16/
LOCATION:FBC Music Suite\, 1610 Russell Ave\, Jefferson City\, TN\, 37760\, United States
END:VEVENT
BEGIN:VEVENT
DTSTART;TZID=America/New_York:20280823T180000
DTEND;TZID=America/New_York:20280823T190000
DTSTAMP:20260420T020342
CREATED:20250717T193539Z
LAST-MODIFIED:20251214T140811Z
UID:10008046-1850666400-1850670000@www.fbcjeff.org
SUMMARY:Common Prayer and Bible Study
DESCRIPTION:
URL:https://www.fbcjeff.org/calendar/common-prayer-and-bible-study/2028-08-23/
LOCATION:FBC Music Suite\, 1610 Russell Ave\, Jefferson City\, TN\, 37760\, United States
ORGANIZER;CN="FBC Church Office":MAILTO:help@fbcjeff.org
END:VEVENT
BEGIN:VEVENT
DTSTART;TZID=America/New_York:20280823T184500
DTEND;TZID=America/New_York:20280823T194500
DTSTAMP:20260420T020342
CREATED:20250717T193648Z
LAST-MODIFIED:20251214T141150Z
UID:10008307-1850669100-1850672700@www.fbcjeff.org
SUMMARY:Worship Ensemble Rehearsal
DESCRIPTION:
URL:https://www.fbcjeff.org/calendar/worship-ensemble-rehearsal/2028-08-23/
LOCATION:FBC Music Suite\, 1610 Russell Ave\, Jefferson City\, TN\, 37760\, United States
END:VEVENT
BEGIN:VEVENT
DTSTART;TZID=America/New_York:20280830T180000
DTEND;TZID=America/New_York:20280830T190000
DTSTAMP:20260420T020342
CREATED:20250717T193539Z
LAST-MODIFIED:20251214T140811Z
UID:10008047-1851271200-1851274800@www.fbcjeff.org
SUMMARY:Common Prayer and Bible Study
DESCRIPTION:
URL:https://www.fbcjeff.org/calendar/common-prayer-and-bible-study/2028-08-30/
LOCATION:FBC Music Suite\, 1610 Russell Ave\, Jefferson City\, TN\, 37760\, United States
ORGANIZER;CN="FBC Church Office":MAILTO:help@fbcjeff.org
END:VEVENT
BEGIN:VEVENT
DTSTART;TZID=America/New_York:20280830T184500
DTEND;TZID=America/New_York:20280830T194500
DTSTAMP:20260420T020342
CREATED:20250717T193648Z
LAST-MODIFIED:20251214T141150Z
UID:10008308-1851273900-1851277500@www.fbcjeff.org
SUMMARY:Worship Ensemble Rehearsal
DESCRIPTION:
URL:https://www.fbcjeff.org/calendar/worship-ensemble-rehearsal/2028-08-30/
LOCATION:FBC Music Suite\, 1610 Russell Ave\, Jefferson City\, TN\, 37760\, United States
END:VEVENT
BEGIN:VEVENT
DTSTART;TZID=America/New_York:20280906T180000
DTEND;TZID=America/New_York:20280906T190000
DTSTAMP:20260420T020342
CREATED:20250717T193539Z
LAST-MODIFIED:20251214T140811Z
UID:10008048-1851876000-1851879600@www.fbcjeff.org
SUMMARY:Common Prayer and Bible Study
DESCRIPTION:
URL:https://www.fbcjeff.org/calendar/common-prayer-and-bible-study/2028-09-06/
LOCATION:FBC Music Suite\, 1610 Russell Ave\, Jefferson City\, TN\, 37760\, United States
ORGANIZER;CN="FBC Church Office":MAILTO:help@fbcjeff.org
END:VEVENT
BEGIN:VEVENT
DTSTART;TZID=America/New_York:20280906T184500
DTEND;TZID=America/New_York:20280906T194500
DTSTAMP:20260420T020342
CREATED:20250717T193648Z
LAST-MODIFIED:20251214T141150Z
UID:10008309-1851878700-1851882300@www.fbcjeff.org
SUMMARY:Worship Ensemble Rehearsal
DESCRIPTION:
URL:https://www.fbcjeff.org/calendar/worship-ensemble-rehearsal/2028-09-06/
LOCATION:FBC Music Suite\, 1610 Russell Ave\, Jefferson City\, TN\, 37760\, United States
END:VEVENT
BEGIN:VEVENT
DTSTART;TZID=America/New_York:20280910T140000
DTEND;TZID=America/New_York:20280910T160000
DTSTAMP:20260420T020342
CREATED:20240229T045509Z
LAST-MODIFIED:20260413T145815Z
UID:10005402-1852207200-1852214400@www.fbcjeff.org
SUMMARY:Church Advisory Council Meeting
DESCRIPTION:
URL:https://www.fbcjeff.org/calendar/church-advisory-council-meeting/2028-09-10/
LOCATION:FBC Music Suite\, 1610 Russell Ave\, Jefferson City\, TN\, 37760\, United States
ORGANIZER;CN="FBC Church Office":MAILTO:help@fbcjeff.org
END:VEVENT
BEGIN:VEVENT
DTSTART;TZID=America/New_York:20280913T180000
DTEND;TZID=America/New_York:20280913T190000
DTSTAMP:20260420T020342
CREATED:20250717T193539Z
LAST-MODIFIED:20251214T140811Z
UID:10008049-1852480800-1852484400@www.fbcjeff.org
SUMMARY:Common Prayer and Bible Study
DESCRIPTION:
URL:https://www.fbcjeff.org/calendar/common-prayer-and-bible-study/2028-09-13/
LOCATION:FBC Music Suite\, 1610 Russell Ave\, Jefferson City\, TN\, 37760\, United States
ORGANIZER;CN="FBC Church Office":MAILTO:help@fbcjeff.org
END:VEVENT
BEGIN:VEVENT
DTSTART;TZID=America/New_York:20280913T184500
DTEND;TZID=America/New_York:20280913T194500
DTSTAMP:20260420T020342
CREATED:20250717T193648Z
LAST-MODIFIED:20251214T141150Z
UID:10008310-1852483500-1852487100@www.fbcjeff.org
SUMMARY:Worship Ensemble Rehearsal
DESCRIPTION:
URL:https://www.fbcjeff.org/calendar/worship-ensemble-rehearsal/2028-09-13/
LOCATION:FBC Music Suite\, 1610 Russell Ave\, Jefferson City\, TN\, 37760\, United States
END:VEVENT
BEGIN:VEVENT
DTSTART;TZID=America/New_York:20280920T180000
DTEND;TZID=America/New_York:20280920T190000
DTSTAMP:20260420T020342
CREATED:20250717T193539Z
LAST-MODIFIED:20251214T140811Z
UID:10008050-1853085600-1853089200@www.fbcjeff.org
SUMMARY:Common Prayer and Bible Study
DESCRIPTION:
URL:https://www.fbcjeff.org/calendar/common-prayer-and-bible-study/2028-09-20/
LOCATION:FBC Music Suite\, 1610 Russell Ave\, Jefferson City\, TN\, 37760\, United States
ORGANIZER;CN="FBC Church Office":MAILTO:help@fbcjeff.org
END:VEVENT
BEGIN:VEVENT
DTSTART;TZID=America/New_York:20280920T184500
DTEND;TZID=America/New_York:20280920T194500
DTSTAMP:20260420T020342
CREATED:20250717T193648Z
LAST-MODIFIED:20251214T141150Z
UID:10008311-1853088300-1853091900@www.fbcjeff.org
SUMMARY:Worship Ensemble Rehearsal
DESCRIPTION:
URL:https://www.fbcjeff.org/calendar/worship-ensemble-rehearsal/2028-09-20/
LOCATION:FBC Music Suite\, 1610 Russell Ave\, Jefferson City\, TN\, 37760\, United States
END:VEVENT
BEGIN:VEVENT
DTSTART;TZID=America/New_York:20280927T180000
DTEND;TZID=America/New_York:20280927T190000
DTSTAMP:20260420T020342
CREATED:20250717T193539Z
LAST-MODIFIED:20251214T140811Z
UID:10008051-1853690400-1853694000@www.fbcjeff.org
SUMMARY:Common Prayer and Bible Study
DESCRIPTION:
URL:https://www.fbcjeff.org/calendar/common-prayer-and-bible-study/2028-09-27/
LOCATION:FBC Music Suite\, 1610 Russell Ave\, Jefferson City\, TN\, 37760\, United States
ORGANIZER;CN="FBC Church Office":MAILTO:help@fbcjeff.org
END:VEVENT
BEGIN:VEVENT
DTSTART;TZID=America/New_York:20280927T184500
DTEND;TZID=America/New_York:20280927T194500
DTSTAMP:20260420T020342
CREATED:20250717T193648Z
LAST-MODIFIED:20251214T141150Z
UID:10008312-1853693100-1853696700@www.fbcjeff.org
SUMMARY:Worship Ensemble Rehearsal
DESCRIPTION:
URL:https://www.fbcjeff.org/calendar/worship-ensemble-rehearsal/2028-09-27/
LOCATION:FBC Music Suite\, 1610 Russell Ave\, Jefferson City\, TN\, 37760\, United States
END:VEVENT
BEGIN:VEVENT
DTSTART;TZID=America/New_York:20281004T180000
DTEND;TZID=America/New_York:20281004T190000
DTSTAMP:20260420T020342
CREATED:20250717T193539Z
LAST-MODIFIED:20251214T140811Z
UID:10008052-1854295200-1854298800@www.fbcjeff.org
SUMMARY:Common Prayer and Bible Study
DESCRIPTION:
URL:https://www.fbcjeff.org/calendar/common-prayer-and-bible-study/2028-10-04/
LOCATION:FBC Music Suite\, 1610 Russell Ave\, Jefferson City\, TN\, 37760\, United States
ORGANIZER;CN="FBC Church Office":MAILTO:help@fbcjeff.org
END:VEVENT
BEGIN:VEVENT
DTSTART;TZID=America/New_York:20281004T184500
DTEND;TZID=America/New_York:20281004T194500
DTSTAMP:20260420T020342
CREATED:20250717T193648Z
LAST-MODIFIED:20251214T141150Z
UID:10008313-1854297900-1854301500@www.fbcjeff.org
SUMMARY:Worship Ensemble Rehearsal
DESCRIPTION:
URL:https://www.fbcjeff.org/calendar/worship-ensemble-rehearsal/2028-10-04/
LOCATION:FBC Music Suite\, 1610 Russell Ave\, Jefferson City\, TN\, 37760\, United States
END:VEVENT
BEGIN:VEVENT
DTSTART;TZID=America/New_York:20281008T140000
DTEND;TZID=America/New_York:20281008T160000
DTSTAMP:20260420T020342
CREATED:20240229T045509Z
LAST-MODIFIED:20260413T145815Z
UID:10005403-1854626400-1854633600@www.fbcjeff.org
SUMMARY:Church Advisory Council Meeting
DESCRIPTION:
URL:https://www.fbcjeff.org/calendar/church-advisory-council-meeting/2028-10-08/
LOCATION:FBC Music Suite\, 1610 Russell Ave\, Jefferson City\, TN\, 37760\, United States
ORGANIZER;CN="FBC Church Office":MAILTO:help@fbcjeff.org
END:VEVENT
BEGIN:VEVENT
DTSTART;TZID=America/New_York:20281011T180000
DTEND;TZID=America/New_York:20281011T190000
DTSTAMP:20260420T020342
CREATED:20250717T193539Z
LAST-MODIFIED:20251214T140811Z
UID:10008053-1854900000-1854903600@www.fbcjeff.org
SUMMARY:Common Prayer and Bible Study
DESCRIPTION:
URL:https://www.fbcjeff.org/calendar/common-prayer-and-bible-study/2028-10-11/
LOCATION:FBC Music Suite\, 1610 Russell Ave\, Jefferson City\, TN\, 37760\, United States
ORGANIZER;CN="FBC Church Office":MAILTO:help@fbcjeff.org
END:VEVENT
BEGIN:VEVENT
DTSTART;TZID=America/New_York:20281011T184500
DTEND;TZID=America/New_York:20281011T194500
DTSTAMP:20260420T020342
CREATED:20250717T193648Z
LAST-MODIFIED:20251214T141150Z
UID:10008314-1854902700-1854906300@www.fbcjeff.org
SUMMARY:Worship Ensemble Rehearsal
DESCRIPTION:
URL:https://www.fbcjeff.org/calendar/worship-ensemble-rehearsal/2028-10-11/
LOCATION:FBC Music Suite\, 1610 Russell Ave\, Jefferson City\, TN\, 37760\, United States
END:VEVENT
BEGIN:VEVENT
DTSTART;TZID=America/New_York:20281018T180000
DTEND;TZID=America/New_York:20281018T190000
DTSTAMP:20260420T020342
CREATED:20250717T193539Z
LAST-MODIFIED:20251214T140811Z
UID:10008054-1855504800-1855508400@www.fbcjeff.org
SUMMARY:Common Prayer and Bible Study
DESCRIPTION:
URL:https://www.fbcjeff.org/calendar/common-prayer-and-bible-study/2028-10-18/
LOCATION:FBC Music Suite\, 1610 Russell Ave\, Jefferson City\, TN\, 37760\, United States
ORGANIZER;CN="FBC Church Office":MAILTO:help@fbcjeff.org
END:VEVENT
BEGIN:VEVENT
DTSTART;TZID=America/New_York:20281018T184500
DTEND;TZID=America/New_York:20281018T194500
DTSTAMP:20260420T020342
CREATED:20250717T193648Z
LAST-MODIFIED:20251214T141150Z
UID:10008315-1855507500-1855511100@www.fbcjeff.org
SUMMARY:Worship Ensemble Rehearsal
DESCRIPTION:
URL:https://www.fbcjeff.org/calendar/worship-ensemble-rehearsal/2028-10-18/
LOCATION:FBC Music Suite\, 1610 Russell Ave\, Jefferson City\, TN\, 37760\, United States
END:VEVENT
BEGIN:VEVENT
DTSTART;TZID=America/New_York:20281025T180000
DTEND;TZID=America/New_York:20281025T190000
DTSTAMP:20260420T020342
CREATED:20250717T193539Z
LAST-MODIFIED:20251214T140811Z
UID:10008055-1856109600-1856113200@www.fbcjeff.org
SUMMARY:Common Prayer and Bible Study
DESCRIPTION:
URL:https://www.fbcjeff.org/calendar/common-prayer-and-bible-study/2028-10-25/
LOCATION:FBC Music Suite\, 1610 Russell Ave\, Jefferson City\, TN\, 37760\, United States
ORGANIZER;CN="FBC Church Office":MAILTO:help@fbcjeff.org
END:VEVENT
BEGIN:VEVENT
DTSTART;TZID=America/New_York:20281025T184500
DTEND;TZID=America/New_York:20281025T194500
DTSTAMP:20260420T020342
CREATED:20250717T193648Z
LAST-MODIFIED:20251214T141150Z
UID:10008316-1856112300-1856115900@www.fbcjeff.org
SUMMARY:Worship Ensemble Rehearsal
DESCRIPTION:
URL:https://www.fbcjeff.org/calendar/worship-ensemble-rehearsal/2028-10-25/
LOCATION:FBC Music Suite\, 1610 Russell Ave\, Jefferson City\, TN\, 37760\, United States
END:VEVENT
END:VCALENDAR