BEGIN:VCALENDAR
VERSION:2.0
PRODID:-//First Baptist Church, Jefferson City, TN - ECPv6.15.20//NONSGML v1.0//EN
CALSCALE:GREGORIAN
METHOD:PUBLISH
X-WR-CALNAME:First Baptist Church, Jefferson City, TN
X-ORIGINAL-URL:https://www.fbcjeff.org
X-WR-CALDESC:Events for First Baptist Church, Jefferson City, TN
REFRESH-INTERVAL;VALUE=DURATION:PT1H
X-Robots-Tag:noindex
X-PUBLISHED-TTL:PT1H
BEGIN:VTIMEZONE
TZID:America/New_York
BEGIN:DAYLIGHT
TZOFFSETFROM:-0500
TZOFFSETTO:-0400
TZNAME:EDT
DTSTART:20290311T070000
END:DAYLIGHT
BEGIN:STANDARD
TZOFFSETFROM:-0400
TZOFFSETTO:-0500
TZNAME:EST
DTSTART:20291104T060000
END:STANDARD
BEGIN:DAYLIGHT
TZOFFSETFROM:-0500
TZOFFSETTO:-0400
TZNAME:EDT
DTSTART:20300310T070000
END:DAYLIGHT
BEGIN:STANDARD
TZOFFSETFROM:-0400
TZOFFSETTO:-0500
TZNAME:EST
DTSTART:20301103T060000
END:STANDARD
BEGIN:DAYLIGHT
TZOFFSETFROM:-0500
TZOFFSETTO:-0400
TZNAME:EDT
DTSTART:20310309T070000
END:DAYLIGHT
BEGIN:STANDARD
TZOFFSETFROM:-0400
TZOFFSETTO:-0500
TZNAME:EST
DTSTART:20311102T060000
END:STANDARD
BEGIN:DAYLIGHT
TZOFFSETFROM:-0500
TZOFFSETTO:-0400
TZNAME:EDT
DTSTART:20320314T070000
END:DAYLIGHT
BEGIN:STANDARD
TZOFFSETFROM:-0400
TZOFFSETTO:-0500
TZNAME:EST
DTSTART:20321107T060000
END:STANDARD
END:VTIMEZONE
BEGIN:VEVENT
DTSTART;TZID=America/New_York:20301106T180000
DTEND;TZID=America/New_York:20301106T190000
DTSTAMP:20260421T112627
CREATED:20250717T193539Z
LAST-MODIFIED:20251214T140811Z
UID:10009799-1920218400-1920222000@www.fbcjeff.org
SUMMARY:Common Prayer and Bible Study
DESCRIPTION:
URL:https://www.fbcjeff.org/calendar/common-prayer-and-bible-study/2030-11-06/
LOCATION:FBC Music Suite\, 1610 Russell Ave\, Jefferson City\, TN\, 37760\, United States
ORGANIZER;CN="FBC Church Office":MAILTO:help@fbcjeff.org
END:VEVENT
BEGIN:VEVENT
DTSTART;TZID=America/New_York:20301106T184500
DTEND;TZID=America/New_York:20301106T194500
DTSTAMP:20260421T112627
CREATED:20250717T193648Z
LAST-MODIFIED:20251214T141150Z
UID:10009833-1920221100-1920224700@www.fbcjeff.org
SUMMARY:Worship Ensemble Rehearsal
DESCRIPTION:
URL:https://www.fbcjeff.org/calendar/worship-ensemble-rehearsal/2030-11-06/
LOCATION:FBC Music Suite\, 1610 Russell Ave\, Jefferson City\, TN\, 37760\, United States
END:VEVENT
BEGIN:VEVENT
DTSTART;TZID=America/New_York:20301110T140000
DTEND;TZID=America/New_York:20301110T160000
DTSTAMP:20260421T112627
CREATED:20240229T045509Z
LAST-MODIFIED:20260413T145815Z
UID:10009772-1920549600-1920556800@www.fbcjeff.org
SUMMARY:Church Advisory Council Meeting
DESCRIPTION:
URL:https://www.fbcjeff.org/calendar/church-advisory-council-meeting/2030-11-10/
LOCATION:FBC Music Suite\, 1610 Russell Ave\, Jefferson City\, TN\, 37760\, United States
ORGANIZER;CN="FBC Church Office":MAILTO:help@fbcjeff.org
END:VEVENT
BEGIN:VEVENT
DTSTART;TZID=America/New_York:20301113T180000
DTEND;TZID=America/New_York:20301113T190000
DTSTAMP:20260421T112627
CREATED:20250717T193539Z
LAST-MODIFIED:20251214T140811Z
UID:10009800-1920823200-1920826800@www.fbcjeff.org
SUMMARY:Common Prayer and Bible Study
DESCRIPTION:
URL:https://www.fbcjeff.org/calendar/common-prayer-and-bible-study/2030-11-13/
LOCATION:FBC Music Suite\, 1610 Russell Ave\, Jefferson City\, TN\, 37760\, United States
ORGANIZER;CN="FBC Church Office":MAILTO:help@fbcjeff.org
END:VEVENT
BEGIN:VEVENT
DTSTART;TZID=America/New_York:20301113T184500
DTEND;TZID=America/New_York:20301113T194500
DTSTAMP:20260421T112627
CREATED:20250717T193648Z
LAST-MODIFIED:20251214T141150Z
UID:10009834-1920825900-1920829500@www.fbcjeff.org
SUMMARY:Worship Ensemble Rehearsal
DESCRIPTION:
URL:https://www.fbcjeff.org/calendar/worship-ensemble-rehearsal/2030-11-13/
LOCATION:FBC Music Suite\, 1610 Russell Ave\, Jefferson City\, TN\, 37760\, United States
END:VEVENT
BEGIN:VEVENT
DTSTART;TZID=America/New_York:20301120T180000
DTEND;TZID=America/New_York:20301120T190000
DTSTAMP:20260421T112627
CREATED:20250717T193539Z
LAST-MODIFIED:20251214T140811Z
UID:10009801-1921428000-1921431600@www.fbcjeff.org
SUMMARY:Common Prayer and Bible Study
DESCRIPTION:
URL:https://www.fbcjeff.org/calendar/common-prayer-and-bible-study/2030-11-20/
LOCATION:FBC Music Suite\, 1610 Russell Ave\, Jefferson City\, TN\, 37760\, United States
ORGANIZER;CN="FBC Church Office":MAILTO:help@fbcjeff.org
END:VEVENT
BEGIN:VEVENT
DTSTART;TZID=America/New_York:20301120T184500
DTEND;TZID=America/New_York:20301120T194500
DTSTAMP:20260421T112627
CREATED:20250717T193648Z
LAST-MODIFIED:20251214T141150Z
UID:10009835-1921430700-1921434300@www.fbcjeff.org
SUMMARY:Worship Ensemble Rehearsal
DESCRIPTION:
URL:https://www.fbcjeff.org/calendar/worship-ensemble-rehearsal/2030-11-20/
LOCATION:FBC Music Suite\, 1610 Russell Ave\, Jefferson City\, TN\, 37760\, United States
END:VEVENT
BEGIN:VEVENT
DTSTART;TZID=America/New_York:20301127T180000
DTEND;TZID=America/New_York:20301127T190000
DTSTAMP:20260421T112627
CREATED:20250717T193539Z
LAST-MODIFIED:20251214T140811Z
UID:10009802-1922032800-1922036400@www.fbcjeff.org
SUMMARY:Common Prayer and Bible Study
DESCRIPTION:
URL:https://www.fbcjeff.org/calendar/common-prayer-and-bible-study/2030-11-27/
LOCATION:FBC Music Suite\, 1610 Russell Ave\, Jefferson City\, TN\, 37760\, United States
ORGANIZER;CN="FBC Church Office":MAILTO:help@fbcjeff.org
END:VEVENT
BEGIN:VEVENT
DTSTART;TZID=America/New_York:20301127T184500
DTEND;TZID=America/New_York:20301127T194500
DTSTAMP:20260421T112627
CREATED:20250717T193648Z
LAST-MODIFIED:20251214T141150Z
UID:10009836-1922035500-1922039100@www.fbcjeff.org
SUMMARY:Worship Ensemble Rehearsal
DESCRIPTION:
URL:https://www.fbcjeff.org/calendar/worship-ensemble-rehearsal/2030-11-27/
LOCATION:FBC Music Suite\, 1610 Russell Ave\, Jefferson City\, TN\, 37760\, United States
END:VEVENT
BEGIN:VEVENT
DTSTART;TZID=America/New_York:20301204T180000
DTEND;TZID=America/New_York:20301204T190000
DTSTAMP:20260421T112627
CREATED:20250717T193539Z
LAST-MODIFIED:20251214T140811Z
UID:10009803-1922637600-1922641200@www.fbcjeff.org
SUMMARY:Common Prayer and Bible Study
DESCRIPTION:
URL:https://www.fbcjeff.org/calendar/common-prayer-and-bible-study/2030-12-04/
LOCATION:FBC Music Suite\, 1610 Russell Ave\, Jefferson City\, TN\, 37760\, United States
ORGANIZER;CN="FBC Church Office":MAILTO:help@fbcjeff.org
END:VEVENT
BEGIN:VEVENT
DTSTART;TZID=America/New_York:20301204T184500
DTEND;TZID=America/New_York:20301204T194500
DTSTAMP:20260421T112627
CREATED:20250717T193648Z
LAST-MODIFIED:20251214T141150Z
UID:10009837-1922640300-1922643900@www.fbcjeff.org
SUMMARY:Worship Ensemble Rehearsal
DESCRIPTION:
URL:https://www.fbcjeff.org/calendar/worship-ensemble-rehearsal/2030-12-04/
LOCATION:FBC Music Suite\, 1610 Russell Ave\, Jefferson City\, TN\, 37760\, United States
END:VEVENT
BEGIN:VEVENT
DTSTART;TZID=America/New_York:20301208T140000
DTEND;TZID=America/New_York:20301208T160000
DTSTAMP:20260421T112627
CREATED:20240229T045509Z
LAST-MODIFIED:20260413T145815Z
UID:10009773-1922968800-1922976000@www.fbcjeff.org
SUMMARY:Church Advisory Council Meeting
DESCRIPTION:
URL:https://www.fbcjeff.org/calendar/church-advisory-council-meeting/2030-12-08/
LOCATION:FBC Music Suite\, 1610 Russell Ave\, Jefferson City\, TN\, 37760\, United States
ORGANIZER;CN="FBC Church Office":MAILTO:help@fbcjeff.org
END:VEVENT
BEGIN:VEVENT
DTSTART;TZID=America/New_York:20301211T180000
DTEND;TZID=America/New_York:20301211T190000
DTSTAMP:20260421T112627
CREATED:20250717T193539Z
LAST-MODIFIED:20251214T140811Z
UID:10009804-1923242400-1923246000@www.fbcjeff.org
SUMMARY:Common Prayer and Bible Study
DESCRIPTION:
URL:https://www.fbcjeff.org/calendar/common-prayer-and-bible-study/2030-12-11/
LOCATION:FBC Music Suite\, 1610 Russell Ave\, Jefferson City\, TN\, 37760\, United States
ORGANIZER;CN="FBC Church Office":MAILTO:help@fbcjeff.org
END:VEVENT
BEGIN:VEVENT
DTSTART;TZID=America/New_York:20301211T184500
DTEND;TZID=America/New_York:20301211T194500
DTSTAMP:20260421T112627
CREATED:20250717T193648Z
LAST-MODIFIED:20251214T141150Z
UID:10009838-1923245100-1923248700@www.fbcjeff.org
SUMMARY:Worship Ensemble Rehearsal
DESCRIPTION:
URL:https://www.fbcjeff.org/calendar/worship-ensemble-rehearsal/2030-12-11/
LOCATION:FBC Music Suite\, 1610 Russell Ave\, Jefferson City\, TN\, 37760\, United States
END:VEVENT
BEGIN:VEVENT
DTSTART;TZID=America/New_York:20301218T180000
DTEND;TZID=America/New_York:20301218T190000
DTSTAMP:20260421T112627
CREATED:20250717T193539Z
LAST-MODIFIED:20251214T140811Z
UID:10010038-1923847200-1923850800@www.fbcjeff.org
SUMMARY:Common Prayer and Bible Study
DESCRIPTION:
URL:https://www.fbcjeff.org/calendar/common-prayer-and-bible-study/2030-12-18/
LOCATION:FBC Music Suite\, 1610 Russell Ave\, Jefferson City\, TN\, 37760\, United States
ORGANIZER;CN="FBC Church Office":MAILTO:help@fbcjeff.org
END:VEVENT
BEGIN:VEVENT
DTSTART;TZID=America/New_York:20301218T184500
DTEND;TZID=America/New_York:20301218T194500
DTSTAMP:20260421T112627
CREATED:20250717T193648Z
LAST-MODIFIED:20251214T141150Z
UID:10010044-1923849900-1923853500@www.fbcjeff.org
SUMMARY:Worship Ensemble Rehearsal
DESCRIPTION:
URL:https://www.fbcjeff.org/calendar/worship-ensemble-rehearsal/2030-12-18/
LOCATION:FBC Music Suite\, 1610 Russell Ave\, Jefferson City\, TN\, 37760\, United States
END:VEVENT
BEGIN:VEVENT
DTSTART;TZID=America/New_York:20301225T180000
DTEND;TZID=America/New_York:20301225T190000
DTSTAMP:20260421T112627
CREATED:20250717T193539Z
LAST-MODIFIED:20251214T140811Z
UID:10010039-1924452000-1924455600@www.fbcjeff.org
SUMMARY:Common Prayer and Bible Study
DESCRIPTION:
URL:https://www.fbcjeff.org/calendar/common-prayer-and-bible-study/2030-12-25/
LOCATION:FBC Music Suite\, 1610 Russell Ave\, Jefferson City\, TN\, 37760\, United States
ORGANIZER;CN="FBC Church Office":MAILTO:help@fbcjeff.org
END:VEVENT
BEGIN:VEVENT
DTSTART;TZID=America/New_York:20301225T184500
DTEND;TZID=America/New_York:20301225T194500
DTSTAMP:20260421T112627
CREATED:20250717T193648Z
LAST-MODIFIED:20251214T141150Z
UID:10010045-1924454700-1924458300@www.fbcjeff.org
SUMMARY:Worship Ensemble Rehearsal
DESCRIPTION:
URL:https://www.fbcjeff.org/calendar/worship-ensemble-rehearsal/2030-12-25/
LOCATION:FBC Music Suite\, 1610 Russell Ave\, Jefferson City\, TN\, 37760\, United States
END:VEVENT
BEGIN:VEVENT
DTSTART;TZID=America/New_York:20310101T180000
DTEND;TZID=America/New_York:20310101T190000
DTSTAMP:20260421T112627
CREATED:20250717T193539Z
LAST-MODIFIED:20251214T140811Z
UID:10010040-1925056800-1925060400@www.fbcjeff.org
SUMMARY:Common Prayer and Bible Study
DESCRIPTION:
URL:https://www.fbcjeff.org/calendar/common-prayer-and-bible-study/2031-01-01/
LOCATION:FBC Music Suite\, 1610 Russell Ave\, Jefferson City\, TN\, 37760\, United States
ORGANIZER;CN="FBC Church Office":MAILTO:help@fbcjeff.org
END:VEVENT
BEGIN:VEVENT
DTSTART;TZID=America/New_York:20310101T184500
DTEND;TZID=America/New_York:20310101T194500
DTSTAMP:20260421T112627
CREATED:20250717T193648Z
LAST-MODIFIED:20251214T141150Z
UID:10010046-1925059500-1925063100@www.fbcjeff.org
SUMMARY:Worship Ensemble Rehearsal
DESCRIPTION:
URL:https://www.fbcjeff.org/calendar/worship-ensemble-rehearsal/2031-01-01/
LOCATION:FBC Music Suite\, 1610 Russell Ave\, Jefferson City\, TN\, 37760\, United States
END:VEVENT
BEGIN:VEVENT
DTSTART;TZID=America/New_York:20310108T180000
DTEND;TZID=America/New_York:20310108T190000
DTSTAMP:20260421T112627
CREATED:20250717T193539Z
LAST-MODIFIED:20251214T140811Z
UID:10010041-1925661600-1925665200@www.fbcjeff.org
SUMMARY:Common Prayer and Bible Study
DESCRIPTION:
URL:https://www.fbcjeff.org/calendar/common-prayer-and-bible-study/2031-01-08/
LOCATION:FBC Music Suite\, 1610 Russell Ave\, Jefferson City\, TN\, 37760\, United States
ORGANIZER;CN="FBC Church Office":MAILTO:help@fbcjeff.org
END:VEVENT
BEGIN:VEVENT
DTSTART;TZID=America/New_York:20310108T184500
DTEND;TZID=America/New_York:20310108T194500
DTSTAMP:20260421T112627
CREATED:20250717T193648Z
LAST-MODIFIED:20251214T141150Z
UID:10010047-1925664300-1925667900@www.fbcjeff.org
SUMMARY:Worship Ensemble Rehearsal
DESCRIPTION:
URL:https://www.fbcjeff.org/calendar/worship-ensemble-rehearsal/2031-01-08/
LOCATION:FBC Music Suite\, 1610 Russell Ave\, Jefferson City\, TN\, 37760\, United States
END:VEVENT
BEGIN:VEVENT
DTSTART;TZID=America/New_York:20310112T140000
DTEND;TZID=America/New_York:20310112T160000
DTSTAMP:20260421T112627
CREATED:20240229T045509Z
LAST-MODIFIED:20260413T145815Z
UID:10009845-1925992800-1926000000@www.fbcjeff.org
SUMMARY:Church Advisory Council Meeting
DESCRIPTION:
URL:https://www.fbcjeff.org/calendar/church-advisory-council-meeting/2031-01-12/
LOCATION:FBC Music Suite\, 1610 Russell Ave\, Jefferson City\, TN\, 37760\, United States
ORGANIZER;CN="FBC Church Office":MAILTO:help@fbcjeff.org
END:VEVENT
BEGIN:VEVENT
DTSTART;TZID=America/New_York:20310115T180000
DTEND;TZID=America/New_York:20310115T190000
DTSTAMP:20260421T112627
CREATED:20250717T193539Z
LAST-MODIFIED:20251214T140811Z
UID:10010042-1926266400-1926270000@www.fbcjeff.org
SUMMARY:Common Prayer and Bible Study
DESCRIPTION:
URL:https://www.fbcjeff.org/calendar/common-prayer-and-bible-study/2031-01-15/
LOCATION:FBC Music Suite\, 1610 Russell Ave\, Jefferson City\, TN\, 37760\, United States
ORGANIZER;CN="FBC Church Office":MAILTO:help@fbcjeff.org
END:VEVENT
BEGIN:VEVENT
DTSTART;TZID=America/New_York:20310115T184500
DTEND;TZID=America/New_York:20310115T194500
DTSTAMP:20260421T112627
CREATED:20250717T193648Z
LAST-MODIFIED:20251214T141150Z
UID:10010048-1926269100-1926272700@www.fbcjeff.org
SUMMARY:Worship Ensemble Rehearsal
DESCRIPTION:
URL:https://www.fbcjeff.org/calendar/worship-ensemble-rehearsal/2031-01-15/
LOCATION:FBC Music Suite\, 1610 Russell Ave\, Jefferson City\, TN\, 37760\, United States
END:VEVENT
BEGIN:VEVENT
DTSTART;TZID=America/New_York:20310122T180000
DTEND;TZID=America/New_York:20310122T190000
DTSTAMP:20260421T112627
CREATED:20250717T193539Z
LAST-MODIFIED:20251214T140811Z
UID:10010043-1926871200-1926874800@www.fbcjeff.org
SUMMARY:Common Prayer and Bible Study
DESCRIPTION:
URL:https://www.fbcjeff.org/calendar/common-prayer-and-bible-study/2031-01-22/
LOCATION:FBC Music Suite\, 1610 Russell Ave\, Jefferson City\, TN\, 37760\, United States
ORGANIZER;CN="FBC Church Office":MAILTO:help@fbcjeff.org
END:VEVENT
BEGIN:VEVENT
DTSTART;TZID=America/New_York:20310122T184500
DTEND;TZID=America/New_York:20310122T194500
DTSTAMP:20260421T112627
CREATED:20250717T193648Z
LAST-MODIFIED:20251214T141150Z
UID:10010049-1926873900-1926877500@www.fbcjeff.org
SUMMARY:Worship Ensemble Rehearsal
DESCRIPTION:
URL:https://www.fbcjeff.org/calendar/worship-ensemble-rehearsal/2031-01-22/
LOCATION:FBC Music Suite\, 1610 Russell Ave\, Jefferson City\, TN\, 37760\, United States
END:VEVENT
BEGIN:VEVENT
DTSTART;TZID=America/New_York:20310129T180000
DTEND;TZID=America/New_York:20310129T190000
DTSTAMP:20260421T112627
CREATED:20250717T193539Z
LAST-MODIFIED:20251214T140811Z
UID:10010086-1927476000-1927479600@www.fbcjeff.org
SUMMARY:Common Prayer and Bible Study
DESCRIPTION:
URL:https://www.fbcjeff.org/calendar/common-prayer-and-bible-study/2031-01-29/
LOCATION:FBC Music Suite\, 1610 Russell Ave\, Jefferson City\, TN\, 37760\, United States
ORGANIZER;CN="FBC Church Office":MAILTO:help@fbcjeff.org
END:VEVENT
BEGIN:VEVENT
DTSTART;TZID=America/New_York:20310129T184500
DTEND;TZID=America/New_York:20310129T194500
DTSTAMP:20260421T112627
CREATED:20250717T193648Z
LAST-MODIFIED:20251214T141150Z
UID:10010087-1927478700-1927482300@www.fbcjeff.org
SUMMARY:Worship Ensemble Rehearsal
DESCRIPTION:
URL:https://www.fbcjeff.org/calendar/worship-ensemble-rehearsal/2031-01-29/
LOCATION:FBC Music Suite\, 1610 Russell Ave\, Jefferson City\, TN\, 37760\, United States
END:VEVENT
BEGIN:VEVENT
DTSTART;TZID=America/New_York:20310205T180000
DTEND;TZID=America/New_York:20310205T190000
DTSTAMP:20260421T112627
CREATED:20250717T193539Z
LAST-MODIFIED:20251214T140811Z
UID:10010097-1928080800-1928084400@www.fbcjeff.org
SUMMARY:Common Prayer and Bible Study
DESCRIPTION:
URL:https://www.fbcjeff.org/calendar/common-prayer-and-bible-study/2031-02-05/
LOCATION:FBC Music Suite\, 1610 Russell Ave\, Jefferson City\, TN\, 37760\, United States
ORGANIZER;CN="FBC Church Office":MAILTO:help@fbcjeff.org
END:VEVENT
END:VCALENDAR