BEGIN:VCALENDAR
VERSION:2.0
PRODID:-//First Baptist Church, Jefferson City, TN - ECPv6.15.20//NONSGML v1.0//EN
CALSCALE:GREGORIAN
METHOD:PUBLISH
X-WR-CALNAME:First Baptist Church, Jefferson City, TN
X-ORIGINAL-URL:https://www.fbcjeff.org
X-WR-CALDESC:Events for First Baptist Church, Jefferson City, TN
REFRESH-INTERVAL;VALUE=DURATION:PT1H
X-Robots-Tag:noindex
X-PUBLISHED-TTL:PT1H
BEGIN:VTIMEZONE
TZID:America/New_York
BEGIN:DAYLIGHT
TZOFFSETFROM:-0500
TZOFFSETTO:-0400
TZNAME:EDT
DTSTART:20280312T070000
END:DAYLIGHT
BEGIN:STANDARD
TZOFFSETFROM:-0400
TZOFFSETTO:-0500
TZNAME:EST
DTSTART:20281105T060000
END:STANDARD
BEGIN:DAYLIGHT
TZOFFSETFROM:-0500
TZOFFSETTO:-0400
TZNAME:EDT
DTSTART:20290311T070000
END:DAYLIGHT
BEGIN:STANDARD
TZOFFSETFROM:-0400
TZOFFSETTO:-0500
TZNAME:EST
DTSTART:20291104T060000
END:STANDARD
BEGIN:DAYLIGHT
TZOFFSETFROM:-0500
TZOFFSETTO:-0400
TZNAME:EDT
DTSTART:20300310T070000
END:DAYLIGHT
BEGIN:STANDARD
TZOFFSETFROM:-0400
TZOFFSETTO:-0500
TZNAME:EST
DTSTART:20301103T060000
END:STANDARD
END:VTIMEZONE
BEGIN:VEVENT
DTSTART;TZID=America/New_York:20290121T104500
DTEND;TZID=America/New_York:20290121T114500
DTSTAMP:20260419T102002
CREATED:20250717T194028Z
LAST-MODIFIED:20250717T194028Z
UID:10008850-1863686700-1863690300@www.fbcjeff.org
SUMMARY:Worship
DESCRIPTION:Join us each week in person or online.
URL:https://www.fbcjeff.org/calendar/worship/2029-01-21/
LOCATION:FBC Sanctuary\, 1610 Russell Ave\, Jefferson City\, TN\, 37760\, United States
ORGANIZER;CN="FBC Church Office":MAILTO:help@fbcjeff.org
END:VEVENT
BEGIN:VEVENT
DTSTART;TZID=America/New_York:20290128T104500
DTEND;TZID=America/New_York:20290128T114500
DTSTAMP:20260419T102002
CREATED:20250717T194028Z
LAST-MODIFIED:20250717T194028Z
UID:10008851-1864291500-1864295100@www.fbcjeff.org
SUMMARY:Worship
DESCRIPTION:Join us each week in person or online.
URL:https://www.fbcjeff.org/calendar/worship/2029-01-28/
LOCATION:FBC Sanctuary\, 1610 Russell Ave\, Jefferson City\, TN\, 37760\, United States
ORGANIZER;CN="FBC Church Office":MAILTO:help@fbcjeff.org
END:VEVENT
BEGIN:VEVENT
DTSTART;TZID=America/New_York:20290204T104500
DTEND;TZID=America/New_York:20290204T114500
DTSTAMP:20260419T102002
CREATED:20250717T194028Z
LAST-MODIFIED:20250717T194028Z
UID:10008852-1864896300-1864899900@www.fbcjeff.org
SUMMARY:Worship
DESCRIPTION:Join us each week in person or online.
URL:https://www.fbcjeff.org/calendar/worship/2029-02-04/
LOCATION:FBC Sanctuary\, 1610 Russell Ave\, Jefferson City\, TN\, 37760\, United States
ORGANIZER;CN="FBC Church Office":MAILTO:help@fbcjeff.org
END:VEVENT
BEGIN:VEVENT
DTSTART;TZID=America/New_York:20290211T104500
DTEND;TZID=America/New_York:20290211T114500
DTSTAMP:20260419T102002
CREATED:20250717T194028Z
LAST-MODIFIED:20250717T194028Z
UID:10008853-1865501100-1865504700@www.fbcjeff.org
SUMMARY:Worship
DESCRIPTION:Join us each week in person or online.
URL:https://www.fbcjeff.org/calendar/worship/2029-02-11/
LOCATION:FBC Sanctuary\, 1610 Russell Ave\, Jefferson City\, TN\, 37760\, United States
ORGANIZER;CN="FBC Church Office":MAILTO:help@fbcjeff.org
END:VEVENT
BEGIN:VEVENT
DTSTART;TZID=America/New_York:20290218T104500
DTEND;TZID=America/New_York:20290218T114500
DTSTAMP:20260419T102002
CREATED:20250717T194028Z
LAST-MODIFIED:20250717T194028Z
UID:10008854-1866105900-1866109500@www.fbcjeff.org
SUMMARY:Worship
DESCRIPTION:Join us each week in person or online.
URL:https://www.fbcjeff.org/calendar/worship/2029-02-18/
LOCATION:FBC Sanctuary\, 1610 Russell Ave\, Jefferson City\, TN\, 37760\, United States
ORGANIZER;CN="FBC Church Office":MAILTO:help@fbcjeff.org
END:VEVENT
BEGIN:VEVENT
DTSTART;TZID=America/New_York:20290225T104500
DTEND;TZID=America/New_York:20290225T114500
DTSTAMP:20260419T102002
CREATED:20250717T194028Z
LAST-MODIFIED:20250717T194028Z
UID:10008855-1866710700-1866714300@www.fbcjeff.org
SUMMARY:Worship
DESCRIPTION:Join us each week in person or online.
URL:https://www.fbcjeff.org/calendar/worship/2029-02-25/
LOCATION:FBC Sanctuary\, 1610 Russell Ave\, Jefferson City\, TN\, 37760\, United States
ORGANIZER;CN="FBC Church Office":MAILTO:help@fbcjeff.org
END:VEVENT
BEGIN:VEVENT
DTSTART;TZID=America/New_York:20290304T104500
DTEND;TZID=America/New_York:20290304T114500
DTSTAMP:20260419T102002
CREATED:20250717T194028Z
LAST-MODIFIED:20250717T194028Z
UID:10008856-1867315500-1867319100@www.fbcjeff.org
SUMMARY:Worship
DESCRIPTION:Join us each week in person or online.
URL:https://www.fbcjeff.org/calendar/worship/2029-03-04/
LOCATION:FBC Sanctuary\, 1610 Russell Ave\, Jefferson City\, TN\, 37760\, United States
ORGANIZER;CN="FBC Church Office":MAILTO:help@fbcjeff.org
END:VEVENT
BEGIN:VEVENT
DTSTART;TZID=America/New_York:20290311T104500
DTEND;TZID=America/New_York:20290311T114500
DTSTAMP:20260419T102002
CREATED:20250717T194028Z
LAST-MODIFIED:20250717T194028Z
UID:10008857-1867920300-1867923900@www.fbcjeff.org
SUMMARY:Worship
DESCRIPTION:Join us each week in person or online.
URL:https://www.fbcjeff.org/calendar/worship/2029-03-11/
LOCATION:FBC Sanctuary\, 1610 Russell Ave\, Jefferson City\, TN\, 37760\, United States
ORGANIZER;CN="FBC Church Office":MAILTO:help@fbcjeff.org
END:VEVENT
BEGIN:VEVENT
DTSTART;TZID=America/New_York:20290318T104500
DTEND;TZID=America/New_York:20290318T114500
DTSTAMP:20260419T102002
CREATED:20250717T194028Z
LAST-MODIFIED:20250717T194028Z
UID:10008858-1868525100-1868528700@www.fbcjeff.org
SUMMARY:Worship
DESCRIPTION:Join us each week in person or online.
URL:https://www.fbcjeff.org/calendar/worship/2029-03-18/
LOCATION:FBC Sanctuary\, 1610 Russell Ave\, Jefferson City\, TN\, 37760\, United States
ORGANIZER;CN="FBC Church Office":MAILTO:help@fbcjeff.org
END:VEVENT
BEGIN:VEVENT
DTSTART;TZID=America/New_York:20290325T104500
DTEND;TZID=America/New_York:20290325T114500
DTSTAMP:20260419T102002
CREATED:20250717T194028Z
LAST-MODIFIED:20250717T194028Z
UID:10008859-1869129900-1869133500@www.fbcjeff.org
SUMMARY:Worship
DESCRIPTION:Join us each week in person or online.
URL:https://www.fbcjeff.org/calendar/worship/2029-03-25/
LOCATION:FBC Sanctuary\, 1610 Russell Ave\, Jefferson City\, TN\, 37760\, United States
ORGANIZER;CN="FBC Church Office":MAILTO:help@fbcjeff.org
END:VEVENT
BEGIN:VEVENT
DTSTART;TZID=America/New_York:20290401T104500
DTEND;TZID=America/New_York:20290401T114500
DTSTAMP:20260419T102002
CREATED:20250717T194028Z
LAST-MODIFIED:20250717T194028Z
UID:10008860-1869734700-1869738300@www.fbcjeff.org
SUMMARY:Worship
DESCRIPTION:Join us each week in person or online.
URL:https://www.fbcjeff.org/calendar/worship/2029-04-01/
LOCATION:FBC Sanctuary\, 1610 Russell Ave\, Jefferson City\, TN\, 37760\, United States
ORGANIZER;CN="FBC Church Office":MAILTO:help@fbcjeff.org
END:VEVENT
BEGIN:VEVENT
DTSTART;TZID=America/New_York:20290408T104500
DTEND;TZID=America/New_York:20290408T114500
DTSTAMP:20260419T102002
CREATED:20250717T194028Z
LAST-MODIFIED:20250717T194028Z
UID:10008861-1870339500-1870343100@www.fbcjeff.org
SUMMARY:Worship
DESCRIPTION:Join us each week in person or online.
URL:https://www.fbcjeff.org/calendar/worship/2029-04-08/
LOCATION:FBC Sanctuary\, 1610 Russell Ave\, Jefferson City\, TN\, 37760\, United States
ORGANIZER;CN="FBC Church Office":MAILTO:help@fbcjeff.org
END:VEVENT
BEGIN:VEVENT
DTSTART;TZID=America/New_York:20290415T104500
DTEND;TZID=America/New_York:20290415T114500
DTSTAMP:20260419T102002
CREATED:20250717T194028Z
LAST-MODIFIED:20250717T194028Z
UID:10008862-1870944300-1870947900@www.fbcjeff.org
SUMMARY:Worship
DESCRIPTION:Join us each week in person or online.
URL:https://www.fbcjeff.org/calendar/worship/2029-04-15/
LOCATION:FBC Sanctuary\, 1610 Russell Ave\, Jefferson City\, TN\, 37760\, United States
ORGANIZER;CN="FBC Church Office":MAILTO:help@fbcjeff.org
END:VEVENT
BEGIN:VEVENT
DTSTART;TZID=America/New_York:20290422T104500
DTEND;TZID=America/New_York:20290422T114500
DTSTAMP:20260419T102002
CREATED:20250717T194028Z
LAST-MODIFIED:20250717T194028Z
UID:10008863-1871549100-1871552700@www.fbcjeff.org
SUMMARY:Worship
DESCRIPTION:Join us each week in person or online.
URL:https://www.fbcjeff.org/calendar/worship/2029-04-22/
LOCATION:FBC Sanctuary\, 1610 Russell Ave\, Jefferson City\, TN\, 37760\, United States
ORGANIZER;CN="FBC Church Office":MAILTO:help@fbcjeff.org
END:VEVENT
BEGIN:VEVENT
DTSTART;TZID=America/New_York:20290429T104500
DTEND;TZID=America/New_York:20290429T114500
DTSTAMP:20260419T102002
CREATED:20250717T194028Z
LAST-MODIFIED:20250717T194028Z
UID:10008864-1872153900-1872157500@www.fbcjeff.org
SUMMARY:Worship
DESCRIPTION:Join us each week in person or online.
URL:https://www.fbcjeff.org/calendar/worship/2029-04-29/
LOCATION:FBC Sanctuary\, 1610 Russell Ave\, Jefferson City\, TN\, 37760\, United States
ORGANIZER;CN="FBC Church Office":MAILTO:help@fbcjeff.org
END:VEVENT
BEGIN:VEVENT
DTSTART;TZID=America/New_York:20290506T104500
DTEND;TZID=America/New_York:20290506T114500
DTSTAMP:20260419T102002
CREATED:20250717T194028Z
LAST-MODIFIED:20250717T194028Z
UID:10008865-1872758700-1872762300@www.fbcjeff.org
SUMMARY:Worship
DESCRIPTION:Join us each week in person or online.
URL:https://www.fbcjeff.org/calendar/worship/2029-05-06/
LOCATION:FBC Sanctuary\, 1610 Russell Ave\, Jefferson City\, TN\, 37760\, United States
ORGANIZER;CN="FBC Church Office":MAILTO:help@fbcjeff.org
END:VEVENT
BEGIN:VEVENT
DTSTART;TZID=America/New_York:20290513T104500
DTEND;TZID=America/New_York:20290513T114500
DTSTAMP:20260419T102002
CREATED:20250717T194028Z
LAST-MODIFIED:20250717T194028Z
UID:10008866-1873363500-1873367100@www.fbcjeff.org
SUMMARY:Worship
DESCRIPTION:Join us each week in person or online.
URL:https://www.fbcjeff.org/calendar/worship/2029-05-13/
LOCATION:FBC Sanctuary\, 1610 Russell Ave\, Jefferson City\, TN\, 37760\, United States
ORGANIZER;CN="FBC Church Office":MAILTO:help@fbcjeff.org
END:VEVENT
BEGIN:VEVENT
DTSTART;TZID=America/New_York:20290520T104500
DTEND;TZID=America/New_York:20290520T114500
DTSTAMP:20260419T102002
CREATED:20250717T194028Z
LAST-MODIFIED:20250717T194028Z
UID:10008867-1873968300-1873971900@www.fbcjeff.org
SUMMARY:Worship
DESCRIPTION:Join us each week in person or online.
URL:https://www.fbcjeff.org/calendar/worship/2029-05-20/
LOCATION:FBC Sanctuary\, 1610 Russell Ave\, Jefferson City\, TN\, 37760\, United States
ORGANIZER;CN="FBC Church Office":MAILTO:help@fbcjeff.org
END:VEVENT
BEGIN:VEVENT
DTSTART;TZID=America/New_York:20290527T104500
DTEND;TZID=America/New_York:20290527T114500
DTSTAMP:20260419T102002
CREATED:20250717T194028Z
LAST-MODIFIED:20250717T194028Z
UID:10008868-1874573100-1874576700@www.fbcjeff.org
SUMMARY:Worship
DESCRIPTION:Join us each week in person or online.
URL:https://www.fbcjeff.org/calendar/worship/2029-05-27/
LOCATION:FBC Sanctuary\, 1610 Russell Ave\, Jefferson City\, TN\, 37760\, United States
ORGANIZER;CN="FBC Church Office":MAILTO:help@fbcjeff.org
END:VEVENT
BEGIN:VEVENT
DTSTART;TZID=America/New_York:20290603T104500
DTEND;TZID=America/New_York:20290603T114500
DTSTAMP:20260419T102002
CREATED:20250717T194028Z
LAST-MODIFIED:20250717T194028Z
UID:10008869-1875177900-1875181500@www.fbcjeff.org
SUMMARY:Worship
DESCRIPTION:Join us each week in person or online.
URL:https://www.fbcjeff.org/calendar/worship/2029-06-03/
LOCATION:FBC Sanctuary\, 1610 Russell Ave\, Jefferson City\, TN\, 37760\, United States
ORGANIZER;CN="FBC Church Office":MAILTO:help@fbcjeff.org
END:VEVENT
BEGIN:VEVENT
DTSTART;TZID=America/New_York:20290610T104500
DTEND;TZID=America/New_York:20290610T114500
DTSTAMP:20260419T102002
CREATED:20250717T194028Z
LAST-MODIFIED:20250717T194028Z
UID:10008870-1875782700-1875786300@www.fbcjeff.org
SUMMARY:Worship
DESCRIPTION:Join us each week in person or online.
URL:https://www.fbcjeff.org/calendar/worship/2029-06-10/
LOCATION:FBC Sanctuary\, 1610 Russell Ave\, Jefferson City\, TN\, 37760\, United States
ORGANIZER;CN="FBC Church Office":MAILTO:help@fbcjeff.org
END:VEVENT
BEGIN:VEVENT
DTSTART;TZID=America/New_York:20290617T104500
DTEND;TZID=America/New_York:20290617T114500
DTSTAMP:20260419T102002
CREATED:20250717T194028Z
LAST-MODIFIED:20250717T194028Z
UID:10008871-1876387500-1876391100@www.fbcjeff.org
SUMMARY:Worship
DESCRIPTION:Join us each week in person or online.
URL:https://www.fbcjeff.org/calendar/worship/2029-06-17/
LOCATION:FBC Sanctuary\, 1610 Russell Ave\, Jefferson City\, TN\, 37760\, United States
ORGANIZER;CN="FBC Church Office":MAILTO:help@fbcjeff.org
END:VEVENT
BEGIN:VEVENT
DTSTART;TZID=America/New_York:20290624T104500
DTEND;TZID=America/New_York:20290624T114500
DTSTAMP:20260419T102002
CREATED:20250717T194028Z
LAST-MODIFIED:20250717T194028Z
UID:10008872-1876992300-1876995900@www.fbcjeff.org
SUMMARY:Worship
DESCRIPTION:Join us each week in person or online.
URL:https://www.fbcjeff.org/calendar/worship/2029-06-24/
LOCATION:FBC Sanctuary\, 1610 Russell Ave\, Jefferson City\, TN\, 37760\, United States
ORGANIZER;CN="FBC Church Office":MAILTO:help@fbcjeff.org
END:VEVENT
BEGIN:VEVENT
DTSTART;TZID=America/New_York:20290701T104500
DTEND;TZID=America/New_York:20290701T114500
DTSTAMP:20260419T102002
CREATED:20250717T194028Z
LAST-MODIFIED:20250717T194028Z
UID:10008873-1877597100-1877600700@www.fbcjeff.org
SUMMARY:Worship
DESCRIPTION:Join us each week in person or online.
URL:https://www.fbcjeff.org/calendar/worship/2029-07-01/
LOCATION:FBC Sanctuary\, 1610 Russell Ave\, Jefferson City\, TN\, 37760\, United States
ORGANIZER;CN="FBC Church Office":MAILTO:help@fbcjeff.org
END:VEVENT
BEGIN:VEVENT
DTSTART;TZID=America/New_York:20290708T104500
DTEND;TZID=America/New_York:20290708T114500
DTSTAMP:20260419T102002
CREATED:20250717T194028Z
LAST-MODIFIED:20250717T194028Z
UID:10008874-1878201900-1878205500@www.fbcjeff.org
SUMMARY:Worship
DESCRIPTION:Join us each week in person or online.
URL:https://www.fbcjeff.org/calendar/worship/2029-07-08/
LOCATION:FBC Sanctuary\, 1610 Russell Ave\, Jefferson City\, TN\, 37760\, United States
ORGANIZER;CN="FBC Church Office":MAILTO:help@fbcjeff.org
END:VEVENT
BEGIN:VEVENT
DTSTART;TZID=America/New_York:20290715T104500
DTEND;TZID=America/New_York:20290715T114500
DTSTAMP:20260419T102002
CREATED:20250717T194028Z
LAST-MODIFIED:20250717T194028Z
UID:10008875-1878806700-1878810300@www.fbcjeff.org
SUMMARY:Worship
DESCRIPTION:Join us each week in person or online.
URL:https://www.fbcjeff.org/calendar/worship/2029-07-15/
LOCATION:FBC Sanctuary\, 1610 Russell Ave\, Jefferson City\, TN\, 37760\, United States
ORGANIZER;CN="FBC Church Office":MAILTO:help@fbcjeff.org
END:VEVENT
BEGIN:VEVENT
DTSTART;TZID=America/New_York:20290722T104500
DTEND;TZID=America/New_York:20290722T114500
DTSTAMP:20260419T102002
CREATED:20250717T194028Z
LAST-MODIFIED:20250717T194028Z
UID:10008876-1879411500-1879415100@www.fbcjeff.org
SUMMARY:Worship
DESCRIPTION:Join us each week in person or online.
URL:https://www.fbcjeff.org/calendar/worship/2029-07-22/
LOCATION:FBC Sanctuary\, 1610 Russell Ave\, Jefferson City\, TN\, 37760\, United States
ORGANIZER;CN="FBC Church Office":MAILTO:help@fbcjeff.org
END:VEVENT
BEGIN:VEVENT
DTSTART;TZID=America/New_York:20290729T104500
DTEND;TZID=America/New_York:20290729T114500
DTSTAMP:20260419T102002
CREATED:20250717T194028Z
LAST-MODIFIED:20250717T194028Z
UID:10008877-1880016300-1880019900@www.fbcjeff.org
SUMMARY:Worship
DESCRIPTION:Join us each week in person or online.
URL:https://www.fbcjeff.org/calendar/worship/2029-07-29/
LOCATION:FBC Sanctuary\, 1610 Russell Ave\, Jefferson City\, TN\, 37760\, United States
ORGANIZER;CN="FBC Church Office":MAILTO:help@fbcjeff.org
END:VEVENT
BEGIN:VEVENT
DTSTART;TZID=America/New_York:20290805T104500
DTEND;TZID=America/New_York:20290805T114500
DTSTAMP:20260419T102002
CREATED:20250717T194028Z
LAST-MODIFIED:20250717T194028Z
UID:10008878-1880621100-1880624700@www.fbcjeff.org
SUMMARY:Worship
DESCRIPTION:Join us each week in person or online.
URL:https://www.fbcjeff.org/calendar/worship/2029-08-05/
LOCATION:FBC Sanctuary\, 1610 Russell Ave\, Jefferson City\, TN\, 37760\, United States
ORGANIZER;CN="FBC Church Office":MAILTO:help@fbcjeff.org
END:VEVENT
BEGIN:VEVENT
DTSTART;TZID=America/New_York:20290812T104500
DTEND;TZID=America/New_York:20290812T114500
DTSTAMP:20260419T102002
CREATED:20250717T194028Z
LAST-MODIFIED:20250717T194028Z
UID:10008879-1881225900-1881229500@www.fbcjeff.org
SUMMARY:Worship
DESCRIPTION:Join us each week in person or online.
URL:https://www.fbcjeff.org/calendar/worship/2029-08-12/
LOCATION:FBC Sanctuary\, 1610 Russell Ave\, Jefferson City\, TN\, 37760\, United States
ORGANIZER;CN="FBC Church Office":MAILTO:help@fbcjeff.org
END:VEVENT
END:VCALENDAR