BEGIN:VCALENDAR
VERSION:2.0
PRODID:-//First Baptist Church, Jefferson City, TN - ECPv6.15.20//NONSGML v1.0//EN
CALSCALE:GREGORIAN
METHOD:PUBLISH
X-ORIGINAL-URL:https://www.fbcjeff.org
X-WR-CALDESC:Events for First Baptist Church, Jefferson City, TN
REFRESH-INTERVAL;VALUE=DURATION:PT1H
X-Robots-Tag:noindex
X-PUBLISHED-TTL:PT1H
BEGIN:VTIMEZONE
TZID:America/New_York
BEGIN:DAYLIGHT
TZOFFSETFROM:-0500
TZOFFSETTO:-0400
TZNAME:EDT
DTSTART:20280312T070000
END:DAYLIGHT
BEGIN:STANDARD
TZOFFSETFROM:-0400
TZOFFSETTO:-0500
TZNAME:EST
DTSTART:20281105T060000
END:STANDARD
BEGIN:DAYLIGHT
TZOFFSETFROM:-0500
TZOFFSETTO:-0400
TZNAME:EDT
DTSTART:20290311T070000
END:DAYLIGHT
BEGIN:STANDARD
TZOFFSETFROM:-0400
TZOFFSETTO:-0500
TZNAME:EST
DTSTART:20291104T060000
END:STANDARD
BEGIN:DAYLIGHT
TZOFFSETFROM:-0500
TZOFFSETTO:-0400
TZNAME:EDT
DTSTART:20300310T070000
END:DAYLIGHT
BEGIN:STANDARD
TZOFFSETFROM:-0400
TZOFFSETTO:-0500
TZNAME:EST
DTSTART:20301103T060000
END:STANDARD
BEGIN:DAYLIGHT
TZOFFSETFROM:-0500
TZOFFSETTO:-0400
TZNAME:EDT
DTSTART:20310309T070000
END:DAYLIGHT
BEGIN:STANDARD
TZOFFSETFROM:-0400
TZOFFSETTO:-0500
TZNAME:EST
DTSTART:20311102T060000
END:STANDARD
END:VTIMEZONE
BEGIN:VEVENT
DTSTART;TZID=America/New_York:20291230T104500
DTEND;TZID=America/New_York:20291230T114500
DTSTAMP:20260419T170840
CREATED:20250717T194028Z
LAST-MODIFIED:20250717T194028Z
UID:10008899-1893321900-1893325500@www.fbcjeff.org
SUMMARY:Worship
DESCRIPTION:Join us each week in person or online.
URL:https://www.fbcjeff.org/calendar/worship/2029-12-30/
LOCATION:FBC Sanctuary\, 1610 Russell Ave\, Jefferson City\, TN\, 37760\, United States
ORGANIZER;CN="FBC Church Office":MAILTO:help@fbcjeff.org
END:VEVENT
BEGIN:VEVENT
DTSTART;TZID=America/New_York:20300106T104500
DTEND;TZID=America/New_York:20300106T114500
DTSTAMP:20260419T170840
CREATED:20250717T194028Z
LAST-MODIFIED:20250717T194028Z
UID:10008900-1893926700-1893930300@www.fbcjeff.org
SUMMARY:Worship
DESCRIPTION:Join us each week in person or online.
URL:https://www.fbcjeff.org/calendar/worship/2030-01-06/
LOCATION:FBC Sanctuary\, 1610 Russell Ave\, Jefferson City\, TN\, 37760\, United States
ORGANIZER;CN="FBC Church Office":MAILTO:help@fbcjeff.org
END:VEVENT
BEGIN:VEVENT
DTSTART;TZID=America/New_York:20300113T104500
DTEND;TZID=America/New_York:20300113T114500
DTSTAMP:20260419T170840
CREATED:20250717T194028Z
LAST-MODIFIED:20250717T194028Z
UID:10008901-1894531500-1894535100@www.fbcjeff.org
SUMMARY:Worship
DESCRIPTION:Join us each week in person or online.
URL:https://www.fbcjeff.org/calendar/worship/2030-01-13/
LOCATION:FBC Sanctuary\, 1610 Russell Ave\, Jefferson City\, TN\, 37760\, United States
ORGANIZER;CN="FBC Church Office":MAILTO:help@fbcjeff.org
END:VEVENT
BEGIN:VEVENT
DTSTART;TZID=America/New_York:20300120T104500
DTEND;TZID=America/New_York:20300120T114500
DTSTAMP:20260419T170840
CREATED:20250717T194028Z
LAST-MODIFIED:20250717T194028Z
UID:10008902-1895136300-1895139900@www.fbcjeff.org
SUMMARY:Worship
DESCRIPTION:Join us each week in person or online.
URL:https://www.fbcjeff.org/calendar/worship/2030-01-20/
LOCATION:FBC Sanctuary\, 1610 Russell Ave\, Jefferson City\, TN\, 37760\, United States
ORGANIZER;CN="FBC Church Office":MAILTO:help@fbcjeff.org
END:VEVENT
BEGIN:VEVENT
DTSTART;TZID=America/New_York:20300127T104500
DTEND;TZID=America/New_York:20300127T114500
DTSTAMP:20260419T170840
CREATED:20250717T194028Z
LAST-MODIFIED:20250717T194028Z
UID:10008903-1895741100-1895744700@www.fbcjeff.org
SUMMARY:Worship
DESCRIPTION:Join us each week in person or online.
URL:https://www.fbcjeff.org/calendar/worship/2030-01-27/
LOCATION:FBC Sanctuary\, 1610 Russell Ave\, Jefferson City\, TN\, 37760\, United States
ORGANIZER;CN="FBC Church Office":MAILTO:help@fbcjeff.org
END:VEVENT
BEGIN:VEVENT
DTSTART;TZID=America/New_York:20300203T104500
DTEND;TZID=America/New_York:20300203T114500
DTSTAMP:20260419T170840
CREATED:20250717T194028Z
LAST-MODIFIED:20250717T194028Z
UID:10008904-1896345900-1896349500@www.fbcjeff.org
SUMMARY:Worship
DESCRIPTION:Join us each week in person or online.
URL:https://www.fbcjeff.org/calendar/worship/2030-02-03/
LOCATION:FBC Sanctuary\, 1610 Russell Ave\, Jefferson City\, TN\, 37760\, United States
ORGANIZER;CN="FBC Church Office":MAILTO:help@fbcjeff.org
END:VEVENT
BEGIN:VEVENT
DTSTART;TZID=America/New_York:20300210T104500
DTEND;TZID=America/New_York:20300210T114500
DTSTAMP:20260419T170840
CREATED:20250717T194028Z
LAST-MODIFIED:20250717T194028Z
UID:10008905-1896950700-1896954300@www.fbcjeff.org
SUMMARY:Worship
DESCRIPTION:Join us each week in person or online.
URL:https://www.fbcjeff.org/calendar/worship/2030-02-10/
LOCATION:FBC Sanctuary\, 1610 Russell Ave\, Jefferson City\, TN\, 37760\, United States
ORGANIZER;CN="FBC Church Office":MAILTO:help@fbcjeff.org
END:VEVENT
BEGIN:VEVENT
DTSTART;TZID=America/New_York:20300217T104500
DTEND;TZID=America/New_York:20300217T114500
DTSTAMP:20260419T170840
CREATED:20250717T194028Z
LAST-MODIFIED:20250717T194028Z
UID:10008906-1897555500-1897559100@www.fbcjeff.org
SUMMARY:Worship
DESCRIPTION:Join us each week in person or online.
URL:https://www.fbcjeff.org/calendar/worship/2030-02-17/
LOCATION:FBC Sanctuary\, 1610 Russell Ave\, Jefferson City\, TN\, 37760\, United States
ORGANIZER;CN="FBC Church Office":MAILTO:help@fbcjeff.org
END:VEVENT
BEGIN:VEVENT
DTSTART;TZID=America/New_York:20300224T104500
DTEND;TZID=America/New_York:20300224T114500
DTSTAMP:20260419T170840
CREATED:20250717T194028Z
LAST-MODIFIED:20250717T194028Z
UID:10008907-1898160300-1898163900@www.fbcjeff.org
SUMMARY:Worship
DESCRIPTION:Join us each week in person or online.
URL:https://www.fbcjeff.org/calendar/worship/2030-02-24/
LOCATION:FBC Sanctuary\, 1610 Russell Ave\, Jefferson City\, TN\, 37760\, United States
ORGANIZER;CN="FBC Church Office":MAILTO:help@fbcjeff.org
END:VEVENT
BEGIN:VEVENT
DTSTART;TZID=America/New_York:20300303T104500
DTEND;TZID=America/New_York:20300303T114500
DTSTAMP:20260419T170840
CREATED:20250717T194028Z
LAST-MODIFIED:20250717T194028Z
UID:10008908-1898765100-1898768700@www.fbcjeff.org
SUMMARY:Worship
DESCRIPTION:Join us each week in person or online.
URL:https://www.fbcjeff.org/calendar/worship/2030-03-03/
LOCATION:FBC Sanctuary\, 1610 Russell Ave\, Jefferson City\, TN\, 37760\, United States
ORGANIZER;CN="FBC Church Office":MAILTO:help@fbcjeff.org
END:VEVENT
BEGIN:VEVENT
DTSTART;TZID=America/New_York:20300310T104500
DTEND;TZID=America/New_York:20300310T114500
DTSTAMP:20260419T170840
CREATED:20250717T194028Z
LAST-MODIFIED:20250717T194028Z
UID:10008909-1899369900-1899373500@www.fbcjeff.org
SUMMARY:Worship
DESCRIPTION:Join us each week in person or online.
URL:https://www.fbcjeff.org/calendar/worship/2030-03-10/
LOCATION:FBC Sanctuary\, 1610 Russell Ave\, Jefferson City\, TN\, 37760\, United States
ORGANIZER;CN="FBC Church Office":MAILTO:help@fbcjeff.org
END:VEVENT
BEGIN:VEVENT
DTSTART;TZID=America/New_York:20300317T104500
DTEND;TZID=America/New_York:20300317T114500
DTSTAMP:20260419T170840
CREATED:20250717T194028Z
LAST-MODIFIED:20250717T194028Z
UID:10008910-1899974700-1899978300@www.fbcjeff.org
SUMMARY:Worship
DESCRIPTION:Join us each week in person or online.
URL:https://www.fbcjeff.org/calendar/worship/2030-03-17/
LOCATION:FBC Sanctuary\, 1610 Russell Ave\, Jefferson City\, TN\, 37760\, United States
ORGANIZER;CN="FBC Church Office":MAILTO:help@fbcjeff.org
END:VEVENT
BEGIN:VEVENT
DTSTART;TZID=America/New_York:20300324T104500
DTEND;TZID=America/New_York:20300324T114500
DTSTAMP:20260419T170840
CREATED:20250717T194028Z
LAST-MODIFIED:20250717T194028Z
UID:10008911-1900579500-1900583100@www.fbcjeff.org
SUMMARY:Worship
DESCRIPTION:Join us each week in person or online.
URL:https://www.fbcjeff.org/calendar/worship/2030-03-24/
LOCATION:FBC Sanctuary\, 1610 Russell Ave\, Jefferson City\, TN\, 37760\, United States
ORGANIZER;CN="FBC Church Office":MAILTO:help@fbcjeff.org
END:VEVENT
BEGIN:VEVENT
DTSTART;TZID=America/New_York:20300331T104500
DTEND;TZID=America/New_York:20300331T114500
DTSTAMP:20260419T170840
CREATED:20250717T194028Z
LAST-MODIFIED:20250717T194028Z
UID:10008912-1901184300-1901187900@www.fbcjeff.org
SUMMARY:Worship
DESCRIPTION:Join us each week in person or online.
URL:https://www.fbcjeff.org/calendar/worship/2030-03-31/
LOCATION:FBC Sanctuary\, 1610 Russell Ave\, Jefferson City\, TN\, 37760\, United States
ORGANIZER;CN="FBC Church Office":MAILTO:help@fbcjeff.org
END:VEVENT
BEGIN:VEVENT
DTSTART;TZID=America/New_York:20300407T104500
DTEND;TZID=America/New_York:20300407T114500
DTSTAMP:20260419T170840
CREATED:20250717T194028Z
LAST-MODIFIED:20250717T194028Z
UID:10008913-1901789100-1901792700@www.fbcjeff.org
SUMMARY:Worship
DESCRIPTION:Join us each week in person or online.
URL:https://www.fbcjeff.org/calendar/worship/2030-04-07/
LOCATION:FBC Sanctuary\, 1610 Russell Ave\, Jefferson City\, TN\, 37760\, United States
ORGANIZER;CN="FBC Church Office":MAILTO:help@fbcjeff.org
END:VEVENT
BEGIN:VEVENT
DTSTART;TZID=America/New_York:20300414T104500
DTEND;TZID=America/New_York:20300414T114500
DTSTAMP:20260419T170840
CREATED:20250717T194028Z
LAST-MODIFIED:20250717T194028Z
UID:10008914-1902393900-1902397500@www.fbcjeff.org
SUMMARY:Worship
DESCRIPTION:Join us each week in person or online.
URL:https://www.fbcjeff.org/calendar/worship/2030-04-14/
LOCATION:FBC Sanctuary\, 1610 Russell Ave\, Jefferson City\, TN\, 37760\, United States
ORGANIZER;CN="FBC Church Office":MAILTO:help@fbcjeff.org
END:VEVENT
BEGIN:VEVENT
DTSTART;TZID=America/New_York:20300421T104500
DTEND;TZID=America/New_York:20300421T114500
DTSTAMP:20260419T170840
CREATED:20250717T194028Z
LAST-MODIFIED:20250717T194028Z
UID:10008915-1902998700-1903002300@www.fbcjeff.org
SUMMARY:Worship
DESCRIPTION:Join us each week in person or online.
URL:https://www.fbcjeff.org/calendar/worship/2030-04-21/
LOCATION:FBC Sanctuary\, 1610 Russell Ave\, Jefferson City\, TN\, 37760\, United States
ORGANIZER;CN="FBC Church Office":MAILTO:help@fbcjeff.org
END:VEVENT
BEGIN:VEVENT
DTSTART;TZID=America/New_York:20300428T104500
DTEND;TZID=America/New_York:20300428T114500
DTSTAMP:20260419T170840
CREATED:20250717T194028Z
LAST-MODIFIED:20250717T194028Z
UID:10008916-1903603500-1903607100@www.fbcjeff.org
SUMMARY:Worship
DESCRIPTION:Join us each week in person or online.
URL:https://www.fbcjeff.org/calendar/worship/2030-04-28/
LOCATION:FBC Sanctuary\, 1610 Russell Ave\, Jefferson City\, TN\, 37760\, United States
ORGANIZER;CN="FBC Church Office":MAILTO:help@fbcjeff.org
END:VEVENT
BEGIN:VEVENT
DTSTART;TZID=America/New_York:20300505T104500
DTEND;TZID=America/New_York:20300505T114500
DTSTAMP:20260419T170840
CREATED:20250717T194028Z
LAST-MODIFIED:20250717T194028Z
UID:10008917-1904208300-1904211900@www.fbcjeff.org
SUMMARY:Worship
DESCRIPTION:Join us each week in person or online.
URL:https://www.fbcjeff.org/calendar/worship/2030-05-05/
LOCATION:FBC Sanctuary\, 1610 Russell Ave\, Jefferson City\, TN\, 37760\, United States
ORGANIZER;CN="FBC Church Office":MAILTO:help@fbcjeff.org
END:VEVENT
BEGIN:VEVENT
DTSTART;TZID=America/New_York:20300512T104500
DTEND;TZID=America/New_York:20300512T114500
DTSTAMP:20260419T170840
CREATED:20250717T194028Z
LAST-MODIFIED:20250717T194028Z
UID:10008918-1904813100-1904816700@www.fbcjeff.org
SUMMARY:Worship
DESCRIPTION:Join us each week in person or online.
URL:https://www.fbcjeff.org/calendar/worship/2030-05-12/
LOCATION:FBC Sanctuary\, 1610 Russell Ave\, Jefferson City\, TN\, 37760\, United States
ORGANIZER;CN="FBC Church Office":MAILTO:help@fbcjeff.org
END:VEVENT
BEGIN:VEVENT
DTSTART;TZID=America/New_York:20300519T104500
DTEND;TZID=America/New_York:20300519T114500
DTSTAMP:20260419T170840
CREATED:20250717T194028Z
LAST-MODIFIED:20250717T194028Z
UID:10008919-1905417900-1905421500@www.fbcjeff.org
SUMMARY:Worship
DESCRIPTION:Join us each week in person or online.
URL:https://www.fbcjeff.org/calendar/worship/2030-05-19/
LOCATION:FBC Sanctuary\, 1610 Russell Ave\, Jefferson City\, TN\, 37760\, United States
ORGANIZER;CN="FBC Church Office":MAILTO:help@fbcjeff.org
END:VEVENT
BEGIN:VEVENT
DTSTART;TZID=America/New_York:20300526T104500
DTEND;TZID=America/New_York:20300526T114500
DTSTAMP:20260419T170840
CREATED:20250717T194028Z
LAST-MODIFIED:20250717T194028Z
UID:10008920-1906022700-1906026300@www.fbcjeff.org
SUMMARY:Worship
DESCRIPTION:Join us each week in person or online.
URL:https://www.fbcjeff.org/calendar/worship/2030-05-26/
LOCATION:FBC Sanctuary\, 1610 Russell Ave\, Jefferson City\, TN\, 37760\, United States
ORGANIZER;CN="FBC Church Office":MAILTO:help@fbcjeff.org
END:VEVENT
BEGIN:VEVENT
DTSTART;TZID=America/New_York:20300602T104500
DTEND;TZID=America/New_York:20300602T114500
DTSTAMP:20260419T170840
CREATED:20250717T194028Z
LAST-MODIFIED:20250717T194028Z
UID:10008921-1906627500-1906631100@www.fbcjeff.org
SUMMARY:Worship
DESCRIPTION:Join us each week in person or online.
URL:https://www.fbcjeff.org/calendar/worship/2030-06-02/
LOCATION:FBC Sanctuary\, 1610 Russell Ave\, Jefferson City\, TN\, 37760\, United States
ORGANIZER;CN="FBC Church Office":MAILTO:help@fbcjeff.org
END:VEVENT
BEGIN:VEVENT
DTSTART;TZID=America/New_York:20300609T104500
DTEND;TZID=America/New_York:20300609T114500
DTSTAMP:20260419T170840
CREATED:20250717T194028Z
LAST-MODIFIED:20250717T194028Z
UID:10008922-1907232300-1907235900@www.fbcjeff.org
SUMMARY:Worship
DESCRIPTION:Join us each week in person or online.
URL:https://www.fbcjeff.org/calendar/worship/2030-06-09/
LOCATION:FBC Sanctuary\, 1610 Russell Ave\, Jefferson City\, TN\, 37760\, United States
ORGANIZER;CN="FBC Church Office":MAILTO:help@fbcjeff.org
END:VEVENT
BEGIN:VEVENT
DTSTART;TZID=America/New_York:20300616T104500
DTEND;TZID=America/New_York:20300616T114500
DTSTAMP:20260419T170840
CREATED:20250717T194028Z
LAST-MODIFIED:20250717T194028Z
UID:10008923-1907837100-1907840700@www.fbcjeff.org
SUMMARY:Worship
DESCRIPTION:Join us each week in person or online.
URL:https://www.fbcjeff.org/calendar/worship/2030-06-16/
LOCATION:FBC Sanctuary\, 1610 Russell Ave\, Jefferson City\, TN\, 37760\, United States
ORGANIZER;CN="FBC Church Office":MAILTO:help@fbcjeff.org
END:VEVENT
BEGIN:VEVENT
DTSTART;TZID=America/New_York:20300623T104500
DTEND;TZID=America/New_York:20300623T114500
DTSTAMP:20260419T170840
CREATED:20250717T194028Z
LAST-MODIFIED:20250717T194028Z
UID:10008924-1908441900-1908445500@www.fbcjeff.org
SUMMARY:Worship
DESCRIPTION:Join us each week in person or online.
URL:https://www.fbcjeff.org/calendar/worship/2030-06-23/
LOCATION:FBC Sanctuary\, 1610 Russell Ave\, Jefferson City\, TN\, 37760\, United States
ORGANIZER;CN="FBC Church Office":MAILTO:help@fbcjeff.org
END:VEVENT
BEGIN:VEVENT
DTSTART;TZID=America/New_York:20300630T104500
DTEND;TZID=America/New_York:20300630T114500
DTSTAMP:20260419T170840
CREATED:20250717T194028Z
LAST-MODIFIED:20250717T194028Z
UID:10008925-1909046700-1909050300@www.fbcjeff.org
SUMMARY:Worship
DESCRIPTION:Join us each week in person or online.
URL:https://www.fbcjeff.org/calendar/worship/2030-06-30/
LOCATION:FBC Sanctuary\, 1610 Russell Ave\, Jefferson City\, TN\, 37760\, United States
ORGANIZER;CN="FBC Church Office":MAILTO:help@fbcjeff.org
END:VEVENT
BEGIN:VEVENT
DTSTART;TZID=America/New_York:20300707T104500
DTEND;TZID=America/New_York:20300707T114500
DTSTAMP:20260419T170840
CREATED:20250717T194028Z
LAST-MODIFIED:20250717T194028Z
UID:10008926-1909651500-1909655100@www.fbcjeff.org
SUMMARY:Worship
DESCRIPTION:Join us each week in person or online.
URL:https://www.fbcjeff.org/calendar/worship/2030-07-07/
LOCATION:FBC Sanctuary\, 1610 Russell Ave\, Jefferson City\, TN\, 37760\, United States
ORGANIZER;CN="FBC Church Office":MAILTO:help@fbcjeff.org
END:VEVENT
BEGIN:VEVENT
DTSTART;TZID=America/New_York:20300714T104500
DTEND;TZID=America/New_York:20300714T114500
DTSTAMP:20260419T170840
CREATED:20250717T194028Z
LAST-MODIFIED:20250717T194028Z
UID:10008927-1910256300-1910259900@www.fbcjeff.org
SUMMARY:Worship
DESCRIPTION:Join us each week in person or online.
URL:https://www.fbcjeff.org/calendar/worship/2030-07-14/
LOCATION:FBC Sanctuary\, 1610 Russell Ave\, Jefferson City\, TN\, 37760\, United States
ORGANIZER;CN="FBC Church Office":MAILTO:help@fbcjeff.org
END:VEVENT
BEGIN:VEVENT
DTSTART;TZID=America/New_York:20300721T104500
DTEND;TZID=America/New_York:20300721T114500
DTSTAMP:20260419T170840
CREATED:20250717T194028Z
LAST-MODIFIED:20250717T194028Z
UID:10009847-1910861100-1910864700@www.fbcjeff.org
SUMMARY:Worship
DESCRIPTION:Join us each week in person or online.
URL:https://www.fbcjeff.org/calendar/worship/2030-07-21/
LOCATION:FBC Sanctuary\, 1610 Russell Ave\, Jefferson City\, TN\, 37760\, United States
ORGANIZER;CN="FBC Church Office":MAILTO:help@fbcjeff.org
END:VEVENT
END:VCALENDAR