BEGIN:VCALENDAR
VERSION:2.0
PRODID:-//First Baptist Church, Jefferson City, TN - ECPv6.15.20//NONSGML v1.0//EN
CALSCALE:GREGORIAN
METHOD:PUBLISH
X-WR-CALNAME:First Baptist Church, Jefferson City, TN
X-ORIGINAL-URL:https://www.fbcjeff.org
X-WR-CALDESC:Events for First Baptist Church, Jefferson City, TN
REFRESH-INTERVAL;VALUE=DURATION:PT1H
X-Robots-Tag:noindex
X-PUBLISHED-TTL:PT1H
BEGIN:VTIMEZONE
TZID:America/New_York
BEGIN:DAYLIGHT
TZOFFSETFROM:-0500
TZOFFSETTO:-0400
TZNAME:EDT
DTSTART:20290311T070000
END:DAYLIGHT
BEGIN:STANDARD
TZOFFSETFROM:-0400
TZOFFSETTO:-0500
TZNAME:EST
DTSTART:20291104T060000
END:STANDARD
BEGIN:DAYLIGHT
TZOFFSETFROM:-0500
TZOFFSETTO:-0400
TZNAME:EDT
DTSTART:20300310T070000
END:DAYLIGHT
BEGIN:STANDARD
TZOFFSETFROM:-0400
TZOFFSETTO:-0500
TZNAME:EST
DTSTART:20301103T060000
END:STANDARD
BEGIN:DAYLIGHT
TZOFFSETFROM:-0500
TZOFFSETTO:-0400
TZNAME:EDT
DTSTART:20310309T070000
END:DAYLIGHT
BEGIN:STANDARD
TZOFFSETFROM:-0400
TZOFFSETTO:-0500
TZNAME:EST
DTSTART:20311102T060000
END:STANDARD
BEGIN:DAYLIGHT
TZOFFSETFROM:-0500
TZOFFSETTO:-0400
TZNAME:EDT
DTSTART:20320314T070000
END:DAYLIGHT
BEGIN:STANDARD
TZOFFSETFROM:-0400
TZOFFSETTO:-0500
TZNAME:EST
DTSTART:20321107T060000
END:STANDARD
END:VTIMEZONE
BEGIN:VEVENT
DTSTART;TZID=America/New_York:20300616T104500
DTEND;TZID=America/New_York:20300616T114500
DTSTAMP:20260419T201708
CREATED:20250717T194028Z
LAST-MODIFIED:20250717T194028Z
UID:10008923-1907837100-1907840700@www.fbcjeff.org
SUMMARY:Worship
DESCRIPTION:Join us each week in person or online.
URL:https://www.fbcjeff.org/calendar/worship/2030-06-16/
LOCATION:FBC Sanctuary\, 1610 Russell Ave\, Jefferson City\, TN\, 37760\, United States
ORGANIZER;CN="FBC Church Office":MAILTO:help@fbcjeff.org
END:VEVENT
BEGIN:VEVENT
DTSTART;TZID=America/New_York:20300623T104500
DTEND;TZID=America/New_York:20300623T114500
DTSTAMP:20260419T201708
CREATED:20250717T194028Z
LAST-MODIFIED:20250717T194028Z
UID:10008924-1908441900-1908445500@www.fbcjeff.org
SUMMARY:Worship
DESCRIPTION:Join us each week in person or online.
URL:https://www.fbcjeff.org/calendar/worship/2030-06-23/
LOCATION:FBC Sanctuary\, 1610 Russell Ave\, Jefferson City\, TN\, 37760\, United States
ORGANIZER;CN="FBC Church Office":MAILTO:help@fbcjeff.org
END:VEVENT
BEGIN:VEVENT
DTSTART;TZID=America/New_York:20300630T104500
DTEND;TZID=America/New_York:20300630T114500
DTSTAMP:20260419T201708
CREATED:20250717T194028Z
LAST-MODIFIED:20250717T194028Z
UID:10008925-1909046700-1909050300@www.fbcjeff.org
SUMMARY:Worship
DESCRIPTION:Join us each week in person or online.
URL:https://www.fbcjeff.org/calendar/worship/2030-06-30/
LOCATION:FBC Sanctuary\, 1610 Russell Ave\, Jefferson City\, TN\, 37760\, United States
ORGANIZER;CN="FBC Church Office":MAILTO:help@fbcjeff.org
END:VEVENT
BEGIN:VEVENT
DTSTART;TZID=America/New_York:20300707T104500
DTEND;TZID=America/New_York:20300707T114500
DTSTAMP:20260419T201708
CREATED:20250717T194028Z
LAST-MODIFIED:20250717T194028Z
UID:10008926-1909651500-1909655100@www.fbcjeff.org
SUMMARY:Worship
DESCRIPTION:Join us each week in person or online.
URL:https://www.fbcjeff.org/calendar/worship/2030-07-07/
LOCATION:FBC Sanctuary\, 1610 Russell Ave\, Jefferson City\, TN\, 37760\, United States
ORGANIZER;CN="FBC Church Office":MAILTO:help@fbcjeff.org
END:VEVENT
BEGIN:VEVENT
DTSTART;TZID=America/New_York:20300714T104500
DTEND;TZID=America/New_York:20300714T114500
DTSTAMP:20260419T201708
CREATED:20250717T194028Z
LAST-MODIFIED:20250717T194028Z
UID:10008927-1910256300-1910259900@www.fbcjeff.org
SUMMARY:Worship
DESCRIPTION:Join us each week in person or online.
URL:https://www.fbcjeff.org/calendar/worship/2030-07-14/
LOCATION:FBC Sanctuary\, 1610 Russell Ave\, Jefferson City\, TN\, 37760\, United States
ORGANIZER;CN="FBC Church Office":MAILTO:help@fbcjeff.org
END:VEVENT
BEGIN:VEVENT
DTSTART;TZID=America/New_York:20300721T104500
DTEND;TZID=America/New_York:20300721T114500
DTSTAMP:20260419T201708
CREATED:20250717T194028Z
LAST-MODIFIED:20250717T194028Z
UID:10009847-1910861100-1910864700@www.fbcjeff.org
SUMMARY:Worship
DESCRIPTION:Join us each week in person or online.
URL:https://www.fbcjeff.org/calendar/worship/2030-07-21/
LOCATION:FBC Sanctuary\, 1610 Russell Ave\, Jefferson City\, TN\, 37760\, United States
ORGANIZER;CN="FBC Church Office":MAILTO:help@fbcjeff.org
END:VEVENT
BEGIN:VEVENT
DTSTART;TZID=America/New_York:20300728T104500
DTEND;TZID=America/New_York:20300728T114500
DTSTAMP:20260419T201708
CREATED:20250717T194028Z
LAST-MODIFIED:20250717T194028Z
UID:10009848-1911465900-1911469500@www.fbcjeff.org
SUMMARY:Worship
DESCRIPTION:Join us each week in person or online.
URL:https://www.fbcjeff.org/calendar/worship/2030-07-28/
LOCATION:FBC Sanctuary\, 1610 Russell Ave\, Jefferson City\, TN\, 37760\, United States
ORGANIZER;CN="FBC Church Office":MAILTO:help@fbcjeff.org
END:VEVENT
BEGIN:VEVENT
DTSTART;TZID=America/New_York:20300804T104500
DTEND;TZID=America/New_York:20300804T114500
DTSTAMP:20260419T201708
CREATED:20250717T194028Z
LAST-MODIFIED:20250717T194028Z
UID:10009849-1912070700-1912074300@www.fbcjeff.org
SUMMARY:Worship
DESCRIPTION:Join us each week in person or online.
URL:https://www.fbcjeff.org/calendar/worship/2030-08-04/
LOCATION:FBC Sanctuary\, 1610 Russell Ave\, Jefferson City\, TN\, 37760\, United States
ORGANIZER;CN="FBC Church Office":MAILTO:help@fbcjeff.org
END:VEVENT
BEGIN:VEVENT
DTSTART;TZID=America/New_York:20300811T104500
DTEND;TZID=America/New_York:20300811T114500
DTSTAMP:20260419T201708
CREATED:20250717T194028Z
LAST-MODIFIED:20250717T194028Z
UID:10009850-1912675500-1912679100@www.fbcjeff.org
SUMMARY:Worship
DESCRIPTION:Join us each week in person or online.
URL:https://www.fbcjeff.org/calendar/worship/2030-08-11/
LOCATION:FBC Sanctuary\, 1610 Russell Ave\, Jefferson City\, TN\, 37760\, United States
ORGANIZER;CN="FBC Church Office":MAILTO:help@fbcjeff.org
END:VEVENT
BEGIN:VEVENT
DTSTART;TZID=America/New_York:20300818T104500
DTEND;TZID=America/New_York:20300818T114500
DTSTAMP:20260419T201708
CREATED:20250717T194028Z
LAST-MODIFIED:20250717T194028Z
UID:10009851-1913280300-1913283900@www.fbcjeff.org
SUMMARY:Worship
DESCRIPTION:Join us each week in person or online.
URL:https://www.fbcjeff.org/calendar/worship/2030-08-18/
LOCATION:FBC Sanctuary\, 1610 Russell Ave\, Jefferson City\, TN\, 37760\, United States
ORGANIZER;CN="FBC Church Office":MAILTO:help@fbcjeff.org
END:VEVENT
BEGIN:VEVENT
DTSTART;TZID=America/New_York:20300825T104500
DTEND;TZID=America/New_York:20300825T114500
DTSTAMP:20260419T201708
CREATED:20250717T194028Z
LAST-MODIFIED:20250717T194028Z
UID:10009852-1913885100-1913888700@www.fbcjeff.org
SUMMARY:Worship
DESCRIPTION:Join us each week in person or online.
URL:https://www.fbcjeff.org/calendar/worship/2030-08-25/
LOCATION:FBC Sanctuary\, 1610 Russell Ave\, Jefferson City\, TN\, 37760\, United States
ORGANIZER;CN="FBC Church Office":MAILTO:help@fbcjeff.org
END:VEVENT
BEGIN:VEVENT
DTSTART;TZID=America/New_York:20300901T104500
DTEND;TZID=America/New_York:20300901T114500
DTSTAMP:20260419T201708
CREATED:20250717T194028Z
LAST-MODIFIED:20250717T194028Z
UID:10009853-1914489900-1914493500@www.fbcjeff.org
SUMMARY:Worship
DESCRIPTION:Join us each week in person or online.
URL:https://www.fbcjeff.org/calendar/worship/2030-09-01/
LOCATION:FBC Sanctuary\, 1610 Russell Ave\, Jefferson City\, TN\, 37760\, United States
ORGANIZER;CN="FBC Church Office":MAILTO:help@fbcjeff.org
END:VEVENT
BEGIN:VEVENT
DTSTART;TZID=America/New_York:20300908T104500
DTEND;TZID=America/New_York:20300908T114500
DTSTAMP:20260419T201708
CREATED:20250717T194028Z
LAST-MODIFIED:20250717T194028Z
UID:10009854-1915094700-1915098300@www.fbcjeff.org
SUMMARY:Worship
DESCRIPTION:Join us each week in person or online.
URL:https://www.fbcjeff.org/calendar/worship/2030-09-08/
LOCATION:FBC Sanctuary\, 1610 Russell Ave\, Jefferson City\, TN\, 37760\, United States
ORGANIZER;CN="FBC Church Office":MAILTO:help@fbcjeff.org
END:VEVENT
BEGIN:VEVENT
DTSTART;TZID=America/New_York:20300915T104500
DTEND;TZID=America/New_York:20300915T114500
DTSTAMP:20260419T201708
CREATED:20250717T194028Z
LAST-MODIFIED:20250717T194028Z
UID:10009855-1915699500-1915703100@www.fbcjeff.org
SUMMARY:Worship
DESCRIPTION:Join us each week in person or online.
URL:https://www.fbcjeff.org/calendar/worship/2030-09-15/
LOCATION:FBC Sanctuary\, 1610 Russell Ave\, Jefferson City\, TN\, 37760\, United States
ORGANIZER;CN="FBC Church Office":MAILTO:help@fbcjeff.org
END:VEVENT
BEGIN:VEVENT
DTSTART;TZID=America/New_York:20300922T104500
DTEND;TZID=America/New_York:20300922T114500
DTSTAMP:20260419T201708
CREATED:20250717T194028Z
LAST-MODIFIED:20250717T194028Z
UID:10009856-1916304300-1916307900@www.fbcjeff.org
SUMMARY:Worship
DESCRIPTION:Join us each week in person or online.
URL:https://www.fbcjeff.org/calendar/worship/2030-09-22/
LOCATION:FBC Sanctuary\, 1610 Russell Ave\, Jefferson City\, TN\, 37760\, United States
ORGANIZER;CN="FBC Church Office":MAILTO:help@fbcjeff.org
END:VEVENT
BEGIN:VEVENT
DTSTART;TZID=America/New_York:20300929T104500
DTEND;TZID=America/New_York:20300929T114500
DTSTAMP:20260419T201708
CREATED:20250717T194028Z
LAST-MODIFIED:20250717T194028Z
UID:10009857-1916909100-1916912700@www.fbcjeff.org
SUMMARY:Worship
DESCRIPTION:Join us each week in person or online.
URL:https://www.fbcjeff.org/calendar/worship/2030-09-29/
LOCATION:FBC Sanctuary\, 1610 Russell Ave\, Jefferson City\, TN\, 37760\, United States
ORGANIZER;CN="FBC Church Office":MAILTO:help@fbcjeff.org
END:VEVENT
BEGIN:VEVENT
DTSTART;TZID=America/New_York:20301006T104500
DTEND;TZID=America/New_York:20301006T114500
DTSTAMP:20260419T201708
CREATED:20250717T194028Z
LAST-MODIFIED:20250717T194028Z
UID:10009858-1917513900-1917517500@www.fbcjeff.org
SUMMARY:Worship
DESCRIPTION:Join us each week in person or online.
URL:https://www.fbcjeff.org/calendar/worship/2030-10-06/
LOCATION:FBC Sanctuary\, 1610 Russell Ave\, Jefferson City\, TN\, 37760\, United States
ORGANIZER;CN="FBC Church Office":MAILTO:help@fbcjeff.org
END:VEVENT
BEGIN:VEVENT
DTSTART;TZID=America/New_York:20301013T104500
DTEND;TZID=America/New_York:20301013T114500
DTSTAMP:20260419T201708
CREATED:20250717T194028Z
LAST-MODIFIED:20250717T194028Z
UID:10009859-1918118700-1918122300@www.fbcjeff.org
SUMMARY:Worship
DESCRIPTION:Join us each week in person or online.
URL:https://www.fbcjeff.org/calendar/worship/2030-10-13/
LOCATION:FBC Sanctuary\, 1610 Russell Ave\, Jefferson City\, TN\, 37760\, United States
ORGANIZER;CN="FBC Church Office":MAILTO:help@fbcjeff.org
END:VEVENT
BEGIN:VEVENT
DTSTART;TZID=America/New_York:20301020T104500
DTEND;TZID=America/New_York:20301020T114500
DTSTAMP:20260419T201708
CREATED:20250717T194028Z
LAST-MODIFIED:20250717T194028Z
UID:10009860-1918723500-1918727100@www.fbcjeff.org
SUMMARY:Worship
DESCRIPTION:Join us each week in person or online.
URL:https://www.fbcjeff.org/calendar/worship/2030-10-20/
LOCATION:FBC Sanctuary\, 1610 Russell Ave\, Jefferson City\, TN\, 37760\, United States
ORGANIZER;CN="FBC Church Office":MAILTO:help@fbcjeff.org
END:VEVENT
BEGIN:VEVENT
DTSTART;TZID=America/New_York:20301027T104500
DTEND;TZID=America/New_York:20301027T114500
DTSTAMP:20260419T201708
CREATED:20250717T194028Z
LAST-MODIFIED:20250717T194028Z
UID:10009861-1919328300-1919331900@www.fbcjeff.org
SUMMARY:Worship
DESCRIPTION:Join us each week in person or online.
URL:https://www.fbcjeff.org/calendar/worship/2030-10-27/
LOCATION:FBC Sanctuary\, 1610 Russell Ave\, Jefferson City\, TN\, 37760\, United States
ORGANIZER;CN="FBC Church Office":MAILTO:help@fbcjeff.org
END:VEVENT
BEGIN:VEVENT
DTSTART;TZID=America/New_York:20301103T104500
DTEND;TZID=America/New_York:20301103T114500
DTSTAMP:20260419T201708
CREATED:20250717T194028Z
LAST-MODIFIED:20250717T194028Z
UID:10009862-1919933100-1919936700@www.fbcjeff.org
SUMMARY:Worship
DESCRIPTION:Join us each week in person or online.
URL:https://www.fbcjeff.org/calendar/worship/2030-11-03/
LOCATION:FBC Sanctuary\, 1610 Russell Ave\, Jefferson City\, TN\, 37760\, United States
ORGANIZER;CN="FBC Church Office":MAILTO:help@fbcjeff.org
END:VEVENT
BEGIN:VEVENT
DTSTART;TZID=America/New_York:20301110T104500
DTEND;TZID=America/New_York:20301110T114500
DTSTAMP:20260419T201708
CREATED:20250717T194028Z
LAST-MODIFIED:20250717T194028Z
UID:10009863-1920537900-1920541500@www.fbcjeff.org
SUMMARY:Worship
DESCRIPTION:Join us each week in person or online.
URL:https://www.fbcjeff.org/calendar/worship/2030-11-10/
LOCATION:FBC Sanctuary\, 1610 Russell Ave\, Jefferson City\, TN\, 37760\, United States
ORGANIZER;CN="FBC Church Office":MAILTO:help@fbcjeff.org
END:VEVENT
BEGIN:VEVENT
DTSTART;TZID=America/New_York:20301117T104500
DTEND;TZID=America/New_York:20301117T114500
DTSTAMP:20260419T201708
CREATED:20250717T194028Z
LAST-MODIFIED:20250717T194028Z
UID:10009864-1921142700-1921146300@www.fbcjeff.org
SUMMARY:Worship
DESCRIPTION:Join us each week in person or online.
URL:https://www.fbcjeff.org/calendar/worship/2030-11-17/
LOCATION:FBC Sanctuary\, 1610 Russell Ave\, Jefferson City\, TN\, 37760\, United States
ORGANIZER;CN="FBC Church Office":MAILTO:help@fbcjeff.org
END:VEVENT
BEGIN:VEVENT
DTSTART;TZID=America/New_York:20301124T104500
DTEND;TZID=America/New_York:20301124T114500
DTSTAMP:20260419T201708
CREATED:20250717T194028Z
LAST-MODIFIED:20250717T194028Z
UID:10009865-1921747500-1921751100@www.fbcjeff.org
SUMMARY:Worship
DESCRIPTION:Join us each week in person or online.
URL:https://www.fbcjeff.org/calendar/worship/2030-11-24/
LOCATION:FBC Sanctuary\, 1610 Russell Ave\, Jefferson City\, TN\, 37760\, United States
ORGANIZER;CN="FBC Church Office":MAILTO:help@fbcjeff.org
END:VEVENT
BEGIN:VEVENT
DTSTART;TZID=America/New_York:20301201T104500
DTEND;TZID=America/New_York:20301201T114500
DTSTAMP:20260419T201708
CREATED:20250717T194028Z
LAST-MODIFIED:20250717T194028Z
UID:10009866-1922352300-1922355900@www.fbcjeff.org
SUMMARY:Worship
DESCRIPTION:Join us each week in person or online.
URL:https://www.fbcjeff.org/calendar/worship/2030-12-01/
LOCATION:FBC Sanctuary\, 1610 Russell Ave\, Jefferson City\, TN\, 37760\, United States
ORGANIZER;CN="FBC Church Office":MAILTO:help@fbcjeff.org
END:VEVENT
BEGIN:VEVENT
DTSTART;TZID=America/New_York:20301208T104500
DTEND;TZID=America/New_York:20301208T114500
DTSTAMP:20260419T201708
CREATED:20250717T194028Z
LAST-MODIFIED:20250717T194028Z
UID:10009867-1922957100-1922960700@www.fbcjeff.org
SUMMARY:Worship
DESCRIPTION:Join us each week in person or online.
URL:https://www.fbcjeff.org/calendar/worship/2030-12-08/
LOCATION:FBC Sanctuary\, 1610 Russell Ave\, Jefferson City\, TN\, 37760\, United States
ORGANIZER;CN="FBC Church Office":MAILTO:help@fbcjeff.org
END:VEVENT
BEGIN:VEVENT
DTSTART;TZID=America/New_York:20301215T104500
DTEND;TZID=America/New_York:20301215T114500
DTSTAMP:20260419T201708
CREATED:20250717T194028Z
LAST-MODIFIED:20250717T194028Z
UID:10009868-1923561900-1923565500@www.fbcjeff.org
SUMMARY:Worship
DESCRIPTION:Join us each week in person or online.
URL:https://www.fbcjeff.org/calendar/worship/2030-12-15/
LOCATION:FBC Sanctuary\, 1610 Russell Ave\, Jefferson City\, TN\, 37760\, United States
ORGANIZER;CN="FBC Church Office":MAILTO:help@fbcjeff.org
END:VEVENT
BEGIN:VEVENT
DTSTART;TZID=America/New_York:20301222T104500
DTEND;TZID=America/New_York:20301222T114500
DTSTAMP:20260419T201708
CREATED:20250717T194028Z
LAST-MODIFIED:20250717T194028Z
UID:10009869-1924166700-1924170300@www.fbcjeff.org
SUMMARY:Worship
DESCRIPTION:Join us each week in person or online.
URL:https://www.fbcjeff.org/calendar/worship/2030-12-22/
LOCATION:FBC Sanctuary\, 1610 Russell Ave\, Jefferson City\, TN\, 37760\, United States
ORGANIZER;CN="FBC Church Office":MAILTO:help@fbcjeff.org
END:VEVENT
BEGIN:VEVENT
DTSTART;TZID=America/New_York:20301229T104500
DTEND;TZID=America/New_York:20301229T114500
DTSTAMP:20260419T201708
CREATED:20250717T194028Z
LAST-MODIFIED:20250717T194028Z
UID:10009870-1924771500-1924775100@www.fbcjeff.org
SUMMARY:Worship
DESCRIPTION:Join us each week in person or online.
URL:https://www.fbcjeff.org/calendar/worship/2030-12-29/
LOCATION:FBC Sanctuary\, 1610 Russell Ave\, Jefferson City\, TN\, 37760\, United States
ORGANIZER;CN="FBC Church Office":MAILTO:help@fbcjeff.org
END:VEVENT
BEGIN:VEVENT
DTSTART;TZID=America/New_York:20310105T104500
DTEND;TZID=America/New_York:20310105T114500
DTSTAMP:20260419T201708
CREATED:20250717T194028Z
LAST-MODIFIED:20250717T194028Z
UID:10009871-1925376300-1925379900@www.fbcjeff.org
SUMMARY:Worship
DESCRIPTION:Join us each week in person or online.
URL:https://www.fbcjeff.org/calendar/worship/2031-01-05/
LOCATION:FBC Sanctuary\, 1610 Russell Ave\, Jefferson City\, TN\, 37760\, United States
ORGANIZER;CN="FBC Church Office":MAILTO:help@fbcjeff.org
END:VEVENT
END:VCALENDAR