BEGIN:VCALENDAR
VERSION:2.0
PRODID:-//First Baptist Church, Jefferson City, TN - ECPv6.15.20//NONSGML v1.0//EN
CALSCALE:GREGORIAN
METHOD:PUBLISH
X-WR-CALNAME:First Baptist Church, Jefferson City, TN
X-ORIGINAL-URL:https://www.fbcjeff.org
X-WR-CALDESC:Events for First Baptist Church, Jefferson City, TN
REFRESH-INTERVAL;VALUE=DURATION:PT1H
X-Robots-Tag:noindex
X-PUBLISHED-TTL:PT1H
BEGIN:VTIMEZONE
TZID:America/New_York
BEGIN:DAYLIGHT
TZOFFSETFROM:-0500
TZOFFSETTO:-0400
TZNAME:EDT
DTSTART:20270314T070000
END:DAYLIGHT
BEGIN:STANDARD
TZOFFSETFROM:-0400
TZOFFSETTO:-0500
TZNAME:EST
DTSTART:20271107T060000
END:STANDARD
BEGIN:DAYLIGHT
TZOFFSETFROM:-0500
TZOFFSETTO:-0400
TZNAME:EDT
DTSTART:20280312T070000
END:DAYLIGHT
BEGIN:STANDARD
TZOFFSETFROM:-0400
TZOFFSETTO:-0500
TZNAME:EST
DTSTART:20281105T060000
END:STANDARD
BEGIN:DAYLIGHT
TZOFFSETFROM:-0500
TZOFFSETTO:-0400
TZNAME:EDT
DTSTART:20290311T070000
END:DAYLIGHT
BEGIN:STANDARD
TZOFFSETFROM:-0400
TZOFFSETTO:-0500
TZNAME:EST
DTSTART:20291104T060000
END:STANDARD
BEGIN:DAYLIGHT
TZOFFSETFROM:-0500
TZOFFSETTO:-0400
TZNAME:EDT
DTSTART:20300310T070000
END:DAYLIGHT
BEGIN:STANDARD
TZOFFSETFROM:-0400
TZOFFSETTO:-0500
TZNAME:EST
DTSTART:20301103T060000
END:STANDARD
END:VTIMEZONE
BEGIN:VEVENT
DTSTART;TZID=America/New_York:20280807T193000
DTEND;TZID=America/New_York:20280807T203000
DTSTAMP:20260419T170856
CREATED:20250717T192817Z
LAST-MODIFIED:20250717T192817Z
UID:10006739-1849289400-1849293000@www.fbcjeff.org
SUMMARY:Upper Room Ladies Bible Study
DESCRIPTION:
URL:https://www.fbcjeff.org/calendar/upper-room-ladies-bible-study/2028-08-07/
LOCATION:Zoom
ORGANIZER;CN="FBC Church Office":MAILTO:help@fbcjeff.org
END:VEVENT
BEGIN:VEVENT
DTSTART;TZID=America/New_York:20280814T193000
DTEND;TZID=America/New_York:20280814T203000
DTSTAMP:20260419T170856
CREATED:20250717T192817Z
LAST-MODIFIED:20250717T192817Z
UID:10006740-1849894200-1849897800@www.fbcjeff.org
SUMMARY:Upper Room Ladies Bible Study
DESCRIPTION:
URL:https://www.fbcjeff.org/calendar/upper-room-ladies-bible-study/2028-08-14/
LOCATION:Zoom
ORGANIZER;CN="FBC Church Office":MAILTO:help@fbcjeff.org
END:VEVENT
BEGIN:VEVENT
DTSTART;TZID=America/New_York:20280821T193000
DTEND;TZID=America/New_York:20280821T203000
DTSTAMP:20260419T170856
CREATED:20250717T192817Z
LAST-MODIFIED:20250717T192817Z
UID:10006741-1850499000-1850502600@www.fbcjeff.org
SUMMARY:Upper Room Ladies Bible Study
DESCRIPTION:
URL:https://www.fbcjeff.org/calendar/upper-room-ladies-bible-study/2028-08-21/
LOCATION:Zoom
ORGANIZER;CN="FBC Church Office":MAILTO:help@fbcjeff.org
END:VEVENT
BEGIN:VEVENT
DTSTART;TZID=America/New_York:20280828T193000
DTEND;TZID=America/New_York:20280828T203000
DTSTAMP:20260419T170856
CREATED:20250717T192817Z
LAST-MODIFIED:20250717T192817Z
UID:10006742-1851103800-1851107400@www.fbcjeff.org
SUMMARY:Upper Room Ladies Bible Study
DESCRIPTION:
URL:https://www.fbcjeff.org/calendar/upper-room-ladies-bible-study/2028-08-28/
LOCATION:Zoom
ORGANIZER;CN="FBC Church Office":MAILTO:help@fbcjeff.org
END:VEVENT
BEGIN:VEVENT
DTSTART;TZID=America/New_York:20280904T193000
DTEND;TZID=America/New_York:20280904T203000
DTSTAMP:20260419T170856
CREATED:20250717T192817Z
LAST-MODIFIED:20250717T192817Z
UID:10006743-1851708600-1851712200@www.fbcjeff.org
SUMMARY:Upper Room Ladies Bible Study
DESCRIPTION:
URL:https://www.fbcjeff.org/calendar/upper-room-ladies-bible-study/2028-09-04/
LOCATION:Zoom
ORGANIZER;CN="FBC Church Office":MAILTO:help@fbcjeff.org
END:VEVENT
BEGIN:VEVENT
DTSTART;TZID=America/New_York:20280911T193000
DTEND;TZID=America/New_York:20280911T203000
DTSTAMP:20260419T170856
CREATED:20250717T192817Z
LAST-MODIFIED:20250717T192817Z
UID:10006744-1852313400-1852317000@www.fbcjeff.org
SUMMARY:Upper Room Ladies Bible Study
DESCRIPTION:
URL:https://www.fbcjeff.org/calendar/upper-room-ladies-bible-study/2028-09-11/
LOCATION:Zoom
ORGANIZER;CN="FBC Church Office":MAILTO:help@fbcjeff.org
END:VEVENT
BEGIN:VEVENT
DTSTART;TZID=America/New_York:20280918T193000
DTEND;TZID=America/New_York:20280918T203000
DTSTAMP:20260419T170856
CREATED:20250717T192817Z
LAST-MODIFIED:20250717T192817Z
UID:10006745-1852918200-1852921800@www.fbcjeff.org
SUMMARY:Upper Room Ladies Bible Study
DESCRIPTION:
URL:https://www.fbcjeff.org/calendar/upper-room-ladies-bible-study/2028-09-18/
LOCATION:Zoom
ORGANIZER;CN="FBC Church Office":MAILTO:help@fbcjeff.org
END:VEVENT
BEGIN:VEVENT
DTSTART;TZID=America/New_York:20280925T193000
DTEND;TZID=America/New_York:20280925T203000
DTSTAMP:20260419T170856
CREATED:20250717T192817Z
LAST-MODIFIED:20250717T192817Z
UID:10006746-1853523000-1853526600@www.fbcjeff.org
SUMMARY:Upper Room Ladies Bible Study
DESCRIPTION:
URL:https://www.fbcjeff.org/calendar/upper-room-ladies-bible-study/2028-09-25/
LOCATION:Zoom
ORGANIZER;CN="FBC Church Office":MAILTO:help@fbcjeff.org
END:VEVENT
BEGIN:VEVENT
DTSTART;TZID=America/New_York:20281002T193000
DTEND;TZID=America/New_York:20281002T203000
DTSTAMP:20260419T170856
CREATED:20250717T192817Z
LAST-MODIFIED:20250717T192817Z
UID:10006747-1854127800-1854131400@www.fbcjeff.org
SUMMARY:Upper Room Ladies Bible Study
DESCRIPTION:
URL:https://www.fbcjeff.org/calendar/upper-room-ladies-bible-study/2028-10-02/
LOCATION:Zoom
ORGANIZER;CN="FBC Church Office":MAILTO:help@fbcjeff.org
END:VEVENT
BEGIN:VEVENT
DTSTART;TZID=America/New_York:20281009T193000
DTEND;TZID=America/New_York:20281009T203000
DTSTAMP:20260419T170856
CREATED:20250717T192817Z
LAST-MODIFIED:20250717T192817Z
UID:10006748-1854732600-1854736200@www.fbcjeff.org
SUMMARY:Upper Room Ladies Bible Study
DESCRIPTION:
URL:https://www.fbcjeff.org/calendar/upper-room-ladies-bible-study/2028-10-09/
LOCATION:Zoom
ORGANIZER;CN="FBC Church Office":MAILTO:help@fbcjeff.org
END:VEVENT
BEGIN:VEVENT
DTSTART;TZID=America/New_York:20281016T193000
DTEND;TZID=America/New_York:20281016T203000
DTSTAMP:20260419T170856
CREATED:20250717T192817Z
LAST-MODIFIED:20250717T192817Z
UID:10006749-1855337400-1855341000@www.fbcjeff.org
SUMMARY:Upper Room Ladies Bible Study
DESCRIPTION:
URL:https://www.fbcjeff.org/calendar/upper-room-ladies-bible-study/2028-10-16/
LOCATION:Zoom
ORGANIZER;CN="FBC Church Office":MAILTO:help@fbcjeff.org
END:VEVENT
BEGIN:VEVENT
DTSTART;TZID=America/New_York:20281023T193000
DTEND;TZID=America/New_York:20281023T203000
DTSTAMP:20260419T170856
CREATED:20250717T192817Z
LAST-MODIFIED:20250717T192817Z
UID:10006750-1855942200-1855945800@www.fbcjeff.org
SUMMARY:Upper Room Ladies Bible Study
DESCRIPTION:
URL:https://www.fbcjeff.org/calendar/upper-room-ladies-bible-study/2028-10-23/
LOCATION:Zoom
ORGANIZER;CN="FBC Church Office":MAILTO:help@fbcjeff.org
END:VEVENT
BEGIN:VEVENT
DTSTART;TZID=America/New_York:20281030T193000
DTEND;TZID=America/New_York:20281030T203000
DTSTAMP:20260419T170856
CREATED:20250717T192817Z
LAST-MODIFIED:20250717T192817Z
UID:10006751-1856547000-1856550600@www.fbcjeff.org
SUMMARY:Upper Room Ladies Bible Study
DESCRIPTION:
URL:https://www.fbcjeff.org/calendar/upper-room-ladies-bible-study/2028-10-30/
LOCATION:Zoom
ORGANIZER;CN="FBC Church Office":MAILTO:help@fbcjeff.org
END:VEVENT
BEGIN:VEVENT
DTSTART;TZID=America/New_York:20281106T193000
DTEND;TZID=America/New_York:20281106T203000
DTSTAMP:20260419T170856
CREATED:20250717T192817Z
LAST-MODIFIED:20250717T192817Z
UID:10006752-1857151800-1857155400@www.fbcjeff.org
SUMMARY:Upper Room Ladies Bible Study
DESCRIPTION:
URL:https://www.fbcjeff.org/calendar/upper-room-ladies-bible-study/2028-11-06/
LOCATION:Zoom
ORGANIZER;CN="FBC Church Office":MAILTO:help@fbcjeff.org
END:VEVENT
BEGIN:VEVENT
DTSTART;TZID=America/New_York:20281113T193000
DTEND;TZID=America/New_York:20281113T203000
DTSTAMP:20260419T170856
CREATED:20250717T192817Z
LAST-MODIFIED:20250717T192817Z
UID:10006753-1857756600-1857760200@www.fbcjeff.org
SUMMARY:Upper Room Ladies Bible Study
DESCRIPTION:
URL:https://www.fbcjeff.org/calendar/upper-room-ladies-bible-study/2028-11-13/
LOCATION:Zoom
ORGANIZER;CN="FBC Church Office":MAILTO:help@fbcjeff.org
END:VEVENT
BEGIN:VEVENT
DTSTART;TZID=America/New_York:20281120T193000
DTEND;TZID=America/New_York:20281120T203000
DTSTAMP:20260419T170857
CREATED:20250717T192817Z
LAST-MODIFIED:20250717T192817Z
UID:10006754-1858361400-1858365000@www.fbcjeff.org
SUMMARY:Upper Room Ladies Bible Study
DESCRIPTION:
URL:https://www.fbcjeff.org/calendar/upper-room-ladies-bible-study/2028-11-20/
LOCATION:Zoom
ORGANIZER;CN="FBC Church Office":MAILTO:help@fbcjeff.org
END:VEVENT
BEGIN:VEVENT
DTSTART;TZID=America/New_York:20281127T193000
DTEND;TZID=America/New_York:20281127T203000
DTSTAMP:20260419T170857
CREATED:20250717T192817Z
LAST-MODIFIED:20250717T192817Z
UID:10006755-1858966200-1858969800@www.fbcjeff.org
SUMMARY:Upper Room Ladies Bible Study
DESCRIPTION:
URL:https://www.fbcjeff.org/calendar/upper-room-ladies-bible-study/2028-11-27/
LOCATION:Zoom
ORGANIZER;CN="FBC Church Office":MAILTO:help@fbcjeff.org
END:VEVENT
BEGIN:VEVENT
DTSTART;TZID=America/New_York:20281204T193000
DTEND;TZID=America/New_York:20281204T203000
DTSTAMP:20260419T170857
CREATED:20250717T192817Z
LAST-MODIFIED:20250717T192817Z
UID:10006756-1859571000-1859574600@www.fbcjeff.org
SUMMARY:Upper Room Ladies Bible Study
DESCRIPTION:
URL:https://www.fbcjeff.org/calendar/upper-room-ladies-bible-study/2028-12-04/
LOCATION:Zoom
ORGANIZER;CN="FBC Church Office":MAILTO:help@fbcjeff.org
END:VEVENT
BEGIN:VEVENT
DTSTART;TZID=America/New_York:20281211T193000
DTEND;TZID=America/New_York:20281211T203000
DTSTAMP:20260419T170857
CREATED:20250717T192817Z
LAST-MODIFIED:20250717T192817Z
UID:10006757-1860175800-1860179400@www.fbcjeff.org
SUMMARY:Upper Room Ladies Bible Study
DESCRIPTION:
URL:https://www.fbcjeff.org/calendar/upper-room-ladies-bible-study/2028-12-11/
LOCATION:Zoom
ORGANIZER;CN="FBC Church Office":MAILTO:help@fbcjeff.org
END:VEVENT
BEGIN:VEVENT
DTSTART;TZID=America/New_York:20281218T193000
DTEND;TZID=America/New_York:20281218T203000
DTSTAMP:20260419T170857
CREATED:20250717T192817Z
LAST-MODIFIED:20250717T192817Z
UID:10006758-1860780600-1860784200@www.fbcjeff.org
SUMMARY:Upper Room Ladies Bible Study
DESCRIPTION:
URL:https://www.fbcjeff.org/calendar/upper-room-ladies-bible-study/2028-12-18/
LOCATION:Zoom
ORGANIZER;CN="FBC Church Office":MAILTO:help@fbcjeff.org
END:VEVENT
BEGIN:VEVENT
DTSTART;TZID=America/New_York:20281225T193000
DTEND;TZID=America/New_York:20281225T203000
DTSTAMP:20260419T170857
CREATED:20250717T192817Z
LAST-MODIFIED:20250717T192817Z
UID:10006759-1861385400-1861389000@www.fbcjeff.org
SUMMARY:Upper Room Ladies Bible Study
DESCRIPTION:
URL:https://www.fbcjeff.org/calendar/upper-room-ladies-bible-study/2028-12-25/
LOCATION:Zoom
ORGANIZER;CN="FBC Church Office":MAILTO:help@fbcjeff.org
END:VEVENT
BEGIN:VEVENT
DTSTART;TZID=America/New_York:20290101T193000
DTEND;TZID=America/New_York:20290101T203000
DTSTAMP:20260419T170857
CREATED:20250717T192817Z
LAST-MODIFIED:20250717T192817Z
UID:10006760-1861990200-1861993800@www.fbcjeff.org
SUMMARY:Upper Room Ladies Bible Study
DESCRIPTION:
URL:https://www.fbcjeff.org/calendar/upper-room-ladies-bible-study/2029-01-01/
LOCATION:Zoom
ORGANIZER;CN="FBC Church Office":MAILTO:help@fbcjeff.org
END:VEVENT
BEGIN:VEVENT
DTSTART;TZID=America/New_York:20290108T193000
DTEND;TZID=America/New_York:20290108T203000
DTSTAMP:20260419T170857
CREATED:20250717T192817Z
LAST-MODIFIED:20250717T192817Z
UID:10006761-1862595000-1862598600@www.fbcjeff.org
SUMMARY:Upper Room Ladies Bible Study
DESCRIPTION:
URL:https://www.fbcjeff.org/calendar/upper-room-ladies-bible-study/2029-01-08/
LOCATION:Zoom
ORGANIZER;CN="FBC Church Office":MAILTO:help@fbcjeff.org
END:VEVENT
BEGIN:VEVENT
DTSTART;TZID=America/New_York:20290115T193000
DTEND;TZID=America/New_York:20290115T203000
DTSTAMP:20260419T170857
CREATED:20250717T192817Z
LAST-MODIFIED:20250717T192817Z
UID:10006762-1863199800-1863203400@www.fbcjeff.org
SUMMARY:Upper Room Ladies Bible Study
DESCRIPTION:
URL:https://www.fbcjeff.org/calendar/upper-room-ladies-bible-study/2029-01-15/
LOCATION:Zoom
ORGANIZER;CN="FBC Church Office":MAILTO:help@fbcjeff.org
END:VEVENT
BEGIN:VEVENT
DTSTART;TZID=America/New_York:20290122T193000
DTEND;TZID=America/New_York:20290122T203000
DTSTAMP:20260419T170857
CREATED:20250717T192817Z
LAST-MODIFIED:20250717T192817Z
UID:10006763-1863804600-1863808200@www.fbcjeff.org
SUMMARY:Upper Room Ladies Bible Study
DESCRIPTION:
URL:https://www.fbcjeff.org/calendar/upper-room-ladies-bible-study/2029-01-22/
LOCATION:Zoom
ORGANIZER;CN="FBC Church Office":MAILTO:help@fbcjeff.org
END:VEVENT
BEGIN:VEVENT
DTSTART;TZID=America/New_York:20290129T193000
DTEND;TZID=America/New_York:20290129T203000
DTSTAMP:20260419T170857
CREATED:20250717T192817Z
LAST-MODIFIED:20250717T192817Z
UID:10006764-1864409400-1864413000@www.fbcjeff.org
SUMMARY:Upper Room Ladies Bible Study
DESCRIPTION:
URL:https://www.fbcjeff.org/calendar/upper-room-ladies-bible-study/2029-01-29/
LOCATION:Zoom
ORGANIZER;CN="FBC Church Office":MAILTO:help@fbcjeff.org
END:VEVENT
BEGIN:VEVENT
DTSTART;TZID=America/New_York:20290205T193000
DTEND;TZID=America/New_York:20290205T203000
DTSTAMP:20260419T170857
CREATED:20250717T192817Z
LAST-MODIFIED:20250717T192817Z
UID:10006765-1865014200-1865017800@www.fbcjeff.org
SUMMARY:Upper Room Ladies Bible Study
DESCRIPTION:
URL:https://www.fbcjeff.org/calendar/upper-room-ladies-bible-study/2029-02-05/
LOCATION:Zoom
ORGANIZER;CN="FBC Church Office":MAILTO:help@fbcjeff.org
END:VEVENT
BEGIN:VEVENT
DTSTART;TZID=America/New_York:20290212T193000
DTEND;TZID=America/New_York:20290212T203000
DTSTAMP:20260419T170857
CREATED:20250717T192817Z
LAST-MODIFIED:20250717T192817Z
UID:10006766-1865619000-1865622600@www.fbcjeff.org
SUMMARY:Upper Room Ladies Bible Study
DESCRIPTION:
URL:https://www.fbcjeff.org/calendar/upper-room-ladies-bible-study/2029-02-12/
LOCATION:Zoom
ORGANIZER;CN="FBC Church Office":MAILTO:help@fbcjeff.org
END:VEVENT
BEGIN:VEVENT
DTSTART;TZID=America/New_York:20290219T193000
DTEND;TZID=America/New_York:20290219T203000
DTSTAMP:20260419T170857
CREATED:20250717T192817Z
LAST-MODIFIED:20250717T192817Z
UID:10006767-1866223800-1866227400@www.fbcjeff.org
SUMMARY:Upper Room Ladies Bible Study
DESCRIPTION:
URL:https://www.fbcjeff.org/calendar/upper-room-ladies-bible-study/2029-02-19/
LOCATION:Zoom
ORGANIZER;CN="FBC Church Office":MAILTO:help@fbcjeff.org
END:VEVENT
BEGIN:VEVENT
DTSTART;TZID=America/New_York:20290226T193000
DTEND;TZID=America/New_York:20290226T203000
DTSTAMP:20260419T170857
CREATED:20250717T192817Z
LAST-MODIFIED:20250717T192817Z
UID:10006768-1866828600-1866832200@www.fbcjeff.org
SUMMARY:Upper Room Ladies Bible Study
DESCRIPTION:
URL:https://www.fbcjeff.org/calendar/upper-room-ladies-bible-study/2029-02-26/
LOCATION:Zoom
ORGANIZER;CN="FBC Church Office":MAILTO:help@fbcjeff.org
END:VEVENT
END:VCALENDAR