BEGIN:VCALENDAR
VERSION:2.0
PRODID:-//First Baptist Church, Jefferson City, TN - ECPv6.15.20//NONSGML v1.0//EN
CALSCALE:GREGORIAN
METHOD:PUBLISH
X-WR-CALNAME:First Baptist Church, Jefferson City, TN
X-ORIGINAL-URL:https://www.fbcjeff.org
X-WR-CALDESC:Events for First Baptist Church, Jefferson City, TN
REFRESH-INTERVAL;VALUE=DURATION:PT1H
X-Robots-Tag:noindex
X-PUBLISHED-TTL:PT1H
BEGIN:VTIMEZONE
TZID:America/New_York
BEGIN:DAYLIGHT
TZOFFSETFROM:-0500
TZOFFSETTO:-0400
TZNAME:EDT
DTSTART:20280312T070000
END:DAYLIGHT
BEGIN:STANDARD
TZOFFSETFROM:-0400
TZOFFSETTO:-0500
TZNAME:EST
DTSTART:20281105T060000
END:STANDARD
BEGIN:DAYLIGHT
TZOFFSETFROM:-0500
TZOFFSETTO:-0400
TZNAME:EDT
DTSTART:20290311T070000
END:DAYLIGHT
BEGIN:STANDARD
TZOFFSETFROM:-0400
TZOFFSETTO:-0500
TZNAME:EST
DTSTART:20291104T060000
END:STANDARD
BEGIN:DAYLIGHT
TZOFFSETFROM:-0500
TZOFFSETTO:-0400
TZNAME:EDT
DTSTART:20300310T070000
END:DAYLIGHT
BEGIN:STANDARD
TZOFFSETFROM:-0400
TZOFFSETTO:-0500
TZNAME:EST
DTSTART:20301103T060000
END:STANDARD
BEGIN:DAYLIGHT
TZOFFSETFROM:-0500
TZOFFSETTO:-0400
TZNAME:EDT
DTSTART:20310309T070000
END:DAYLIGHT
BEGIN:STANDARD
TZOFFSETFROM:-0400
TZOFFSETTO:-0500
TZNAME:EST
DTSTART:20311102T060000
END:STANDARD
END:VTIMEZONE
BEGIN:VEVENT
DTSTART;TZID=America/New_York:20290709T193000
DTEND;TZID=America/New_York:20290709T203000
DTSTAMP:20260420T004224
CREATED:20250717T192817Z
LAST-MODIFIED:20250717T192817Z
UID:10006787-1878319800-1878323400@www.fbcjeff.org
SUMMARY:Upper Room Ladies Bible Study
DESCRIPTION:
URL:https://www.fbcjeff.org/calendar/upper-room-ladies-bible-study/2029-07-09/
LOCATION:Zoom
ORGANIZER;CN="FBC Church Office":MAILTO:help@fbcjeff.org
END:VEVENT
BEGIN:VEVENT
DTSTART;TZID=America/New_York:20290716T193000
DTEND;TZID=America/New_York:20290716T203000
DTSTAMP:20260420T004224
CREATED:20250717T192817Z
LAST-MODIFIED:20250717T192817Z
UID:10006788-1878924600-1878928200@www.fbcjeff.org
SUMMARY:Upper Room Ladies Bible Study
DESCRIPTION:
URL:https://www.fbcjeff.org/calendar/upper-room-ladies-bible-study/2029-07-16/
LOCATION:Zoom
ORGANIZER;CN="FBC Church Office":MAILTO:help@fbcjeff.org
END:VEVENT
BEGIN:VEVENT
DTSTART;TZID=America/New_York:20290723T193000
DTEND;TZID=America/New_York:20290723T203000
DTSTAMP:20260420T004224
CREATED:20250717T192817Z
LAST-MODIFIED:20250717T192817Z
UID:10006789-1879529400-1879533000@www.fbcjeff.org
SUMMARY:Upper Room Ladies Bible Study
DESCRIPTION:
URL:https://www.fbcjeff.org/calendar/upper-room-ladies-bible-study/2029-07-23/
LOCATION:Zoom
ORGANIZER;CN="FBC Church Office":MAILTO:help@fbcjeff.org
END:VEVENT
BEGIN:VEVENT
DTSTART;TZID=America/New_York:20290730T193000
DTEND;TZID=America/New_York:20290730T203000
DTSTAMP:20260420T004224
CREATED:20250717T192817Z
LAST-MODIFIED:20250717T192817Z
UID:10006790-1880134200-1880137800@www.fbcjeff.org
SUMMARY:Upper Room Ladies Bible Study
DESCRIPTION:
URL:https://www.fbcjeff.org/calendar/upper-room-ladies-bible-study/2029-07-30/
LOCATION:Zoom
ORGANIZER;CN="FBC Church Office":MAILTO:help@fbcjeff.org
END:VEVENT
BEGIN:VEVENT
DTSTART;TZID=America/New_York:20290806T193000
DTEND;TZID=America/New_York:20290806T203000
DTSTAMP:20260420T004224
CREATED:20250717T192817Z
LAST-MODIFIED:20250717T192817Z
UID:10006791-1880739000-1880742600@www.fbcjeff.org
SUMMARY:Upper Room Ladies Bible Study
DESCRIPTION:
URL:https://www.fbcjeff.org/calendar/upper-room-ladies-bible-study/2029-08-06/
LOCATION:Zoom
ORGANIZER;CN="FBC Church Office":MAILTO:help@fbcjeff.org
END:VEVENT
BEGIN:VEVENT
DTSTART;TZID=America/New_York:20290813T193000
DTEND;TZID=America/New_York:20290813T203000
DTSTAMP:20260420T004224
CREATED:20250717T192817Z
LAST-MODIFIED:20250717T192817Z
UID:10006792-1881343800-1881347400@www.fbcjeff.org
SUMMARY:Upper Room Ladies Bible Study
DESCRIPTION:
URL:https://www.fbcjeff.org/calendar/upper-room-ladies-bible-study/2029-08-13/
LOCATION:Zoom
ORGANIZER;CN="FBC Church Office":MAILTO:help@fbcjeff.org
END:VEVENT
BEGIN:VEVENT
DTSTART;TZID=America/New_York:20290820T193000
DTEND;TZID=America/New_York:20290820T203000
DTSTAMP:20260420T004224
CREATED:20250717T192817Z
LAST-MODIFIED:20250717T192817Z
UID:10006793-1881948600-1881952200@www.fbcjeff.org
SUMMARY:Upper Room Ladies Bible Study
DESCRIPTION:
URL:https://www.fbcjeff.org/calendar/upper-room-ladies-bible-study/2029-08-20/
LOCATION:Zoom
ORGANIZER;CN="FBC Church Office":MAILTO:help@fbcjeff.org
END:VEVENT
BEGIN:VEVENT
DTSTART;TZID=America/New_York:20290827T193000
DTEND;TZID=America/New_York:20290827T203000
DTSTAMP:20260420T004224
CREATED:20250717T192817Z
LAST-MODIFIED:20250717T192817Z
UID:10006794-1882553400-1882557000@www.fbcjeff.org
SUMMARY:Upper Room Ladies Bible Study
DESCRIPTION:
URL:https://www.fbcjeff.org/calendar/upper-room-ladies-bible-study/2029-08-27/
LOCATION:Zoom
ORGANIZER;CN="FBC Church Office":MAILTO:help@fbcjeff.org
END:VEVENT
BEGIN:VEVENT
DTSTART;TZID=America/New_York:20290903T193000
DTEND;TZID=America/New_York:20290903T203000
DTSTAMP:20260420T004224
CREATED:20250717T192817Z
LAST-MODIFIED:20250717T192817Z
UID:10006795-1883158200-1883161800@www.fbcjeff.org
SUMMARY:Upper Room Ladies Bible Study
DESCRIPTION:
URL:https://www.fbcjeff.org/calendar/upper-room-ladies-bible-study/2029-09-03/
LOCATION:Zoom
ORGANIZER;CN="FBC Church Office":MAILTO:help@fbcjeff.org
END:VEVENT
BEGIN:VEVENT
DTSTART;TZID=America/New_York:20290910T193000
DTEND;TZID=America/New_York:20290910T203000
DTSTAMP:20260420T004224
CREATED:20250717T192817Z
LAST-MODIFIED:20250717T192817Z
UID:10006796-1883763000-1883766600@www.fbcjeff.org
SUMMARY:Upper Room Ladies Bible Study
DESCRIPTION:
URL:https://www.fbcjeff.org/calendar/upper-room-ladies-bible-study/2029-09-10/
LOCATION:Zoom
ORGANIZER;CN="FBC Church Office":MAILTO:help@fbcjeff.org
END:VEVENT
BEGIN:VEVENT
DTSTART;TZID=America/New_York:20290917T193000
DTEND;TZID=America/New_York:20290917T203000
DTSTAMP:20260420T004224
CREATED:20250717T192817Z
LAST-MODIFIED:20250717T192817Z
UID:10006797-1884367800-1884371400@www.fbcjeff.org
SUMMARY:Upper Room Ladies Bible Study
DESCRIPTION:
URL:https://www.fbcjeff.org/calendar/upper-room-ladies-bible-study/2029-09-17/
LOCATION:Zoom
ORGANIZER;CN="FBC Church Office":MAILTO:help@fbcjeff.org
END:VEVENT
BEGIN:VEVENT
DTSTART;TZID=America/New_York:20290924T193000
DTEND;TZID=America/New_York:20290924T203000
DTSTAMP:20260420T004224
CREATED:20250717T192817Z
LAST-MODIFIED:20250717T192817Z
UID:10006798-1884972600-1884976200@www.fbcjeff.org
SUMMARY:Upper Room Ladies Bible Study
DESCRIPTION:
URL:https://www.fbcjeff.org/calendar/upper-room-ladies-bible-study/2029-09-24/
LOCATION:Zoom
ORGANIZER;CN="FBC Church Office":MAILTO:help@fbcjeff.org
END:VEVENT
BEGIN:VEVENT
DTSTART;TZID=America/New_York:20291001T193000
DTEND;TZID=America/New_York:20291001T203000
DTSTAMP:20260420T004224
CREATED:20250717T192817Z
LAST-MODIFIED:20250717T192817Z
UID:10006799-1885577400-1885581000@www.fbcjeff.org
SUMMARY:Upper Room Ladies Bible Study
DESCRIPTION:
URL:https://www.fbcjeff.org/calendar/upper-room-ladies-bible-study/2029-10-01/
LOCATION:Zoom
ORGANIZER;CN="FBC Church Office":MAILTO:help@fbcjeff.org
END:VEVENT
BEGIN:VEVENT
DTSTART;TZID=America/New_York:20291008T193000
DTEND;TZID=America/New_York:20291008T203000
DTSTAMP:20260420T004224
CREATED:20250717T192817Z
LAST-MODIFIED:20250717T192817Z
UID:10006800-1886182200-1886185800@www.fbcjeff.org
SUMMARY:Upper Room Ladies Bible Study
DESCRIPTION:
URL:https://www.fbcjeff.org/calendar/upper-room-ladies-bible-study/2029-10-08/
LOCATION:Zoom
ORGANIZER;CN="FBC Church Office":MAILTO:help@fbcjeff.org
END:VEVENT
BEGIN:VEVENT
DTSTART;TZID=America/New_York:20291015T193000
DTEND;TZID=America/New_York:20291015T203000
DTSTAMP:20260420T004224
CREATED:20250717T192817Z
LAST-MODIFIED:20250717T192817Z
UID:10006801-1886787000-1886790600@www.fbcjeff.org
SUMMARY:Upper Room Ladies Bible Study
DESCRIPTION:
URL:https://www.fbcjeff.org/calendar/upper-room-ladies-bible-study/2029-10-15/
LOCATION:Zoom
ORGANIZER;CN="FBC Church Office":MAILTO:help@fbcjeff.org
END:VEVENT
BEGIN:VEVENT
DTSTART;TZID=America/New_York:20291022T193000
DTEND;TZID=America/New_York:20291022T203000
DTSTAMP:20260420T004224
CREATED:20250717T192817Z
LAST-MODIFIED:20250717T192817Z
UID:10006802-1887391800-1887395400@www.fbcjeff.org
SUMMARY:Upper Room Ladies Bible Study
DESCRIPTION:
URL:https://www.fbcjeff.org/calendar/upper-room-ladies-bible-study/2029-10-22/
LOCATION:Zoom
ORGANIZER;CN="FBC Church Office":MAILTO:help@fbcjeff.org
END:VEVENT
BEGIN:VEVENT
DTSTART;TZID=America/New_York:20291029T193000
DTEND;TZID=America/New_York:20291029T203000
DTSTAMP:20260420T004224
CREATED:20250717T192817Z
LAST-MODIFIED:20250717T192817Z
UID:10006803-1887996600-1888000200@www.fbcjeff.org
SUMMARY:Upper Room Ladies Bible Study
DESCRIPTION:
URL:https://www.fbcjeff.org/calendar/upper-room-ladies-bible-study/2029-10-29/
LOCATION:Zoom
ORGANIZER;CN="FBC Church Office":MAILTO:help@fbcjeff.org
END:VEVENT
BEGIN:VEVENT
DTSTART;TZID=America/New_York:20291105T193000
DTEND;TZID=America/New_York:20291105T203000
DTSTAMP:20260420T004224
CREATED:20250717T192817Z
LAST-MODIFIED:20250717T192817Z
UID:10006804-1888601400-1888605000@www.fbcjeff.org
SUMMARY:Upper Room Ladies Bible Study
DESCRIPTION:
URL:https://www.fbcjeff.org/calendar/upper-room-ladies-bible-study/2029-11-05/
LOCATION:Zoom
ORGANIZER;CN="FBC Church Office":MAILTO:help@fbcjeff.org
END:VEVENT
BEGIN:VEVENT
DTSTART;TZID=America/New_York:20291112T193000
DTEND;TZID=America/New_York:20291112T203000
DTSTAMP:20260420T004224
CREATED:20250717T192817Z
LAST-MODIFIED:20250717T192817Z
UID:10006805-1889206200-1889209800@www.fbcjeff.org
SUMMARY:Upper Room Ladies Bible Study
DESCRIPTION:
URL:https://www.fbcjeff.org/calendar/upper-room-ladies-bible-study/2029-11-12/
LOCATION:Zoom
ORGANIZER;CN="FBC Church Office":MAILTO:help@fbcjeff.org
END:VEVENT
BEGIN:VEVENT
DTSTART;TZID=America/New_York:20291119T193000
DTEND;TZID=America/New_York:20291119T203000
DTSTAMP:20260420T004224
CREATED:20250717T192817Z
LAST-MODIFIED:20250717T192817Z
UID:10006806-1889811000-1889814600@www.fbcjeff.org
SUMMARY:Upper Room Ladies Bible Study
DESCRIPTION:
URL:https://www.fbcjeff.org/calendar/upper-room-ladies-bible-study/2029-11-19/
LOCATION:Zoom
ORGANIZER;CN="FBC Church Office":MAILTO:help@fbcjeff.org
END:VEVENT
BEGIN:VEVENT
DTSTART;TZID=America/New_York:20291126T193000
DTEND;TZID=America/New_York:20291126T203000
DTSTAMP:20260420T004224
CREATED:20250717T192817Z
LAST-MODIFIED:20250717T192817Z
UID:10006807-1890415800-1890419400@www.fbcjeff.org
SUMMARY:Upper Room Ladies Bible Study
DESCRIPTION:
URL:https://www.fbcjeff.org/calendar/upper-room-ladies-bible-study/2029-11-26/
LOCATION:Zoom
ORGANIZER;CN="FBC Church Office":MAILTO:help@fbcjeff.org
END:VEVENT
BEGIN:VEVENT
DTSTART;TZID=America/New_York:20291203T193000
DTEND;TZID=America/New_York:20291203T203000
DTSTAMP:20260420T004225
CREATED:20250717T192817Z
LAST-MODIFIED:20250717T192817Z
UID:10006808-1891020600-1891024200@www.fbcjeff.org
SUMMARY:Upper Room Ladies Bible Study
DESCRIPTION:
URL:https://www.fbcjeff.org/calendar/upper-room-ladies-bible-study/2029-12-03/
LOCATION:Zoom
ORGANIZER;CN="FBC Church Office":MAILTO:help@fbcjeff.org
END:VEVENT
BEGIN:VEVENT
DTSTART;TZID=America/New_York:20291210T193000
DTEND;TZID=America/New_York:20291210T203000
DTSTAMP:20260420T004225
CREATED:20250717T192817Z
LAST-MODIFIED:20250717T192817Z
UID:10006809-1891625400-1891629000@www.fbcjeff.org
SUMMARY:Upper Room Ladies Bible Study
DESCRIPTION:
URL:https://www.fbcjeff.org/calendar/upper-room-ladies-bible-study/2029-12-10/
LOCATION:Zoom
ORGANIZER;CN="FBC Church Office":MAILTO:help@fbcjeff.org
END:VEVENT
BEGIN:VEVENT
DTSTART;TZID=America/New_York:20291217T193000
DTEND;TZID=America/New_York:20291217T203000
DTSTAMP:20260420T004225
CREATED:20250717T192817Z
LAST-MODIFIED:20250717T192817Z
UID:10006810-1892230200-1892233800@www.fbcjeff.org
SUMMARY:Upper Room Ladies Bible Study
DESCRIPTION:
URL:https://www.fbcjeff.org/calendar/upper-room-ladies-bible-study/2029-12-17/
LOCATION:Zoom
ORGANIZER;CN="FBC Church Office":MAILTO:help@fbcjeff.org
END:VEVENT
BEGIN:VEVENT
DTSTART;TZID=America/New_York:20291224T193000
DTEND;TZID=America/New_York:20291224T203000
DTSTAMP:20260420T004225
CREATED:20250717T192817Z
LAST-MODIFIED:20250717T192817Z
UID:10006811-1892835000-1892838600@www.fbcjeff.org
SUMMARY:Upper Room Ladies Bible Study
DESCRIPTION:
URL:https://www.fbcjeff.org/calendar/upper-room-ladies-bible-study/2029-12-24/
LOCATION:Zoom
ORGANIZER;CN="FBC Church Office":MAILTO:help@fbcjeff.org
END:VEVENT
BEGIN:VEVENT
DTSTART;TZID=America/New_York:20291231T193000
DTEND;TZID=America/New_York:20291231T203000
DTSTAMP:20260420T004225
CREATED:20250717T192817Z
LAST-MODIFIED:20250717T192817Z
UID:10006812-1893439800-1893443400@www.fbcjeff.org
SUMMARY:Upper Room Ladies Bible Study
DESCRIPTION:
URL:https://www.fbcjeff.org/calendar/upper-room-ladies-bible-study/2029-12-31/
LOCATION:Zoom
ORGANIZER;CN="FBC Church Office":MAILTO:help@fbcjeff.org
END:VEVENT
BEGIN:VEVENT
DTSTART;TZID=America/New_York:20300107T193000
DTEND;TZID=America/New_York:20300107T203000
DTSTAMP:20260420T004225
CREATED:20250717T192817Z
LAST-MODIFIED:20250717T192817Z
UID:10006813-1894044600-1894048200@www.fbcjeff.org
SUMMARY:Upper Room Ladies Bible Study
DESCRIPTION:
URL:https://www.fbcjeff.org/calendar/upper-room-ladies-bible-study/2030-01-07/
LOCATION:Zoom
ORGANIZER;CN="FBC Church Office":MAILTO:help@fbcjeff.org
END:VEVENT
BEGIN:VEVENT
DTSTART;TZID=America/New_York:20300114T193000
DTEND;TZID=America/New_York:20300114T203000
DTSTAMP:20260420T004225
CREATED:20250717T192817Z
LAST-MODIFIED:20250717T192817Z
UID:10006814-1894649400-1894653000@www.fbcjeff.org
SUMMARY:Upper Room Ladies Bible Study
DESCRIPTION:
URL:https://www.fbcjeff.org/calendar/upper-room-ladies-bible-study/2030-01-14/
LOCATION:Zoom
ORGANIZER;CN="FBC Church Office":MAILTO:help@fbcjeff.org
END:VEVENT
BEGIN:VEVENT
DTSTART;TZID=America/New_York:20300121T193000
DTEND;TZID=America/New_York:20300121T203000
DTSTAMP:20260420T004225
CREATED:20250717T192817Z
LAST-MODIFIED:20250717T192817Z
UID:10006815-1895254200-1895257800@www.fbcjeff.org
SUMMARY:Upper Room Ladies Bible Study
DESCRIPTION:
URL:https://www.fbcjeff.org/calendar/upper-room-ladies-bible-study/2030-01-21/
LOCATION:Zoom
ORGANIZER;CN="FBC Church Office":MAILTO:help@fbcjeff.org
END:VEVENT
BEGIN:VEVENT
DTSTART;TZID=America/New_York:20300128T193000
DTEND;TZID=America/New_York:20300128T203000
DTSTAMP:20260420T004225
CREATED:20250717T192817Z
LAST-MODIFIED:20250717T192817Z
UID:10006816-1895859000-1895862600@www.fbcjeff.org
SUMMARY:Upper Room Ladies Bible Study
DESCRIPTION:
URL:https://www.fbcjeff.org/calendar/upper-room-ladies-bible-study/2030-01-28/
LOCATION:Zoom
ORGANIZER;CN="FBC Church Office":MAILTO:help@fbcjeff.org
END:VEVENT
END:VCALENDAR