BEGIN:VCALENDAR
VERSION:2.0
PRODID:-//First Baptist Church, Jefferson City, TN - ECPv6.15.20//NONSGML v1.0//EN
CALSCALE:GREGORIAN
METHOD:PUBLISH
X-ORIGINAL-URL:https://www.fbcjeff.org
X-WR-CALDESC:Events for First Baptist Church, Jefferson City, TN
REFRESH-INTERVAL;VALUE=DURATION:PT1H
X-Robots-Tag:noindex
X-PUBLISHED-TTL:PT1H
BEGIN:VTIMEZONE
TZID:America/New_York
BEGIN:DAYLIGHT
TZOFFSETFROM:-0500
TZOFFSETTO:-0400
TZNAME:EDT
DTSTART:20290311T070000
END:DAYLIGHT
BEGIN:STANDARD
TZOFFSETFROM:-0400
TZOFFSETTO:-0500
TZNAME:EST
DTSTART:20291104T060000
END:STANDARD
BEGIN:DAYLIGHT
TZOFFSETFROM:-0500
TZOFFSETTO:-0400
TZNAME:EDT
DTSTART:20300310T070000
END:DAYLIGHT
BEGIN:STANDARD
TZOFFSETFROM:-0400
TZOFFSETTO:-0500
TZNAME:EST
DTSTART:20301103T060000
END:STANDARD
BEGIN:DAYLIGHT
TZOFFSETFROM:-0500
TZOFFSETTO:-0400
TZNAME:EDT
DTSTART:20310309T070000
END:DAYLIGHT
BEGIN:STANDARD
TZOFFSETFROM:-0400
TZOFFSETTO:-0500
TZNAME:EST
DTSTART:20311102T060000
END:STANDARD
BEGIN:DAYLIGHT
TZOFFSETFROM:-0500
TZOFFSETTO:-0400
TZNAME:EDT
DTSTART:20320314T070000
END:DAYLIGHT
BEGIN:STANDARD
TZOFFSETFROM:-0400
TZOFFSETTO:-0500
TZNAME:EST
DTSTART:20321107T060000
END:STANDARD
END:VTIMEZONE
BEGIN:VEVENT
DTSTART;TZID=America/New_York:20300902T193000
DTEND;TZID=America/New_York:20300902T203000
DTSTAMP:20260420T091102
CREATED:20250717T192817Z
LAST-MODIFIED:20250717T192817Z
UID:10009962-1914607800-1914611400@www.fbcjeff.org
SUMMARY:Upper Room Ladies Bible Study
DESCRIPTION:
URL:https://www.fbcjeff.org/calendar/upper-room-ladies-bible-study/2030-09-02/
LOCATION:Zoom
ORGANIZER;CN="FBC Church Office":MAILTO:help@fbcjeff.org
END:VEVENT
BEGIN:VEVENT
DTSTART;TZID=America/New_York:20300909T193000
DTEND;TZID=America/New_York:20300909T203000
DTSTAMP:20260420T091102
CREATED:20250717T192817Z
LAST-MODIFIED:20250717T192817Z
UID:10009963-1915212600-1915216200@www.fbcjeff.org
SUMMARY:Upper Room Ladies Bible Study
DESCRIPTION:
URL:https://www.fbcjeff.org/calendar/upper-room-ladies-bible-study/2030-09-09/
LOCATION:Zoom
ORGANIZER;CN="FBC Church Office":MAILTO:help@fbcjeff.org
END:VEVENT
BEGIN:VEVENT
DTSTART;TZID=America/New_York:20300916T193000
DTEND;TZID=America/New_York:20300916T203000
DTSTAMP:20260420T091102
CREATED:20250717T192817Z
LAST-MODIFIED:20250717T192817Z
UID:10009964-1915817400-1915821000@www.fbcjeff.org
SUMMARY:Upper Room Ladies Bible Study
DESCRIPTION:
URL:https://www.fbcjeff.org/calendar/upper-room-ladies-bible-study/2030-09-16/
LOCATION:Zoom
ORGANIZER;CN="FBC Church Office":MAILTO:help@fbcjeff.org
END:VEVENT
BEGIN:VEVENT
DTSTART;TZID=America/New_York:20300923T193000
DTEND;TZID=America/New_York:20300923T203000
DTSTAMP:20260420T091102
CREATED:20250717T192817Z
LAST-MODIFIED:20250717T192817Z
UID:10009965-1916422200-1916425800@www.fbcjeff.org
SUMMARY:Upper Room Ladies Bible Study
DESCRIPTION:
URL:https://www.fbcjeff.org/calendar/upper-room-ladies-bible-study/2030-09-23/
LOCATION:Zoom
ORGANIZER;CN="FBC Church Office":MAILTO:help@fbcjeff.org
END:VEVENT
BEGIN:VEVENT
DTSTART;TZID=America/New_York:20300930T193000
DTEND;TZID=America/New_York:20300930T203000
DTSTAMP:20260420T091102
CREATED:20250717T192817Z
LAST-MODIFIED:20250717T192817Z
UID:10009966-1917027000-1917030600@www.fbcjeff.org
SUMMARY:Upper Room Ladies Bible Study
DESCRIPTION:
URL:https://www.fbcjeff.org/calendar/upper-room-ladies-bible-study/2030-09-30/
LOCATION:Zoom
ORGANIZER;CN="FBC Church Office":MAILTO:help@fbcjeff.org
END:VEVENT
BEGIN:VEVENT
DTSTART;TZID=America/New_York:20301007T193000
DTEND;TZID=America/New_York:20301007T203000
DTSTAMP:20260420T091102
CREATED:20250717T192817Z
LAST-MODIFIED:20250717T192817Z
UID:10009967-1917631800-1917635400@www.fbcjeff.org
SUMMARY:Upper Room Ladies Bible Study
DESCRIPTION:
URL:https://www.fbcjeff.org/calendar/upper-room-ladies-bible-study/2030-10-07/
LOCATION:Zoom
ORGANIZER;CN="FBC Church Office":MAILTO:help@fbcjeff.org
END:VEVENT
BEGIN:VEVENT
DTSTART;TZID=America/New_York:20301014T193000
DTEND;TZID=America/New_York:20301014T203000
DTSTAMP:20260420T091102
CREATED:20250717T192817Z
LAST-MODIFIED:20250717T192817Z
UID:10009968-1918236600-1918240200@www.fbcjeff.org
SUMMARY:Upper Room Ladies Bible Study
DESCRIPTION:
URL:https://www.fbcjeff.org/calendar/upper-room-ladies-bible-study/2030-10-14/
LOCATION:Zoom
ORGANIZER;CN="FBC Church Office":MAILTO:help@fbcjeff.org
END:VEVENT
BEGIN:VEVENT
DTSTART;TZID=America/New_York:20301021T193000
DTEND;TZID=America/New_York:20301021T203000
DTSTAMP:20260420T091102
CREATED:20250717T192817Z
LAST-MODIFIED:20250717T192817Z
UID:10009969-1918841400-1918845000@www.fbcjeff.org
SUMMARY:Upper Room Ladies Bible Study
DESCRIPTION:
URL:https://www.fbcjeff.org/calendar/upper-room-ladies-bible-study/2030-10-21/
LOCATION:Zoom
ORGANIZER;CN="FBC Church Office":MAILTO:help@fbcjeff.org
END:VEVENT
BEGIN:VEVENT
DTSTART;TZID=America/New_York:20301028T193000
DTEND;TZID=America/New_York:20301028T203000
DTSTAMP:20260420T091102
CREATED:20250717T192817Z
LAST-MODIFIED:20250717T192817Z
UID:10009970-1919446200-1919449800@www.fbcjeff.org
SUMMARY:Upper Room Ladies Bible Study
DESCRIPTION:
URL:https://www.fbcjeff.org/calendar/upper-room-ladies-bible-study/2030-10-28/
LOCATION:Zoom
ORGANIZER;CN="FBC Church Office":MAILTO:help@fbcjeff.org
END:VEVENT
BEGIN:VEVENT
DTSTART;TZID=America/New_York:20301104T193000
DTEND;TZID=America/New_York:20301104T203000
DTSTAMP:20260420T091102
CREATED:20250717T192817Z
LAST-MODIFIED:20250717T192817Z
UID:10009971-1920051000-1920054600@www.fbcjeff.org
SUMMARY:Upper Room Ladies Bible Study
DESCRIPTION:
URL:https://www.fbcjeff.org/calendar/upper-room-ladies-bible-study/2030-11-04/
LOCATION:Zoom
ORGANIZER;CN="FBC Church Office":MAILTO:help@fbcjeff.org
END:VEVENT
BEGIN:VEVENT
DTSTART;TZID=America/New_York:20301111T193000
DTEND;TZID=America/New_York:20301111T203000
DTSTAMP:20260420T091102
CREATED:20250717T192817Z
LAST-MODIFIED:20250717T192817Z
UID:10009972-1920655800-1920659400@www.fbcjeff.org
SUMMARY:Upper Room Ladies Bible Study
DESCRIPTION:
URL:https://www.fbcjeff.org/calendar/upper-room-ladies-bible-study/2030-11-11/
LOCATION:Zoom
ORGANIZER;CN="FBC Church Office":MAILTO:help@fbcjeff.org
END:VEVENT
BEGIN:VEVENT
DTSTART;TZID=America/New_York:20301118T193000
DTEND;TZID=America/New_York:20301118T203000
DTSTAMP:20260420T091102
CREATED:20250717T192817Z
LAST-MODIFIED:20250717T192817Z
UID:10009973-1921260600-1921264200@www.fbcjeff.org
SUMMARY:Upper Room Ladies Bible Study
DESCRIPTION:
URL:https://www.fbcjeff.org/calendar/upper-room-ladies-bible-study/2030-11-18/
LOCATION:Zoom
ORGANIZER;CN="FBC Church Office":MAILTO:help@fbcjeff.org
END:VEVENT
BEGIN:VEVENT
DTSTART;TZID=America/New_York:20301125T193000
DTEND;TZID=America/New_York:20301125T203000
DTSTAMP:20260420T091102
CREATED:20250717T192817Z
LAST-MODIFIED:20250717T192817Z
UID:10009974-1921865400-1921869000@www.fbcjeff.org
SUMMARY:Upper Room Ladies Bible Study
DESCRIPTION:
URL:https://www.fbcjeff.org/calendar/upper-room-ladies-bible-study/2030-11-25/
LOCATION:Zoom
ORGANIZER;CN="FBC Church Office":MAILTO:help@fbcjeff.org
END:VEVENT
BEGIN:VEVENT
DTSTART;TZID=America/New_York:20301202T193000
DTEND;TZID=America/New_York:20301202T203000
DTSTAMP:20260420T091102
CREATED:20250717T192817Z
LAST-MODIFIED:20250717T192817Z
UID:10009975-1922470200-1922473800@www.fbcjeff.org
SUMMARY:Upper Room Ladies Bible Study
DESCRIPTION:
URL:https://www.fbcjeff.org/calendar/upper-room-ladies-bible-study/2030-12-02/
LOCATION:Zoom
ORGANIZER;CN="FBC Church Office":MAILTO:help@fbcjeff.org
END:VEVENT
BEGIN:VEVENT
DTSTART;TZID=America/New_York:20301209T193000
DTEND;TZID=America/New_York:20301209T203000
DTSTAMP:20260420T091102
CREATED:20250717T192817Z
LAST-MODIFIED:20250717T192817Z
UID:10009976-1923075000-1923078600@www.fbcjeff.org
SUMMARY:Upper Room Ladies Bible Study
DESCRIPTION:
URL:https://www.fbcjeff.org/calendar/upper-room-ladies-bible-study/2030-12-09/
LOCATION:Zoom
ORGANIZER;CN="FBC Church Office":MAILTO:help@fbcjeff.org
END:VEVENT
BEGIN:VEVENT
DTSTART;TZID=America/New_York:20301216T193000
DTEND;TZID=America/New_York:20301216T203000
DTSTAMP:20260420T091102
CREATED:20250717T192817Z
LAST-MODIFIED:20250717T192817Z
UID:10009977-1923679800-1923683400@www.fbcjeff.org
SUMMARY:Upper Room Ladies Bible Study
DESCRIPTION:
URL:https://www.fbcjeff.org/calendar/upper-room-ladies-bible-study/2030-12-16/
LOCATION:Zoom
ORGANIZER;CN="FBC Church Office":MAILTO:help@fbcjeff.org
END:VEVENT
BEGIN:VEVENT
DTSTART;TZID=America/New_York:20301223T193000
DTEND;TZID=America/New_York:20301223T203000
DTSTAMP:20260420T091102
CREATED:20250717T192817Z
LAST-MODIFIED:20250717T192817Z
UID:10009978-1924284600-1924288200@www.fbcjeff.org
SUMMARY:Upper Room Ladies Bible Study
DESCRIPTION:
URL:https://www.fbcjeff.org/calendar/upper-room-ladies-bible-study/2030-12-23/
LOCATION:Zoom
ORGANIZER;CN="FBC Church Office":MAILTO:help@fbcjeff.org
END:VEVENT
BEGIN:VEVENT
DTSTART;TZID=America/New_York:20301230T193000
DTEND;TZID=America/New_York:20301230T203000
DTSTAMP:20260420T091102
CREATED:20250717T192817Z
LAST-MODIFIED:20250717T192817Z
UID:10009979-1924889400-1924893000@www.fbcjeff.org
SUMMARY:Upper Room Ladies Bible Study
DESCRIPTION:
URL:https://www.fbcjeff.org/calendar/upper-room-ladies-bible-study/2030-12-30/
LOCATION:Zoom
ORGANIZER;CN="FBC Church Office":MAILTO:help@fbcjeff.org
END:VEVENT
BEGIN:VEVENT
DTSTART;TZID=America/New_York:20310106T193000
DTEND;TZID=America/New_York:20310106T203000
DTSTAMP:20260420T091102
CREATED:20250717T192817Z
LAST-MODIFIED:20250717T192817Z
UID:10009980-1925494200-1925497800@www.fbcjeff.org
SUMMARY:Upper Room Ladies Bible Study
DESCRIPTION:
URL:https://www.fbcjeff.org/calendar/upper-room-ladies-bible-study/2031-01-06/
LOCATION:Zoom
ORGANIZER;CN="FBC Church Office":MAILTO:help@fbcjeff.org
END:VEVENT
BEGIN:VEVENT
DTSTART;TZID=America/New_York:20310113T193000
DTEND;TZID=America/New_York:20310113T203000
DTSTAMP:20260420T091102
CREATED:20250717T192817Z
LAST-MODIFIED:20250717T192817Z
UID:10009981-1926099000-1926102600@www.fbcjeff.org
SUMMARY:Upper Room Ladies Bible Study
DESCRIPTION:
URL:https://www.fbcjeff.org/calendar/upper-room-ladies-bible-study/2031-01-13/
LOCATION:Zoom
ORGANIZER;CN="FBC Church Office":MAILTO:help@fbcjeff.org
END:VEVENT
BEGIN:VEVENT
DTSTART;TZID=America/New_York:20310120T193000
DTEND;TZID=America/New_York:20310120T203000
DTSTAMP:20260420T091102
CREATED:20250717T192817Z
LAST-MODIFIED:20250717T192817Z
UID:10009982-1926703800-1926707400@www.fbcjeff.org
SUMMARY:Upper Room Ladies Bible Study
DESCRIPTION:
URL:https://www.fbcjeff.org/calendar/upper-room-ladies-bible-study/2031-01-20/
LOCATION:Zoom
ORGANIZER;CN="FBC Church Office":MAILTO:help@fbcjeff.org
END:VEVENT
BEGIN:VEVENT
DTSTART;TZID=America/New_York:20310127T193000
DTEND;TZID=America/New_York:20310127T203000
DTSTAMP:20260420T091102
CREATED:20250717T192817Z
LAST-MODIFIED:20250717T192817Z
UID:10010082-1927308600-1927312200@www.fbcjeff.org
SUMMARY:Upper Room Ladies Bible Study
DESCRIPTION:
URL:https://www.fbcjeff.org/calendar/upper-room-ladies-bible-study/2031-01-27/
LOCATION:Zoom
ORGANIZER;CN="FBC Church Office":MAILTO:help@fbcjeff.org
END:VEVENT
BEGIN:VEVENT
DTSTART;TZID=America/New_York:20310203T193000
DTEND;TZID=America/New_York:20310203T203000
DTSTAMP:20260420T091102
CREATED:20250717T192817Z
LAST-MODIFIED:20250717T192817Z
UID:10010093-1927913400-1927917000@www.fbcjeff.org
SUMMARY:Upper Room Ladies Bible Study
DESCRIPTION:
URL:https://www.fbcjeff.org/calendar/upper-room-ladies-bible-study/2031-02-03/
LOCATION:Zoom
ORGANIZER;CN="FBC Church Office":MAILTO:help@fbcjeff.org
END:VEVENT
BEGIN:VEVENT
DTSTART;TZID=America/New_York:20310210T193000
DTEND;TZID=America/New_York:20310210T203000
DTSTAMP:20260420T091102
CREATED:20250717T192817Z
LAST-MODIFIED:20250717T192817Z
UID:10010107-1928518200-1928521800@www.fbcjeff.org
SUMMARY:Upper Room Ladies Bible Study
DESCRIPTION:
URL:https://www.fbcjeff.org/calendar/upper-room-ladies-bible-study/2031-02-10/
LOCATION:Zoom
ORGANIZER;CN="FBC Church Office":MAILTO:help@fbcjeff.org
END:VEVENT
BEGIN:VEVENT
DTSTART;TZID=America/New_York:20310217T193000
DTEND;TZID=America/New_York:20310217T203000
DTSTAMP:20260420T091102
CREATED:20250717T192817Z
LAST-MODIFIED:20250717T192817Z
UID:10010120-1929123000-1929126600@www.fbcjeff.org
SUMMARY:Upper Room Ladies Bible Study
DESCRIPTION:
URL:https://www.fbcjeff.org/calendar/upper-room-ladies-bible-study/2031-02-17/
LOCATION:Zoom
ORGANIZER;CN="FBC Church Office":MAILTO:help@fbcjeff.org
END:VEVENT
BEGIN:VEVENT
DTSTART;TZID=America/New_York:20310224T193000
DTEND;TZID=America/New_York:20310224T203000
DTSTAMP:20260420T091102
CREATED:20250717T192817Z
LAST-MODIFIED:20250717T192817Z
UID:10010132-1929727800-1929731400@www.fbcjeff.org
SUMMARY:Upper Room Ladies Bible Study
DESCRIPTION:
URL:https://www.fbcjeff.org/calendar/upper-room-ladies-bible-study/2031-02-24/
LOCATION:Zoom
ORGANIZER;CN="FBC Church Office":MAILTO:help@fbcjeff.org
END:VEVENT
BEGIN:VEVENT
DTSTART;TZID=America/New_York:20310303T193000
DTEND;TZID=America/New_York:20310303T203000
DTSTAMP:20260420T091102
CREATED:20250717T192817Z
LAST-MODIFIED:20250717T192817Z
UID:10010143-1930332600-1930336200@www.fbcjeff.org
SUMMARY:Upper Room Ladies Bible Study
DESCRIPTION:
URL:https://www.fbcjeff.org/calendar/upper-room-ladies-bible-study/2031-03-03/
LOCATION:Zoom
ORGANIZER;CN="FBC Church Office":MAILTO:help@fbcjeff.org
END:VEVENT
BEGIN:VEVENT
DTSTART;TZID=America/New_York:20310310T193000
DTEND;TZID=America/New_York:20310310T203000
DTSTAMP:20260420T091102
CREATED:20250717T192817Z
LAST-MODIFIED:20250717T192817Z
UID:10010157-1930937400-1930941000@www.fbcjeff.org
SUMMARY:Upper Room Ladies Bible Study
DESCRIPTION:
URL:https://www.fbcjeff.org/calendar/upper-room-ladies-bible-study/2031-03-10/
LOCATION:Zoom
ORGANIZER;CN="FBC Church Office":MAILTO:help@fbcjeff.org
END:VEVENT
BEGIN:VEVENT
DTSTART;TZID=America/New_York:20310317T193000
DTEND;TZID=America/New_York:20310317T203000
DTSTAMP:20260420T091102
CREATED:20250717T192817Z
LAST-MODIFIED:20250717T192817Z
UID:10010196-1931542200-1931545800@www.fbcjeff.org
SUMMARY:Upper Room Ladies Bible Study
DESCRIPTION:
URL:https://www.fbcjeff.org/calendar/upper-room-ladies-bible-study/2031-03-17/
LOCATION:Zoom
ORGANIZER;CN="FBC Church Office":MAILTO:help@fbcjeff.org
END:VEVENT
BEGIN:VEVENT
DTSTART;TZID=America/New_York:20310324T193000
DTEND;TZID=America/New_York:20310324T203000
DTSTAMP:20260420T091102
CREATED:20250717T192817Z
LAST-MODIFIED:20250717T192817Z
UID:10010209-1932147000-1932150600@www.fbcjeff.org
SUMMARY:Upper Room Ladies Bible Study
DESCRIPTION:
URL:https://www.fbcjeff.org/calendar/upper-room-ladies-bible-study/2031-03-24/
LOCATION:Zoom
ORGANIZER;CN="FBC Church Office":MAILTO:help@fbcjeff.org
END:VEVENT
END:VCALENDAR