BEGIN:VCALENDAR
VERSION:2.0
PRODID:-//First Baptist Church, Jefferson City, TN - ECPv6.15.20//NONSGML v1.0//EN
CALSCALE:GREGORIAN
METHOD:PUBLISH
X-ORIGINAL-URL:https://www.fbcjeff.org
X-WR-CALDESC:Events for First Baptist Church, Jefferson City, TN
REFRESH-INTERVAL;VALUE=DURATION:PT1H
X-Robots-Tag:noindex
X-PUBLISHED-TTL:PT1H
BEGIN:VTIMEZONE
TZID:America/New_York
BEGIN:DAYLIGHT
TZOFFSETFROM:-0500
TZOFFSETTO:-0400
TZNAME:EDT
DTSTART:20260308T070000
END:DAYLIGHT
BEGIN:STANDARD
TZOFFSETFROM:-0400
TZOFFSETTO:-0500
TZNAME:EST
DTSTART:20261101T060000
END:STANDARD
BEGIN:DAYLIGHT
TZOFFSETFROM:-0500
TZOFFSETTO:-0400
TZNAME:EDT
DTSTART:20270314T070000
END:DAYLIGHT
BEGIN:STANDARD
TZOFFSETFROM:-0400
TZOFFSETTO:-0500
TZNAME:EST
DTSTART:20271107T060000
END:STANDARD
BEGIN:DAYLIGHT
TZOFFSETFROM:-0500
TZOFFSETTO:-0400
TZNAME:EDT
DTSTART:20280312T070000
END:DAYLIGHT
BEGIN:STANDARD
TZOFFSETFROM:-0400
TZOFFSETTO:-0500
TZNAME:EST
DTSTART:20281105T060000
END:STANDARD
BEGIN:DAYLIGHT
TZOFFSETFROM:-0500
TZOFFSETTO:-0400
TZNAME:EDT
DTSTART:20290311T070000
END:DAYLIGHT
BEGIN:STANDARD
TZOFFSETFROM:-0400
TZOFFSETTO:-0500
TZNAME:EST
DTSTART:20291104T060000
END:STANDARD
END:VTIMEZONE
BEGIN:VEVENT
DTSTART;TZID=America/New_York:20270906T193000
DTEND;TZID=America/New_York:20270906T203000
DTSTAMP:20260419T113753
CREATED:20250717T192817Z
LAST-MODIFIED:20250717T192817Z
UID:10006691-1820259000-1820262600@www.fbcjeff.org
SUMMARY:Upper Room Ladies Bible Study
DESCRIPTION:
URL:https://www.fbcjeff.org/calendar/upper-room-ladies-bible-study/2027-09-06/
LOCATION:Zoom
ORGANIZER;CN="FBC Church Office":MAILTO:help@fbcjeff.org
END:VEVENT
BEGIN:VEVENT
DTSTART;TZID=America/New_York:20270913T193000
DTEND;TZID=America/New_York:20270913T203000
DTSTAMP:20260419T113753
CREATED:20250717T192817Z
LAST-MODIFIED:20250717T192817Z
UID:10006692-1820863800-1820867400@www.fbcjeff.org
SUMMARY:Upper Room Ladies Bible Study
DESCRIPTION:
URL:https://www.fbcjeff.org/calendar/upper-room-ladies-bible-study/2027-09-13/
LOCATION:Zoom
ORGANIZER;CN="FBC Church Office":MAILTO:help@fbcjeff.org
END:VEVENT
BEGIN:VEVENT
DTSTART;TZID=America/New_York:20270920T193000
DTEND;TZID=America/New_York:20270920T203000
DTSTAMP:20260419T113753
CREATED:20250717T192817Z
LAST-MODIFIED:20250717T192817Z
UID:10006693-1821468600-1821472200@www.fbcjeff.org
SUMMARY:Upper Room Ladies Bible Study
DESCRIPTION:
URL:https://www.fbcjeff.org/calendar/upper-room-ladies-bible-study/2027-09-20/
LOCATION:Zoom
ORGANIZER;CN="FBC Church Office":MAILTO:help@fbcjeff.org
END:VEVENT
BEGIN:VEVENT
DTSTART;TZID=America/New_York:20270927T193000
DTEND;TZID=America/New_York:20270927T203000
DTSTAMP:20260419T113753
CREATED:20250717T192817Z
LAST-MODIFIED:20250717T192817Z
UID:10006694-1822073400-1822077000@www.fbcjeff.org
SUMMARY:Upper Room Ladies Bible Study
DESCRIPTION:
URL:https://www.fbcjeff.org/calendar/upper-room-ladies-bible-study/2027-09-27/
LOCATION:Zoom
ORGANIZER;CN="FBC Church Office":MAILTO:help@fbcjeff.org
END:VEVENT
BEGIN:VEVENT
DTSTART;TZID=America/New_York:20271004T193000
DTEND;TZID=America/New_York:20271004T203000
DTSTAMP:20260419T113753
CREATED:20250717T192817Z
LAST-MODIFIED:20250717T192817Z
UID:10006695-1822678200-1822681800@www.fbcjeff.org
SUMMARY:Upper Room Ladies Bible Study
DESCRIPTION:
URL:https://www.fbcjeff.org/calendar/upper-room-ladies-bible-study/2027-10-04/
LOCATION:Zoom
ORGANIZER;CN="FBC Church Office":MAILTO:help@fbcjeff.org
END:VEVENT
BEGIN:VEVENT
DTSTART;TZID=America/New_York:20271011T193000
DTEND;TZID=America/New_York:20271011T203000
DTSTAMP:20260419T113753
CREATED:20250717T192817Z
LAST-MODIFIED:20250717T192817Z
UID:10006696-1823283000-1823286600@www.fbcjeff.org
SUMMARY:Upper Room Ladies Bible Study
DESCRIPTION:
URL:https://www.fbcjeff.org/calendar/upper-room-ladies-bible-study/2027-10-11/
LOCATION:Zoom
ORGANIZER;CN="FBC Church Office":MAILTO:help@fbcjeff.org
END:VEVENT
BEGIN:VEVENT
DTSTART;TZID=America/New_York:20271018T193000
DTEND;TZID=America/New_York:20271018T203000
DTSTAMP:20260419T113753
CREATED:20250717T192817Z
LAST-MODIFIED:20250717T192817Z
UID:10006697-1823887800-1823891400@www.fbcjeff.org
SUMMARY:Upper Room Ladies Bible Study
DESCRIPTION:
URL:https://www.fbcjeff.org/calendar/upper-room-ladies-bible-study/2027-10-18/
LOCATION:Zoom
ORGANIZER;CN="FBC Church Office":MAILTO:help@fbcjeff.org
END:VEVENT
BEGIN:VEVENT
DTSTART;TZID=America/New_York:20271025T193000
DTEND;TZID=America/New_York:20271025T203000
DTSTAMP:20260419T113753
CREATED:20250717T192817Z
LAST-MODIFIED:20250717T192817Z
UID:10006698-1824492600-1824496200@www.fbcjeff.org
SUMMARY:Upper Room Ladies Bible Study
DESCRIPTION:
URL:https://www.fbcjeff.org/calendar/upper-room-ladies-bible-study/2027-10-25/
LOCATION:Zoom
ORGANIZER;CN="FBC Church Office":MAILTO:help@fbcjeff.org
END:VEVENT
BEGIN:VEVENT
DTSTART;TZID=America/New_York:20271101T193000
DTEND;TZID=America/New_York:20271101T203000
DTSTAMP:20260419T113753
CREATED:20250717T192817Z
LAST-MODIFIED:20250717T192817Z
UID:10006699-1825097400-1825101000@www.fbcjeff.org
SUMMARY:Upper Room Ladies Bible Study
DESCRIPTION:
URL:https://www.fbcjeff.org/calendar/upper-room-ladies-bible-study/2027-11-01/
LOCATION:Zoom
ORGANIZER;CN="FBC Church Office":MAILTO:help@fbcjeff.org
END:VEVENT
BEGIN:VEVENT
DTSTART;TZID=America/New_York:20271108T193000
DTEND;TZID=America/New_York:20271108T203000
DTSTAMP:20260419T113753
CREATED:20250717T192817Z
LAST-MODIFIED:20250717T192817Z
UID:10006700-1825702200-1825705800@www.fbcjeff.org
SUMMARY:Upper Room Ladies Bible Study
DESCRIPTION:
URL:https://www.fbcjeff.org/calendar/upper-room-ladies-bible-study/2027-11-08/
LOCATION:Zoom
ORGANIZER;CN="FBC Church Office":MAILTO:help@fbcjeff.org
END:VEVENT
BEGIN:VEVENT
DTSTART;TZID=America/New_York:20271115T193000
DTEND;TZID=America/New_York:20271115T203000
DTSTAMP:20260419T113753
CREATED:20250717T192817Z
LAST-MODIFIED:20250717T192817Z
UID:10006701-1826307000-1826310600@www.fbcjeff.org
SUMMARY:Upper Room Ladies Bible Study
DESCRIPTION:
URL:https://www.fbcjeff.org/calendar/upper-room-ladies-bible-study/2027-11-15/
LOCATION:Zoom
ORGANIZER;CN="FBC Church Office":MAILTO:help@fbcjeff.org
END:VEVENT
BEGIN:VEVENT
DTSTART;TZID=America/New_York:20271122T193000
DTEND;TZID=America/New_York:20271122T203000
DTSTAMP:20260419T113753
CREATED:20250717T192817Z
LAST-MODIFIED:20250717T192817Z
UID:10006702-1826911800-1826915400@www.fbcjeff.org
SUMMARY:Upper Room Ladies Bible Study
DESCRIPTION:
URL:https://www.fbcjeff.org/calendar/upper-room-ladies-bible-study/2027-11-22/
LOCATION:Zoom
ORGANIZER;CN="FBC Church Office":MAILTO:help@fbcjeff.org
END:VEVENT
BEGIN:VEVENT
DTSTART;TZID=America/New_York:20271129T193000
DTEND;TZID=America/New_York:20271129T203000
DTSTAMP:20260419T113753
CREATED:20250717T192817Z
LAST-MODIFIED:20250717T192817Z
UID:10006703-1827516600-1827520200@www.fbcjeff.org
SUMMARY:Upper Room Ladies Bible Study
DESCRIPTION:
URL:https://www.fbcjeff.org/calendar/upper-room-ladies-bible-study/2027-11-29/
LOCATION:Zoom
ORGANIZER;CN="FBC Church Office":MAILTO:help@fbcjeff.org
END:VEVENT
BEGIN:VEVENT
DTSTART;TZID=America/New_York:20271206T193000
DTEND;TZID=America/New_York:20271206T203000
DTSTAMP:20260419T113753
CREATED:20250717T192817Z
LAST-MODIFIED:20250717T192817Z
UID:10006704-1828121400-1828125000@www.fbcjeff.org
SUMMARY:Upper Room Ladies Bible Study
DESCRIPTION:
URL:https://www.fbcjeff.org/calendar/upper-room-ladies-bible-study/2027-12-06/
LOCATION:Zoom
ORGANIZER;CN="FBC Church Office":MAILTO:help@fbcjeff.org
END:VEVENT
BEGIN:VEVENT
DTSTART;TZID=America/New_York:20271213T193000
DTEND;TZID=America/New_York:20271213T203000
DTSTAMP:20260419T113753
CREATED:20250717T192817Z
LAST-MODIFIED:20250717T192817Z
UID:10006705-1828726200-1828729800@www.fbcjeff.org
SUMMARY:Upper Room Ladies Bible Study
DESCRIPTION:
URL:https://www.fbcjeff.org/calendar/upper-room-ladies-bible-study/2027-12-13/
LOCATION:Zoom
ORGANIZER;CN="FBC Church Office":MAILTO:help@fbcjeff.org
END:VEVENT
BEGIN:VEVENT
DTSTART;TZID=America/New_York:20271220T193000
DTEND;TZID=America/New_York:20271220T203000
DTSTAMP:20260419T113753
CREATED:20250717T192817Z
LAST-MODIFIED:20250717T192817Z
UID:10006706-1829331000-1829334600@www.fbcjeff.org
SUMMARY:Upper Room Ladies Bible Study
DESCRIPTION:
URL:https://www.fbcjeff.org/calendar/upper-room-ladies-bible-study/2027-12-20/
LOCATION:Zoom
ORGANIZER;CN="FBC Church Office":MAILTO:help@fbcjeff.org
END:VEVENT
BEGIN:VEVENT
DTSTART;TZID=America/New_York:20271227T193000
DTEND;TZID=America/New_York:20271227T203000
DTSTAMP:20260419T113753
CREATED:20250717T192817Z
LAST-MODIFIED:20250717T192817Z
UID:10006707-1829935800-1829939400@www.fbcjeff.org
SUMMARY:Upper Room Ladies Bible Study
DESCRIPTION:
URL:https://www.fbcjeff.org/calendar/upper-room-ladies-bible-study/2027-12-27/
LOCATION:Zoom
ORGANIZER;CN="FBC Church Office":MAILTO:help@fbcjeff.org
END:VEVENT
BEGIN:VEVENT
DTSTART;TZID=America/New_York:20280103T193000
DTEND;TZID=America/New_York:20280103T203000
DTSTAMP:20260419T113753
CREATED:20250717T192817Z
LAST-MODIFIED:20250717T192817Z
UID:10006708-1830540600-1830544200@www.fbcjeff.org
SUMMARY:Upper Room Ladies Bible Study
DESCRIPTION:
URL:https://www.fbcjeff.org/calendar/upper-room-ladies-bible-study/2028-01-03/
LOCATION:Zoom
ORGANIZER;CN="FBC Church Office":MAILTO:help@fbcjeff.org
END:VEVENT
BEGIN:VEVENT
DTSTART;TZID=America/New_York:20280110T193000
DTEND;TZID=America/New_York:20280110T203000
DTSTAMP:20260419T113753
CREATED:20250717T192817Z
LAST-MODIFIED:20250717T192817Z
UID:10006709-1831145400-1831149000@www.fbcjeff.org
SUMMARY:Upper Room Ladies Bible Study
DESCRIPTION:
URL:https://www.fbcjeff.org/calendar/upper-room-ladies-bible-study/2028-01-10/
LOCATION:Zoom
ORGANIZER;CN="FBC Church Office":MAILTO:help@fbcjeff.org
END:VEVENT
BEGIN:VEVENT
DTSTART;TZID=America/New_York:20280117T193000
DTEND;TZID=America/New_York:20280117T203000
DTSTAMP:20260419T113753
CREATED:20250717T192817Z
LAST-MODIFIED:20250717T192817Z
UID:10006710-1831750200-1831753800@www.fbcjeff.org
SUMMARY:Upper Room Ladies Bible Study
DESCRIPTION:
URL:https://www.fbcjeff.org/calendar/upper-room-ladies-bible-study/2028-01-17/
LOCATION:Zoom
ORGANIZER;CN="FBC Church Office":MAILTO:help@fbcjeff.org
END:VEVENT
BEGIN:VEVENT
DTSTART;TZID=America/New_York:20280124T193000
DTEND;TZID=America/New_York:20280124T203000
DTSTAMP:20260419T113753
CREATED:20250717T192817Z
LAST-MODIFIED:20250717T192817Z
UID:10006711-1832355000-1832358600@www.fbcjeff.org
SUMMARY:Upper Room Ladies Bible Study
DESCRIPTION:
URL:https://www.fbcjeff.org/calendar/upper-room-ladies-bible-study/2028-01-24/
LOCATION:Zoom
ORGANIZER;CN="FBC Church Office":MAILTO:help@fbcjeff.org
END:VEVENT
BEGIN:VEVENT
DTSTART;TZID=America/New_York:20280131T193000
DTEND;TZID=America/New_York:20280131T203000
DTSTAMP:20260419T113753
CREATED:20250717T192817Z
LAST-MODIFIED:20250717T192817Z
UID:10006712-1832959800-1832963400@www.fbcjeff.org
SUMMARY:Upper Room Ladies Bible Study
DESCRIPTION:
URL:https://www.fbcjeff.org/calendar/upper-room-ladies-bible-study/2028-01-31/
LOCATION:Zoom
ORGANIZER;CN="FBC Church Office":MAILTO:help@fbcjeff.org
END:VEVENT
BEGIN:VEVENT
DTSTART;TZID=America/New_York:20280207T193000
DTEND;TZID=America/New_York:20280207T203000
DTSTAMP:20260419T113753
CREATED:20250717T192817Z
LAST-MODIFIED:20250717T192817Z
UID:10006713-1833564600-1833568200@www.fbcjeff.org
SUMMARY:Upper Room Ladies Bible Study
DESCRIPTION:
URL:https://www.fbcjeff.org/calendar/upper-room-ladies-bible-study/2028-02-07/
LOCATION:Zoom
ORGANIZER;CN="FBC Church Office":MAILTO:help@fbcjeff.org
END:VEVENT
BEGIN:VEVENT
DTSTART;TZID=America/New_York:20280214T193000
DTEND;TZID=America/New_York:20280214T203000
DTSTAMP:20260419T113753
CREATED:20250717T192817Z
LAST-MODIFIED:20250717T192817Z
UID:10006714-1834169400-1834173000@www.fbcjeff.org
SUMMARY:Upper Room Ladies Bible Study
DESCRIPTION:
URL:https://www.fbcjeff.org/calendar/upper-room-ladies-bible-study/2028-02-14/
LOCATION:Zoom
ORGANIZER;CN="FBC Church Office":MAILTO:help@fbcjeff.org
END:VEVENT
BEGIN:VEVENT
DTSTART;TZID=America/New_York:20280221T193000
DTEND;TZID=America/New_York:20280221T203000
DTSTAMP:20260419T113753
CREATED:20250717T192817Z
LAST-MODIFIED:20250717T192817Z
UID:10006715-1834774200-1834777800@www.fbcjeff.org
SUMMARY:Upper Room Ladies Bible Study
DESCRIPTION:
URL:https://www.fbcjeff.org/calendar/upper-room-ladies-bible-study/2028-02-21/
LOCATION:Zoom
ORGANIZER;CN="FBC Church Office":MAILTO:help@fbcjeff.org
END:VEVENT
BEGIN:VEVENT
DTSTART;TZID=America/New_York:20280228T193000
DTEND;TZID=America/New_York:20280228T203000
DTSTAMP:20260419T113753
CREATED:20250717T192817Z
LAST-MODIFIED:20250717T192817Z
UID:10006716-1835379000-1835382600@www.fbcjeff.org
SUMMARY:Upper Room Ladies Bible Study
DESCRIPTION:
URL:https://www.fbcjeff.org/calendar/upper-room-ladies-bible-study/2028-02-28/
LOCATION:Zoom
ORGANIZER;CN="FBC Church Office":MAILTO:help@fbcjeff.org
END:VEVENT
BEGIN:VEVENT
DTSTART;TZID=America/New_York:20280306T193000
DTEND;TZID=America/New_York:20280306T203000
DTSTAMP:20260419T113753
CREATED:20250717T192817Z
LAST-MODIFIED:20250717T192817Z
UID:10006717-1835983800-1835987400@www.fbcjeff.org
SUMMARY:Upper Room Ladies Bible Study
DESCRIPTION:
URL:https://www.fbcjeff.org/calendar/upper-room-ladies-bible-study/2028-03-06/
LOCATION:Zoom
ORGANIZER;CN="FBC Church Office":MAILTO:help@fbcjeff.org
END:VEVENT
BEGIN:VEVENT
DTSTART;TZID=America/New_York:20280313T193000
DTEND;TZID=America/New_York:20280313T203000
DTSTAMP:20260419T113753
CREATED:20250717T192817Z
LAST-MODIFIED:20250717T192817Z
UID:10006718-1836588600-1836592200@www.fbcjeff.org
SUMMARY:Upper Room Ladies Bible Study
DESCRIPTION:
URL:https://www.fbcjeff.org/calendar/upper-room-ladies-bible-study/2028-03-13/
LOCATION:Zoom
ORGANIZER;CN="FBC Church Office":MAILTO:help@fbcjeff.org
END:VEVENT
BEGIN:VEVENT
DTSTART;TZID=America/New_York:20280320T193000
DTEND;TZID=America/New_York:20280320T203000
DTSTAMP:20260419T113753
CREATED:20250717T192817Z
LAST-MODIFIED:20250717T192817Z
UID:10006719-1837193400-1837197000@www.fbcjeff.org
SUMMARY:Upper Room Ladies Bible Study
DESCRIPTION:
URL:https://www.fbcjeff.org/calendar/upper-room-ladies-bible-study/2028-03-20/
LOCATION:Zoom
ORGANIZER;CN="FBC Church Office":MAILTO:help@fbcjeff.org
END:VEVENT
BEGIN:VEVENT
DTSTART;TZID=America/New_York:20280327T193000
DTEND;TZID=America/New_York:20280327T203000
DTSTAMP:20260419T113753
CREATED:20250717T192817Z
LAST-MODIFIED:20250717T192817Z
UID:10006720-1837798200-1837801800@www.fbcjeff.org
SUMMARY:Upper Room Ladies Bible Study
DESCRIPTION:
URL:https://www.fbcjeff.org/calendar/upper-room-ladies-bible-study/2028-03-27/
LOCATION:Zoom
ORGANIZER;CN="FBC Church Office":MAILTO:help@fbcjeff.org
END:VEVENT
END:VCALENDAR