BEGIN:VCALENDAR
VERSION:2.0
PRODID:-//First Baptist Church, Jefferson City, TN - ECPv6.15.20//NONSGML v1.0//EN
CALSCALE:GREGORIAN
METHOD:PUBLISH
X-ORIGINAL-URL:https://www.fbcjeff.org
X-WR-CALDESC:Events for First Baptist Church, Jefferson City, TN
REFRESH-INTERVAL;VALUE=DURATION:PT1H
X-Robots-Tag:noindex
X-PUBLISHED-TTL:PT1H
BEGIN:VTIMEZONE
TZID:America/New_York
BEGIN:DAYLIGHT
TZOFFSETFROM:-0500
TZOFFSETTO:-0400
TZNAME:EDT
DTSTART:20270314T070000
END:DAYLIGHT
BEGIN:STANDARD
TZOFFSETFROM:-0400
TZOFFSETTO:-0500
TZNAME:EST
DTSTART:20271107T060000
END:STANDARD
BEGIN:DAYLIGHT
TZOFFSETFROM:-0500
TZOFFSETTO:-0400
TZNAME:EDT
DTSTART:20280312T070000
END:DAYLIGHT
BEGIN:STANDARD
TZOFFSETFROM:-0400
TZOFFSETTO:-0500
TZNAME:EST
DTSTART:20281105T060000
END:STANDARD
BEGIN:DAYLIGHT
TZOFFSETFROM:-0500
TZOFFSETTO:-0400
TZNAME:EDT
DTSTART:20290311T070000
END:DAYLIGHT
BEGIN:STANDARD
TZOFFSETFROM:-0400
TZOFFSETTO:-0500
TZNAME:EST
DTSTART:20291104T060000
END:STANDARD
END:VTIMEZONE
BEGIN:VEVENT
DTSTART;TZID=America/New_York:20280221T193000
DTEND;TZID=America/New_York:20280221T203000
DTSTAMP:20260419T153634
CREATED:20250717T192817Z
LAST-MODIFIED:20250717T192817Z
UID:10006715-1834774200-1834777800@www.fbcjeff.org
SUMMARY:Upper Room Ladies Bible Study
DESCRIPTION:
URL:https://www.fbcjeff.org/calendar/upper-room-ladies-bible-study/2028-02-21/
LOCATION:Zoom
ORGANIZER;CN="FBC Church Office":MAILTO:help@fbcjeff.org
END:VEVENT
BEGIN:VEVENT
DTSTART;TZID=America/New_York:20280228T193000
DTEND;TZID=America/New_York:20280228T203000
DTSTAMP:20260419T153634
CREATED:20250717T192817Z
LAST-MODIFIED:20250717T192817Z
UID:10006716-1835379000-1835382600@www.fbcjeff.org
SUMMARY:Upper Room Ladies Bible Study
DESCRIPTION:
URL:https://www.fbcjeff.org/calendar/upper-room-ladies-bible-study/2028-02-28/
LOCATION:Zoom
ORGANIZER;CN="FBC Church Office":MAILTO:help@fbcjeff.org
END:VEVENT
BEGIN:VEVENT
DTSTART;TZID=America/New_York:20280306T193000
DTEND;TZID=America/New_York:20280306T203000
DTSTAMP:20260419T153634
CREATED:20250717T192817Z
LAST-MODIFIED:20250717T192817Z
UID:10006717-1835983800-1835987400@www.fbcjeff.org
SUMMARY:Upper Room Ladies Bible Study
DESCRIPTION:
URL:https://www.fbcjeff.org/calendar/upper-room-ladies-bible-study/2028-03-06/
LOCATION:Zoom
ORGANIZER;CN="FBC Church Office":MAILTO:help@fbcjeff.org
END:VEVENT
BEGIN:VEVENT
DTSTART;TZID=America/New_York:20280313T193000
DTEND;TZID=America/New_York:20280313T203000
DTSTAMP:20260419T153635
CREATED:20250717T192817Z
LAST-MODIFIED:20250717T192817Z
UID:10006718-1836588600-1836592200@www.fbcjeff.org
SUMMARY:Upper Room Ladies Bible Study
DESCRIPTION:
URL:https://www.fbcjeff.org/calendar/upper-room-ladies-bible-study/2028-03-13/
LOCATION:Zoom
ORGANIZER;CN="FBC Church Office":MAILTO:help@fbcjeff.org
END:VEVENT
BEGIN:VEVENT
DTSTART;TZID=America/New_York:20280320T193000
DTEND;TZID=America/New_York:20280320T203000
DTSTAMP:20260419T153635
CREATED:20250717T192817Z
LAST-MODIFIED:20250717T192817Z
UID:10006719-1837193400-1837197000@www.fbcjeff.org
SUMMARY:Upper Room Ladies Bible Study
DESCRIPTION:
URL:https://www.fbcjeff.org/calendar/upper-room-ladies-bible-study/2028-03-20/
LOCATION:Zoom
ORGANIZER;CN="FBC Church Office":MAILTO:help@fbcjeff.org
END:VEVENT
BEGIN:VEVENT
DTSTART;TZID=America/New_York:20280327T193000
DTEND;TZID=America/New_York:20280327T203000
DTSTAMP:20260419T153635
CREATED:20250717T192817Z
LAST-MODIFIED:20250717T192817Z
UID:10006720-1837798200-1837801800@www.fbcjeff.org
SUMMARY:Upper Room Ladies Bible Study
DESCRIPTION:
URL:https://www.fbcjeff.org/calendar/upper-room-ladies-bible-study/2028-03-27/
LOCATION:Zoom
ORGANIZER;CN="FBC Church Office":MAILTO:help@fbcjeff.org
END:VEVENT
BEGIN:VEVENT
DTSTART;TZID=America/New_York:20280403T193000
DTEND;TZID=America/New_York:20280403T203000
DTSTAMP:20260419T153635
CREATED:20250717T192817Z
LAST-MODIFIED:20250717T192817Z
UID:10006721-1838403000-1838406600@www.fbcjeff.org
SUMMARY:Upper Room Ladies Bible Study
DESCRIPTION:
URL:https://www.fbcjeff.org/calendar/upper-room-ladies-bible-study/2028-04-03/
LOCATION:Zoom
ORGANIZER;CN="FBC Church Office":MAILTO:help@fbcjeff.org
END:VEVENT
BEGIN:VEVENT
DTSTART;TZID=America/New_York:20280410T193000
DTEND;TZID=America/New_York:20280410T203000
DTSTAMP:20260419T153635
CREATED:20250717T192817Z
LAST-MODIFIED:20250717T192817Z
UID:10006722-1839007800-1839011400@www.fbcjeff.org
SUMMARY:Upper Room Ladies Bible Study
DESCRIPTION:
URL:https://www.fbcjeff.org/calendar/upper-room-ladies-bible-study/2028-04-10/
LOCATION:Zoom
ORGANIZER;CN="FBC Church Office":MAILTO:help@fbcjeff.org
END:VEVENT
BEGIN:VEVENT
DTSTART;TZID=America/New_York:20280417T193000
DTEND;TZID=America/New_York:20280417T203000
DTSTAMP:20260419T153635
CREATED:20250717T192817Z
LAST-MODIFIED:20250717T192817Z
UID:10006723-1839612600-1839616200@www.fbcjeff.org
SUMMARY:Upper Room Ladies Bible Study
DESCRIPTION:
URL:https://www.fbcjeff.org/calendar/upper-room-ladies-bible-study/2028-04-17/
LOCATION:Zoom
ORGANIZER;CN="FBC Church Office":MAILTO:help@fbcjeff.org
END:VEVENT
BEGIN:VEVENT
DTSTART;TZID=America/New_York:20280424T193000
DTEND;TZID=America/New_York:20280424T203000
DTSTAMP:20260419T153635
CREATED:20250717T192817Z
LAST-MODIFIED:20250717T192817Z
UID:10006724-1840217400-1840221000@www.fbcjeff.org
SUMMARY:Upper Room Ladies Bible Study
DESCRIPTION:
URL:https://www.fbcjeff.org/calendar/upper-room-ladies-bible-study/2028-04-24/
LOCATION:Zoom
ORGANIZER;CN="FBC Church Office":MAILTO:help@fbcjeff.org
END:VEVENT
BEGIN:VEVENT
DTSTART;TZID=America/New_York:20280501T193000
DTEND;TZID=America/New_York:20280501T203000
DTSTAMP:20260419T153635
CREATED:20250717T192817Z
LAST-MODIFIED:20250717T192817Z
UID:10006725-1840822200-1840825800@www.fbcjeff.org
SUMMARY:Upper Room Ladies Bible Study
DESCRIPTION:
URL:https://www.fbcjeff.org/calendar/upper-room-ladies-bible-study/2028-05-01/
LOCATION:Zoom
ORGANIZER;CN="FBC Church Office":MAILTO:help@fbcjeff.org
END:VEVENT
BEGIN:VEVENT
DTSTART;TZID=America/New_York:20280508T193000
DTEND;TZID=America/New_York:20280508T203000
DTSTAMP:20260419T153635
CREATED:20250717T192817Z
LAST-MODIFIED:20250717T192817Z
UID:10006726-1841427000-1841430600@www.fbcjeff.org
SUMMARY:Upper Room Ladies Bible Study
DESCRIPTION:
URL:https://www.fbcjeff.org/calendar/upper-room-ladies-bible-study/2028-05-08/
LOCATION:Zoom
ORGANIZER;CN="FBC Church Office":MAILTO:help@fbcjeff.org
END:VEVENT
BEGIN:VEVENT
DTSTART;TZID=America/New_York:20280515T193000
DTEND;TZID=America/New_York:20280515T203000
DTSTAMP:20260419T153635
CREATED:20250717T192817Z
LAST-MODIFIED:20250717T192817Z
UID:10006727-1842031800-1842035400@www.fbcjeff.org
SUMMARY:Upper Room Ladies Bible Study
DESCRIPTION:
URL:https://www.fbcjeff.org/calendar/upper-room-ladies-bible-study/2028-05-15/
LOCATION:Zoom
ORGANIZER;CN="FBC Church Office":MAILTO:help@fbcjeff.org
END:VEVENT
BEGIN:VEVENT
DTSTART;TZID=America/New_York:20280522T193000
DTEND;TZID=America/New_York:20280522T203000
DTSTAMP:20260419T153635
CREATED:20250717T192817Z
LAST-MODIFIED:20250717T192817Z
UID:10006728-1842636600-1842640200@www.fbcjeff.org
SUMMARY:Upper Room Ladies Bible Study
DESCRIPTION:
URL:https://www.fbcjeff.org/calendar/upper-room-ladies-bible-study/2028-05-22/
LOCATION:Zoom
ORGANIZER;CN="FBC Church Office":MAILTO:help@fbcjeff.org
END:VEVENT
BEGIN:VEVENT
DTSTART;TZID=America/New_York:20280529T193000
DTEND;TZID=America/New_York:20280529T203000
DTSTAMP:20260419T153635
CREATED:20250717T192817Z
LAST-MODIFIED:20250717T192817Z
UID:10006729-1843241400-1843245000@www.fbcjeff.org
SUMMARY:Upper Room Ladies Bible Study
DESCRIPTION:
URL:https://www.fbcjeff.org/calendar/upper-room-ladies-bible-study/2028-05-29/
LOCATION:Zoom
ORGANIZER;CN="FBC Church Office":MAILTO:help@fbcjeff.org
END:VEVENT
BEGIN:VEVENT
DTSTART;TZID=America/New_York:20280605T193000
DTEND;TZID=America/New_York:20280605T203000
DTSTAMP:20260419T153635
CREATED:20250717T192817Z
LAST-MODIFIED:20250717T192817Z
UID:10006730-1843846200-1843849800@www.fbcjeff.org
SUMMARY:Upper Room Ladies Bible Study
DESCRIPTION:
URL:https://www.fbcjeff.org/calendar/upper-room-ladies-bible-study/2028-06-05/
LOCATION:Zoom
ORGANIZER;CN="FBC Church Office":MAILTO:help@fbcjeff.org
END:VEVENT
BEGIN:VEVENT
DTSTART;TZID=America/New_York:20280612T193000
DTEND;TZID=America/New_York:20280612T203000
DTSTAMP:20260419T153635
CREATED:20250717T192817Z
LAST-MODIFIED:20250717T192817Z
UID:10006731-1844451000-1844454600@www.fbcjeff.org
SUMMARY:Upper Room Ladies Bible Study
DESCRIPTION:
URL:https://www.fbcjeff.org/calendar/upper-room-ladies-bible-study/2028-06-12/
LOCATION:Zoom
ORGANIZER;CN="FBC Church Office":MAILTO:help@fbcjeff.org
END:VEVENT
BEGIN:VEVENT
DTSTART;TZID=America/New_York:20280619T193000
DTEND;TZID=America/New_York:20280619T203000
DTSTAMP:20260419T153635
CREATED:20250717T192817Z
LAST-MODIFIED:20250717T192817Z
UID:10006732-1845055800-1845059400@www.fbcjeff.org
SUMMARY:Upper Room Ladies Bible Study
DESCRIPTION:
URL:https://www.fbcjeff.org/calendar/upper-room-ladies-bible-study/2028-06-19/
LOCATION:Zoom
ORGANIZER;CN="FBC Church Office":MAILTO:help@fbcjeff.org
END:VEVENT
BEGIN:VEVENT
DTSTART;TZID=America/New_York:20280626T193000
DTEND;TZID=America/New_York:20280626T203000
DTSTAMP:20260419T153635
CREATED:20250717T192817Z
LAST-MODIFIED:20250717T192817Z
UID:10006733-1845660600-1845664200@www.fbcjeff.org
SUMMARY:Upper Room Ladies Bible Study
DESCRIPTION:
URL:https://www.fbcjeff.org/calendar/upper-room-ladies-bible-study/2028-06-26/
LOCATION:Zoom
ORGANIZER;CN="FBC Church Office":MAILTO:help@fbcjeff.org
END:VEVENT
BEGIN:VEVENT
DTSTART;TZID=America/New_York:20280703T193000
DTEND;TZID=America/New_York:20280703T203000
DTSTAMP:20260419T153635
CREATED:20250717T192817Z
LAST-MODIFIED:20250717T192817Z
UID:10006734-1846265400-1846269000@www.fbcjeff.org
SUMMARY:Upper Room Ladies Bible Study
DESCRIPTION:
URL:https://www.fbcjeff.org/calendar/upper-room-ladies-bible-study/2028-07-03/
LOCATION:Zoom
ORGANIZER;CN="FBC Church Office":MAILTO:help@fbcjeff.org
END:VEVENT
BEGIN:VEVENT
DTSTART;TZID=America/New_York:20280710T193000
DTEND;TZID=America/New_York:20280710T203000
DTSTAMP:20260419T153635
CREATED:20250717T192817Z
LAST-MODIFIED:20250717T192817Z
UID:10006735-1846870200-1846873800@www.fbcjeff.org
SUMMARY:Upper Room Ladies Bible Study
DESCRIPTION:
URL:https://www.fbcjeff.org/calendar/upper-room-ladies-bible-study/2028-07-10/
LOCATION:Zoom
ORGANIZER;CN="FBC Church Office":MAILTO:help@fbcjeff.org
END:VEVENT
BEGIN:VEVENT
DTSTART;TZID=America/New_York:20280717T193000
DTEND;TZID=America/New_York:20280717T203000
DTSTAMP:20260419T153635
CREATED:20250717T192817Z
LAST-MODIFIED:20250717T192817Z
UID:10006736-1847475000-1847478600@www.fbcjeff.org
SUMMARY:Upper Room Ladies Bible Study
DESCRIPTION:
URL:https://www.fbcjeff.org/calendar/upper-room-ladies-bible-study/2028-07-17/
LOCATION:Zoom
ORGANIZER;CN="FBC Church Office":MAILTO:help@fbcjeff.org
END:VEVENT
BEGIN:VEVENT
DTSTART;TZID=America/New_York:20280724T193000
DTEND;TZID=America/New_York:20280724T203000
DTSTAMP:20260419T153635
CREATED:20250717T192817Z
LAST-MODIFIED:20250717T192817Z
UID:10006737-1848079800-1848083400@www.fbcjeff.org
SUMMARY:Upper Room Ladies Bible Study
DESCRIPTION:
URL:https://www.fbcjeff.org/calendar/upper-room-ladies-bible-study/2028-07-24/
LOCATION:Zoom
ORGANIZER;CN="FBC Church Office":MAILTO:help@fbcjeff.org
END:VEVENT
BEGIN:VEVENT
DTSTART;TZID=America/New_York:20280731T193000
DTEND;TZID=America/New_York:20280731T203000
DTSTAMP:20260419T153635
CREATED:20250717T192817Z
LAST-MODIFIED:20250717T192817Z
UID:10006738-1848684600-1848688200@www.fbcjeff.org
SUMMARY:Upper Room Ladies Bible Study
DESCRIPTION:
URL:https://www.fbcjeff.org/calendar/upper-room-ladies-bible-study/2028-07-31/
LOCATION:Zoom
ORGANIZER;CN="FBC Church Office":MAILTO:help@fbcjeff.org
END:VEVENT
BEGIN:VEVENT
DTSTART;TZID=America/New_York:20280807T193000
DTEND;TZID=America/New_York:20280807T203000
DTSTAMP:20260419T153635
CREATED:20250717T192817Z
LAST-MODIFIED:20250717T192817Z
UID:10006739-1849289400-1849293000@www.fbcjeff.org
SUMMARY:Upper Room Ladies Bible Study
DESCRIPTION:
URL:https://www.fbcjeff.org/calendar/upper-room-ladies-bible-study/2028-08-07/
LOCATION:Zoom
ORGANIZER;CN="FBC Church Office":MAILTO:help@fbcjeff.org
END:VEVENT
BEGIN:VEVENT
DTSTART;TZID=America/New_York:20280814T193000
DTEND;TZID=America/New_York:20280814T203000
DTSTAMP:20260419T153635
CREATED:20250717T192817Z
LAST-MODIFIED:20250717T192817Z
UID:10006740-1849894200-1849897800@www.fbcjeff.org
SUMMARY:Upper Room Ladies Bible Study
DESCRIPTION:
URL:https://www.fbcjeff.org/calendar/upper-room-ladies-bible-study/2028-08-14/
LOCATION:Zoom
ORGANIZER;CN="FBC Church Office":MAILTO:help@fbcjeff.org
END:VEVENT
BEGIN:VEVENT
DTSTART;TZID=America/New_York:20280821T193000
DTEND;TZID=America/New_York:20280821T203000
DTSTAMP:20260419T153635
CREATED:20250717T192817Z
LAST-MODIFIED:20250717T192817Z
UID:10006741-1850499000-1850502600@www.fbcjeff.org
SUMMARY:Upper Room Ladies Bible Study
DESCRIPTION:
URL:https://www.fbcjeff.org/calendar/upper-room-ladies-bible-study/2028-08-21/
LOCATION:Zoom
ORGANIZER;CN="FBC Church Office":MAILTO:help@fbcjeff.org
END:VEVENT
BEGIN:VEVENT
DTSTART;TZID=America/New_York:20280828T193000
DTEND;TZID=America/New_York:20280828T203000
DTSTAMP:20260419T153635
CREATED:20250717T192817Z
LAST-MODIFIED:20250717T192817Z
UID:10006742-1851103800-1851107400@www.fbcjeff.org
SUMMARY:Upper Room Ladies Bible Study
DESCRIPTION:
URL:https://www.fbcjeff.org/calendar/upper-room-ladies-bible-study/2028-08-28/
LOCATION:Zoom
ORGANIZER;CN="FBC Church Office":MAILTO:help@fbcjeff.org
END:VEVENT
BEGIN:VEVENT
DTSTART;TZID=America/New_York:20280904T193000
DTEND;TZID=America/New_York:20280904T203000
DTSTAMP:20260419T153635
CREATED:20250717T192817Z
LAST-MODIFIED:20250717T192817Z
UID:10006743-1851708600-1851712200@www.fbcjeff.org
SUMMARY:Upper Room Ladies Bible Study
DESCRIPTION:
URL:https://www.fbcjeff.org/calendar/upper-room-ladies-bible-study/2028-09-04/
LOCATION:Zoom
ORGANIZER;CN="FBC Church Office":MAILTO:help@fbcjeff.org
END:VEVENT
BEGIN:VEVENT
DTSTART;TZID=America/New_York:20280911T193000
DTEND;TZID=America/New_York:20280911T203000
DTSTAMP:20260419T153635
CREATED:20250717T192817Z
LAST-MODIFIED:20250717T192817Z
UID:10006744-1852313400-1852317000@www.fbcjeff.org
SUMMARY:Upper Room Ladies Bible Study
DESCRIPTION:
URL:https://www.fbcjeff.org/calendar/upper-room-ladies-bible-study/2028-09-11/
LOCATION:Zoom
ORGANIZER;CN="FBC Church Office":MAILTO:help@fbcjeff.org
END:VEVENT
END:VCALENDAR